BEGIN:VCALENDAR
VERSION:2.0
PRODID:-//Pub 78 - ECPv6.15.20//NONSGML v1.0//EN
CALSCALE:GREGORIAN
METHOD:PUBLISH
X-ORIGINAL-URL:https://pub78.com
X-WR-CALDESC:Events for Pub 78
REFRESH-INTERVAL;VALUE=DURATION:PT1H
X-Robots-Tag:noindex
X-PUBLISHED-TTL:PT1H
BEGIN:VTIMEZONE
TZID:America/Chicago
BEGIN:DAYLIGHT
TZOFFSETFROM:-0600
TZOFFSETTO:-0500
TZNAME:CDT
DTSTART:20250309T080000
END:DAYLIGHT
BEGIN:STANDARD
TZOFFSETFROM:-0500
TZOFFSETTO:-0600
TZNAME:CST
DTSTART:20251102T070000
END:STANDARD
BEGIN:DAYLIGHT
TZOFFSETFROM:-0600
TZOFFSETTO:-0500
TZNAME:CDT
DTSTART:20260308T080000
END:DAYLIGHT
BEGIN:STANDARD
TZOFFSETFROM:-0500
TZOFFSETTO:-0600
TZNAME:CST
DTSTART:20261101T070000
END:STANDARD
BEGIN:DAYLIGHT
TZOFFSETFROM:-0600
TZOFFSETTO:-0500
TZNAME:CDT
DTSTART:20270314T080000
END:DAYLIGHT
BEGIN:STANDARD
TZOFFSETFROM:-0500
TZOFFSETTO:-0600
TZNAME:CST
DTSTART:20271107T070000
END:STANDARD
END:VTIMEZONE
BEGIN:VEVENT
DTSTART;TZID=America/Chicago:20260315T143000
DTEND;TZID=America/Chicago:20260315T143000
DTSTAMP:20260423T174548
CREATED:20260309T185907Z
LAST-MODIFIED:20260309T185907Z
UID:5226-1773585000-1773585000@pub78.com
SUMMARY:Paint Party With RAD Canvas
DESCRIPTION:Paint with us!  Becky do the following pic.  Please RSVP with Becky so she can have necessary supplies on hand!
URL:https://pub78.com/event/paint-party-with-rad-canvas-2/
LOCATION:Pub 78: 3733 Grand Blvd\, Brookfield\, IL 60513
CATEGORIES:Music & Events
ATTACH;FMTTYPE=image/jpeg:https://pub78.com/wp-content/uploads/paint-party.jpg
END:VEVENT
END:VCALENDAR