BEGIN:VCALENDAR
VERSION:2.0
PRODID:-//Pub 78 - ECPv6.15.20//NONSGML v1.0//EN
CALSCALE:GREGORIAN
METHOD:PUBLISH
X-WR-CALNAME:Pub 78
X-ORIGINAL-URL:https://pub78.com
X-WR-CALDESC:Events for Pub 78
REFRESH-INTERVAL;VALUE=DURATION:PT1H
X-Robots-Tag:noindex
X-PUBLISHED-TTL:PT1H
BEGIN:VTIMEZONE
TZID:America/Chicago
BEGIN:DAYLIGHT
TZOFFSETFROM:-0600
TZOFFSETTO:-0500
TZNAME:CDT
DTSTART:20240310T080000
END:DAYLIGHT
BEGIN:STANDARD
TZOFFSETFROM:-0500
TZOFFSETTO:-0600
TZNAME:CST
DTSTART:20241103T070000
END:STANDARD
BEGIN:DAYLIGHT
TZOFFSETFROM:-0600
TZOFFSETTO:-0500
TZNAME:CDT
DTSTART:20250309T080000
END:DAYLIGHT
BEGIN:STANDARD
TZOFFSETFROM:-0500
TZOFFSETTO:-0600
TZNAME:CST
DTSTART:20251102T070000
END:STANDARD
BEGIN:DAYLIGHT
TZOFFSETFROM:-0600
TZOFFSETTO:-0500
TZNAME:CDT
DTSTART:20260308T080000
END:DAYLIGHT
BEGIN:STANDARD
TZOFFSETFROM:-0500
TZOFFSETTO:-0600
TZNAME:CST
DTSTART:20261101T070000
END:STANDARD
END:VTIMEZONE
BEGIN:VEVENT
DTSTART;TZID=America/Chicago:20251203T200000
DTEND;TZID=America/Chicago:20251203T230000
DTSTAMP:20260424T115536
CREATED:20251103T185650Z
LAST-MODIFIED:20251103T185650Z
UID:4977-1764792000-1764802800@pub78.com
SUMMARY:Open Mic/Jam with Alex Hamer
DESCRIPTION:Come out to open mic and jam! Or come out to just enjoy some great local musicians! Kitchen open until 9pm! House drum kit available. Sign up sheet gets set out after 7pm.
URL:https://pub78.com/event/open-mic-jam-with-alex-hamer-3/
LOCATION:Pub 78: 3733 Grand Blvd\, Brookfield\, IL 60513
CATEGORIES:Music & Events
ATTACH;FMTTYPE=image/png:https://pub78.com/wp-content/uploads/Alex-Hamer-1.png
END:VEVENT
BEGIN:VEVENT
DTSTART;TZID=America/Chicago:20251210T200000
DTEND;TZID=America/Chicago:20251210T230000
DTSTAMP:20260424T115536
CREATED:20251103T185834Z
LAST-MODIFIED:20251103T185834Z
UID:4980-1765396800-1765407600@pub78.com
SUMMARY:Open Mic/Jam with Alex Hamer
DESCRIPTION:Come out to open mic and jam! Or come out to just enjoy some great local musicians! Kitchen open until 9pm! House drum kit available. Sign up sheet gets set out after 7pm.
URL:https://pub78.com/event/open-mic-jam-with-alex-hamer-4/
LOCATION:Pub 78: 3733 Grand Blvd\, Brookfield\, IL 60513
CATEGORIES:Music & Events
ATTACH;FMTTYPE=image/png:https://pub78.com/wp-content/uploads/Alex-Hamer-1.png
END:VEVENT
BEGIN:VEVENT
DTSTART;TZID=America/Chicago:20251217T200000
DTEND;TZID=America/Chicago:20251217T230000
DTSTAMP:20260424T115536
CREATED:20251103T185948Z
LAST-MODIFIED:20251103T185948Z
UID:4982-1766001600-1766012400@pub78.com
SUMMARY:Open Mic/Jam with Alex Hamer
DESCRIPTION:Come out to open mic and jam! Or come out to just enjoy some great local musicians! Kitchen open until 9pm! House drum kit available. Sign up sheet gets set out after 7pm.
URL:https://pub78.com/event/open-mic-jam-with-alex-hamer-5/
LOCATION:Pub 78: 3733 Grand Blvd\, Brookfield\, IL 60513
CATEGORIES:Music & Events
ATTACH;FMTTYPE=image/png:https://pub78.com/wp-content/uploads/Alex-Hamer-1.png
END:VEVENT
END:VCALENDAR