BEGIN:VCALENDAR
VERSION:2.0
PRODID:-//Pub 78 - ECPv6.15.20//NONSGML v1.0//EN
CALSCALE:GREGORIAN
METHOD:PUBLISH
X-ORIGINAL-URL:https://pub78.com
X-WR-CALDESC:Events for Pub 78
REFRESH-INTERVAL;VALUE=DURATION:PT1H
X-Robots-Tag:noindex
X-PUBLISHED-TTL:PT1H
BEGIN:VTIMEZONE
TZID:America/Chicago
BEGIN:DAYLIGHT
TZOFFSETFROM:-0600
TZOFFSETTO:-0500
TZNAME:CDT
DTSTART:20240310T080000
END:DAYLIGHT
BEGIN:STANDARD
TZOFFSETFROM:-0500
TZOFFSETTO:-0600
TZNAME:CST
DTSTART:20241103T070000
END:STANDARD
BEGIN:DAYLIGHT
TZOFFSETFROM:-0600
TZOFFSETTO:-0500
TZNAME:CDT
DTSTART:20250309T080000
END:DAYLIGHT
BEGIN:STANDARD
TZOFFSETFROM:-0500
TZOFFSETTO:-0600
TZNAME:CST
DTSTART:20251102T070000
END:STANDARD
BEGIN:DAYLIGHT
TZOFFSETFROM:-0600
TZOFFSETTO:-0500
TZNAME:CDT
DTSTART:20260308T080000
END:DAYLIGHT
BEGIN:STANDARD
TZOFFSETFROM:-0500
TZOFFSETTO:-0600
TZNAME:CST
DTSTART:20261101T070000
END:STANDARD
END:VTIMEZONE
BEGIN:VEVENT
DTSTART;TZID=America/Chicago:20251112T200000
DTEND;TZID=America/Chicago:20251112T230000
DTSTAMP:20260424T133036
CREATED:20251103T185424Z
LAST-MODIFIED:20251103T185424Z
UID:4972-1762977600-1762988400@pub78.com
SUMMARY:Open Mic/Jam with Alex Hamer
DESCRIPTION:Come out to open mic and jam! Or come out to just enjoy some great local musicians! Kitchen open until 9pm! House drum kit available. Sign up sheet gets set out after 7pm.
URL:https://pub78.com/event/open-mic-jam-with-alex-hamer/
LOCATION:Pub 78: 3733 Grand Blvd\, Brookfield\, IL 60513
CATEGORIES:Music & Events
ATTACH;FMTTYPE=image/png:https://pub78.com/wp-content/uploads/Alex-Hamer-1.png
END:VEVENT
BEGIN:VEVENT
DTSTART;TZID=America/Chicago:20251119T200000
DTEND;TZID=America/Chicago:20251119T230000
DTSTAMP:20260424T133036
CREATED:20251103T185543Z
LAST-MODIFIED:20251103T185543Z
UID:4975-1763582400-1763593200@pub78.com
SUMMARY:Open Mic/Jam with Alex Hamer
DESCRIPTION:Come out to open mic and jam! Or come out to just enjoy some great local musicians! Kitchen open until 9pm! House drum kit available. Sign up sheet gets set out after 7pm.
URL:https://pub78.com/event/open-mic-jam-with-alex-hamer-2/
LOCATION:Pub 78: 3733 Grand Blvd\, Brookfield\, IL 60513
CATEGORIES:Music & Events
ATTACH;FMTTYPE=image/png:https://pub78.com/wp-content/uploads/Alex-Hamer-1.png
END:VEVENT
END:VCALENDAR