BEGIN:VCALENDAR
VERSION:2.0
PRODID:-//Pub 78 - ECPv6.15.20//NONSGML v1.0//EN
CALSCALE:GREGORIAN
METHOD:PUBLISH
X-WR-CALNAME:Pub 78
X-ORIGINAL-URL:https://pub78.com
X-WR-CALDESC:Events for Pub 78
REFRESH-INTERVAL;VALUE=DURATION:PT1H
X-Robots-Tag:noindex
X-PUBLISHED-TTL:PT1H
BEGIN:VTIMEZONE
TZID:America/Chicago
BEGIN:DAYLIGHT
TZOFFSETFROM:-0600
TZOFFSETTO:-0500
TZNAME:CDT
DTSTART:20250309T080000
END:DAYLIGHT
BEGIN:STANDARD
TZOFFSETFROM:-0500
TZOFFSETTO:-0600
TZNAME:CST
DTSTART:20251102T070000
END:STANDARD
BEGIN:DAYLIGHT
TZOFFSETFROM:-0600
TZOFFSETTO:-0500
TZNAME:CDT
DTSTART:20260308T080000
END:DAYLIGHT
BEGIN:STANDARD
TZOFFSETFROM:-0500
TZOFFSETTO:-0600
TZNAME:CST
DTSTART:20261101T070000
END:STANDARD
BEGIN:DAYLIGHT
TZOFFSETFROM:-0600
TZOFFSETTO:-0500
TZNAME:CDT
DTSTART:20270314T080000
END:DAYLIGHT
BEGIN:STANDARD
TZOFFSETFROM:-0500
TZOFFSETTO:-0600
TZNAME:CST
DTSTART:20271107T070000
END:STANDARD
END:VTIMEZONE
BEGIN:VEVENT
DTSTART;TZID=America/Chicago:20260306T200000
DTEND;TZID=America/Chicago:20260306T230000
DTSTAMP:20260423T160046
CREATED:20260304T170106Z
LAST-MODIFIED:20260304T170106Z
UID:5211-1772827200-1772838000@pub78.com
SUMMARY:Hearts & Boots
DESCRIPTION:Hearts & Boots is a band from the Chicagoland area\, known for delivering high-energy performances that will keep you moving on the dance floor. They play classic rock\, alternative\, country and recognizable hits that span throughout the decades.
URL:https://pub78.com/event/hearts-boots-4/
LOCATION:Pub 78: 3733 Grand Blvd\, Brookfield\, IL 60513
CATEGORIES:Music & Events
ATTACH;FMTTYPE=image/jpeg:https://pub78.com/wp-content/uploads/hearts-and-boots-030626.jpg
END:VEVENT
BEGIN:VEVENT
DTSTART;TZID=America/Chicago:20260307T200000
DTEND;TZID=America/Chicago:20260307T230000
DTSTAMP:20260423T160046
CREATED:20260304T170331Z
LAST-MODIFIED:20260304T170331Z
UID:5214-1772913600-1772924400@pub78.com
SUMMARY:GJAK'D UP
DESCRIPTION:goodjimandkelly.com
URL:https://pub78.com/event/gjakd-up-4/
LOCATION:Pub 78: 3733 Grand Blvd\, Brookfield\, IL 60513
CATEGORIES:Music & Events
ATTACH;FMTTYPE=image/png:https://pub78.com/wp-content/uploads/Add-a-subheading-3.png
END:VEVENT
BEGIN:VEVENT
DTSTART;TZID=America/Chicago:20260313T200000
DTEND;TZID=America/Chicago:20260313T230000
DTSTAMP:20260423T160046
CREATED:20260304T170450Z
LAST-MODIFIED:20260304T170450Z
UID:5217-1773432000-1773442800@pub78.com
SUMMARY:HOT MIC
DESCRIPTION:Having fun playing everything from classic rock covers to alt bangers of the 90s and 2000s.
URL:https://pub78.com/event/hot-mic-4/
LOCATION:Pub 78: 3733 Grand Blvd\, Brookfield\, IL 60513
CATEGORIES:Music & Events
ATTACH;FMTTYPE=image/jpeg:https://pub78.com/wp-content/uploads/hot-mic-031326.jpg
END:VEVENT
BEGIN:VEVENT
DTSTART;TZID=America/Chicago:20260314T200000
DTEND;TZID=America/Chicago:20260314T230000
DTSTAMP:20260423T160046
CREATED:20260304T170659Z
LAST-MODIFIED:20260304T170659Z
UID:5220-1773518400-1773529200@pub78.com
SUMMARY:Easily Distracted
DESCRIPTION:Get your Leprechaun on with Easily Distracted at Pub 78!
URL:https://pub78.com/event/easily-distracted-5/
LOCATION:Pub 78: 3733 Grand Blvd\, Brookfield\, IL 60513
CATEGORIES:Music & Events
ATTACH;FMTTYPE=image/jpeg:https://pub78.com/wp-content/uploads/EASILY0326.jpg
END:VEVENT
BEGIN:VEVENT
DTSTART;TZID=America/Chicago:20260315T123000
DTEND;TZID=America/Chicago:20260315T133000
DTSTAMP:20260423T160046
CREATED:20260304T171037Z
LAST-MODIFIED:20260304T171037Z
UID:5223-1773577800-1773581400@pub78.com
SUMMARY:Pub Church
DESCRIPTION:Come worship with us at Pub 78 with Pastor Craig and Every Day Grace. All are welcome!
URL:https://pub78.com/event/pub-church-13/
LOCATION:Pub 78: 3733 Grand Blvd\, Brookfield\, IL 60513
CATEGORIES:Music & Events
ATTACH;FMTTYPE=image/jpeg:https://pub78.com/wp-content/uploads/pub0326.jpg
END:VEVENT
BEGIN:VEVENT
DTSTART;TZID=America/Chicago:20260317T180000
DTEND;TZID=America/Chicago:20260317T210000
DTSTAMP:20260423T160046
CREATED:20260313T221539Z
LAST-MODIFIED:20260314T173437Z
UID:5249-1773770400-1773781200@pub78.com
SUMMARY:Galway Gals
DESCRIPTION:The Galway Gals are at the Pub on St. Patrick’s Day! They are bringing traditional irish\, rock\, pop & country to the stage.\nCorned beef sandwiches and beer!\nWe open at 4pm!
URL:https://pub78.com/event/galways-gals/
LOCATION:Pub 78: 3733 Grand Blvd\, Brookfield\, IL 60513
CATEGORIES:Music & Events
ATTACH;FMTTYPE=image/jpeg:https://pub78.com/wp-content/uploads/993E1CA2-F97B-4D15-9C7E-938F37805DBB.jpeg
END:VEVENT
BEGIN:VEVENT
DTSTART;TZID=America/Chicago:20260320T200000
DTEND;TZID=America/Chicago:20260320T230000
DTSTAMP:20260423T160046
CREATED:20260309T191824Z
LAST-MODIFIED:20260314T172922Z
UID:5238-1774036800-1774047600@pub78.com
SUMMARY:VIXEN REBELS
DESCRIPTION:This is the band you wanted to join in high school!\nA high-energy\, female-fronted\, mixed-genre cover band from the Chicago suburbs that plays a diverse blend of everything from the 60s to today.
URL:https://pub78.com/event/vixens-rebel/
LOCATION:Pub 78: 3733 Grand Blvd\, Brookfield\, IL 60513
CATEGORIES:Music & Events
ATTACH;FMTTYPE=image/png:https://pub78.com/wp-content/uploads/fRIDAY-MARCH-20TH-8-11PM.png
END:VEVENT
BEGIN:VEVENT
DTSTART;TZID=America/Chicago:20260321T200000
DTEND;TZID=America/Chicago:20260321T230000
DTSTAMP:20260423T160046
CREATED:20260309T190114Z
LAST-MODIFIED:20260309T190114Z
UID:5229-1774123200-1774134000@pub78.com
SUMMARY:Brohirrim - Live Music
DESCRIPTION:Brohirrim is back! Great band with music from all decades and genres. Dance and sing the night away!
URL:https://pub78.com/event/brohirrim-live-music/
LOCATION:Pub 78: 3733 Grand Blvd\, Brookfield\, IL 60513
CATEGORIES:Music & Events
ATTACH;FMTTYPE=image/png:https://pub78.com/wp-content/uploads/PUB-78-PRESENTS-1.png
END:VEVENT
BEGIN:VEVENT
DTSTART;TZID=America/Chicago:20260327T200000
DTEND;TZID=America/Chicago:20260327T230000
DTSTAMP:20260423T160046
CREATED:20260309T190233Z
LAST-MODIFIED:20260309T190233Z
UID:5232-1774641600-1774652400@pub78.com
SUMMARY:Crucial Pooch
DESCRIPTION:Come out and spend a night of music with The Pooch!
URL:https://pub78.com/event/crucial-pooch/
LOCATION:Pub 78: 3733 Grand Blvd\, Brookfield\, IL 60513
CATEGORIES:Music & Events
ATTACH;FMTTYPE=image/jpeg:https://pub78.com/wp-content/uploads/crucial-pooch.jpg
END:VEVENT
BEGIN:VEVENT
DTSTART;TZID=America/Chicago:20260328T200000
DTEND;TZID=America/Chicago:20260328T230000
DTSTAMP:20260423T160046
CREATED:20260309T190341Z
LAST-MODIFIED:20260314T174128Z
UID:5235-1774728000-1774738800@pub78.com
SUMMARY:The Vaughan Building
DESCRIPTION:Bluesy Garage Rock band with a pslightly Psychedelic twist.
URL:https://pub78.com/event/the-vaughn-building-3/
LOCATION:Pub 78: 3733 Grand Blvd\, Brookfield\, IL 60513
CATEGORIES:Music & Events
ATTACH;FMTTYPE=image/png:https://pub78.com/wp-content/uploads/Add-a-subheading-4.png
END:VEVENT
END:VCALENDAR