BEGIN:VCALENDAR
VERSION:2.0
PRODID:-//Pub 78 - ECPv6.15.20//NONSGML v1.0//EN
CALSCALE:GREGORIAN
METHOD:PUBLISH
X-WR-CALNAME:Pub 78
X-ORIGINAL-URL:https://pub78.com
X-WR-CALDESC:Events for Pub 78
REFRESH-INTERVAL;VALUE=DURATION:PT1H
X-Robots-Tag:noindex
X-PUBLISHED-TTL:PT1H
BEGIN:VTIMEZONE
TZID:America/Chicago
BEGIN:DAYLIGHT
TZOFFSETFROM:-0600
TZOFFSETTO:-0500
TZNAME:CDT
DTSTART:20250309T080000
END:DAYLIGHT
BEGIN:STANDARD
TZOFFSETFROM:-0500
TZOFFSETTO:-0600
TZNAME:CST
DTSTART:20251102T070000
END:STANDARD
BEGIN:DAYLIGHT
TZOFFSETFROM:-0600
TZOFFSETTO:-0500
TZNAME:CDT
DTSTART:20260308T080000
END:DAYLIGHT
BEGIN:STANDARD
TZOFFSETFROM:-0500
TZOFFSETTO:-0600
TZNAME:CST
DTSTART:20261101T070000
END:STANDARD
BEGIN:DAYLIGHT
TZOFFSETFROM:-0600
TZOFFSETTO:-0500
TZNAME:CDT
DTSTART:20270314T080000
END:DAYLIGHT
BEGIN:STANDARD
TZOFFSETFROM:-0500
TZOFFSETTO:-0600
TZNAME:CST
DTSTART:20271107T070000
END:STANDARD
END:VTIMEZONE
BEGIN:VEVENT
DTSTART;TZID=America/Chicago:20260102T200000
DTEND;TZID=America/Chicago:20260102T220000
DTSTAMP:20260423T185414
CREATED:20260101T184043Z
LAST-MODIFIED:20260101T184043Z
UID:5097-1767384000-1767391200@pub78.com
SUMMARY:Alex & Quinn Solo
DESCRIPTION:Alex and Quinn take the stage Friday!
URL:https://pub78.com/event/alex-quinn-solo/
LOCATION:Pub 78: 3733 Grand Blvd\, Brookfield\, IL 60513
CATEGORIES:Music & Events
ATTACH;FMTTYPE=image/png:https://pub78.com/wp-content/uploads/Quinn-Alex-Solo.png
END:VEVENT
BEGIN:VEVENT
DTSTART;TZID=America/Chicago:20260103T200000
DTEND;TZID=America/Chicago:20260103T230000
DTSTAMP:20260423T185414
CREATED:20251229T231817Z
LAST-MODIFIED:20251229T231817Z
UID:5090-1767470400-1767481200@pub78.com
SUMMARY:Low Voltage
DESCRIPTION:When Acoustic takes on Electric HITZ!!! \nKitchen open until 9pm!
URL:https://pub78.com/event/low-voltage/
LOCATION:Pub 78: 3733 Grand Blvd\, Brookfield\, IL 60513
CATEGORIES:Music & Events
ATTACH;FMTTYPE=image/jpeg:https://pub78.com/wp-content/uploads/low-voltage.jpg
END:VEVENT
BEGIN:VEVENT
DTSTART;TZID=America/Chicago:20260107T200000
DTEND;TZID=America/Chicago:20260107T230000
DTSTAMP:20260423T185414
CREATED:20251229T231027Z
LAST-MODIFIED:20251229T231027Z
UID:5082-1767816000-1767826800@pub78.com
SUMMARY:Open Mic/Jam with Alex Hamer
DESCRIPTION:Come out to open mic and jam! Or come out to just enjoy some great local musicians! Kitchen open until 9pm! House drum kit available. Sign up sheet gets set out after 7pm.
URL:https://pub78.com/event/open-mic-jam-with-alex-hamer-6/
LOCATION:Pub 78: 3733 Grand Blvd\, Brookfield\, IL 60513
CATEGORIES:Music & Events
ATTACH;FMTTYPE=image/png:https://pub78.com/wp-content/uploads/Alex-Hamer-1.png
END:VEVENT
BEGIN:VEVENT
DTSTART;TZID=America/Chicago:20260109T200000
DTEND;TZID=America/Chicago:20260109T230000
DTSTAMP:20260423T185414
CREATED:20251229T232129Z
LAST-MODIFIED:20251229T232129Z
UID:5093-1767988800-1767999600@pub78.com
SUMMARY:Billy Gray Full Band
DESCRIPTION:We are beyond excited to announce that Billy Gray and his band will be kicking off the new year with a huge night of music on January 9th at Pub 78!\nThis place isn’t just a venue to us — it’s truly like a little piece of home. The familiar faces\, the good vibes\, the cold drinks\, the cozy atmosphere… it’s everything we love rolled into one spot\, and we can’t wait to fill it with music\, laughter\, and all of YOU! \nWe’ve been cooking up some brand-new songs\, along with a few surprise additions we’re dying to share. Think fresh sounds\, fun moments\, and maybe even a twist or two you won’t see coming. \nSo grab your friends\, circle the date\, shine up those dancing boots\, and come help us launch 2026 with the best crowd we could ask for. Let’s pack the place\, crank up the energy\, and make it a night to remember!
URL:https://pub78.com/event/billy-gray-full-band/
LOCATION:Pub 78: 3733 Grand Blvd\, Brookfield\, IL 60513
CATEGORIES:Music & Events
ATTACH;FMTTYPE=image/jpeg:https://pub78.com/wp-content/uploads/billy-gray-0126.jpg
END:VEVENT
BEGIN:VEVENT
DTSTART;TZID=America/Chicago:20260114T200000
DTEND;TZID=America/Chicago:20260114T230000
DTSTAMP:20260423T185414
CREATED:20251229T231149Z
LAST-MODIFIED:20251229T231149Z
UID:5084-1768420800-1768431600@pub78.com
SUMMARY:Open Mic/Jam with Alex Hamer
DESCRIPTION:Come out to open mic and jam! Or come out to just enjoy some great local musicians! Kitchen open until 9pm! House drum kit available. Sign up sheet gets set out after 7pm.
URL:https://pub78.com/event/open-mic-jam-with-alex-hamer-7/
LOCATION:Pub 78: 3733 Grand Blvd\, Brookfield\, IL 60513
CATEGORIES:Music & Events
ATTACH;FMTTYPE=image/png:https://pub78.com/wp-content/uploads/Alex-Hamer-1.png
END:VEVENT
BEGIN:VEVENT
DTSTART;TZID=America/Chicago:20260116T200000
DTEND;TZID=America/Chicago:20260116T230000
DTSTAMP:20260423T185414
CREATED:20260107T235648Z
LAST-MODIFIED:20260107T235648Z
UID:5119-1768593600-1768604400@pub78.com
SUMMARY:Brad Jackson & Shades of Country
DESCRIPTION:Great old school country band!
URL:https://pub78.com/event/brad-jackson-shades-of-country-6/
LOCATION:Pub 78: 3733 Grand Blvd\, Brookfield\, IL 60513
CATEGORIES:Music & Events
ATTACH;FMTTYPE=image/jpeg:https://pub78.com/wp-content/uploads/BRad-Jackson-1.jpg
END:VEVENT
BEGIN:VEVENT
DTSTART;TZID=America/Chicago:20260117T200000
DTEND;TZID=America/Chicago:20260117T230000
DTSTAMP:20260423T185414
CREATED:20260107T234918Z
LAST-MODIFIED:20260107T234918Z
UID:5112-1768680000-1768690800@pub78.com
SUMMARY:Mudd Puppies
DESCRIPTION:The MUDD Puppies\, with their unique mix of blues\, rock & originals\, truly brings the party to every show. We love our musical community & all our talented friends. The MUDD Puppies\, with their unique mix of blues\, rock & originals\, truly brings the party to every show. We love our musical community & all our talented friends. To show our love\, we encourage you to join us for a 3rd set Open Jam\, every show!
URL:https://pub78.com/event/mudd-puppies/
LOCATION:Pub 78: 3733 Grand Blvd\, Brookfield\, IL 60513
CATEGORIES:Music & Events
ATTACH;FMTTYPE=image/jpeg:https://pub78.com/wp-content/uploads/mudd-puppies.jpg
END:VEVENT
BEGIN:VEVENT
DTSTART;TZID=America/Chicago:20260121T200000
DTEND;TZID=America/Chicago:20260121T230000
DTSTAMP:20260423T185414
CREATED:20251229T231257Z
LAST-MODIFIED:20251229T231257Z
UID:5086-1769025600-1769036400@pub78.com
SUMMARY:Open Mic/Jam with Alex Hamer
DESCRIPTION:Come out to open mic and jam! Or come out to just enjoy some great local musicians! Kitchen open until 9pm! House drum kit available. Sign up sheet gets set out after 7pm.
URL:https://pub78.com/event/open-mic-jam-with-alex-hamer-8/
LOCATION:Pub 78: 3733 Grand Blvd\, Brookfield\, IL 60513
CATEGORIES:Music & Events
ATTACH;FMTTYPE=image/png:https://pub78.com/wp-content/uploads/Alex-Hamer-1.png
END:VEVENT
BEGIN:VEVENT
DTSTART;TZID=America/Chicago:20260123T200000
DTEND;TZID=America/Chicago:20260123T230000
DTSTAMP:20260423T185414
CREATED:20260114T230500Z
LAST-MODIFIED:20260114T230500Z
UID:5129-1769198400-1769209200@pub78.com
SUMMARY:Group Therapy
DESCRIPTION:Kelly and the gang are playing at the Pub!
URL:https://pub78.com/event/group-therapy/
LOCATION:Pub 78: 3733 Grand Blvd\, Brookfield\, IL 60513
CATEGORIES:Music & Events
ATTACH;FMTTYPE=image/jpeg:https://pub78.com/wp-content/uploads/group-thera.jpg
END:VEVENT
BEGIN:VEVENT
DTSTART;TZID=America/Chicago:20260124T200000
DTEND;TZID=America/Chicago:20260124T230000
DTSTAMP:20260423T185414
CREATED:20260107T235837Z
LAST-MODIFIED:20260114T230313Z
UID:5121-1769284800-1769295600@pub78.com
SUMMARY:The Prissillas
DESCRIPTION:They return!  IYKYK
URL:https://pub78.com/event/the-prissillas-3/
LOCATION:Pub 78: 3733 Grand Blvd\, Brookfield\, IL 60513
CATEGORIES:Music & Events
ATTACH;FMTTYPE=image/jpeg:https://pub78.com/wp-content/uploads/priss-0126.jpg
END:VEVENT
BEGIN:VEVENT
DTSTART;TZID=America/Chicago:20260128T200000
DTEND;TZID=America/Chicago:20260128T230000
DTSTAMP:20260423T185414
CREATED:20251229T231401Z
LAST-MODIFIED:20251229T231401Z
UID:5088-1769630400-1769641200@pub78.com
SUMMARY:Open Mic/Jam with Alex Hamer
DESCRIPTION:Come out to open mic and jam! Or come out to just enjoy some great local musicians! Kitchen open until 9pm! House drum kit available. Sign up sheet gets set out after 7pm.
URL:https://pub78.com/event/open-mic-jam-with-alex-hamer-9/
LOCATION:Pub 78: 3733 Grand Blvd\, Brookfield\, IL 60513
CATEGORIES:Music & Events
ATTACH;FMTTYPE=image/png:https://pub78.com/wp-content/uploads/Alex-Hamer-1.png
END:VEVENT
BEGIN:VEVENT
DTSTART;TZID=America/Chicago:20260130T200000
DTEND;TZID=America/Chicago:20260130T230000
DTSTAMP:20260423T185414
CREATED:20260107T235318Z
LAST-MODIFIED:20260107T235318Z
UID:5117-1769803200-1769814000@pub78.com
SUMMARY:Earl's Basement
DESCRIPTION:Earl’s Basement debuts at Pub 78!
URL:https://pub78.com/event/earls-basement/
CATEGORIES:Music & Events
END:VEVENT
BEGIN:VEVENT
DTSTART;TZID=America/Chicago:20260131T200000
DTEND;TZID=America/Chicago:20260131T230000
DTSTAMP:20260423T185414
CREATED:20260107T235148Z
LAST-MODIFIED:20260115T183953Z
UID:5115-1769889600-1769900400@pub78.com
SUMMARY:Beggar's Buzz
DESCRIPTION:Beggar’s Buzz comes to the Pub for their second outing! Rock along to this new amazing band!
URL:https://pub78.com/event/beggars-buzz-2/
LOCATION:Pub 78: 3733 Grand Blvd\, Brookfield\, IL 60513
CATEGORIES:Music & Events
ATTACH;FMTTYPE=image/jpeg:https://pub78.com/wp-content/uploads/bb-1.jpg
END:VEVENT
END:VCALENDAR