BEGIN:VCALENDAR
VERSION:2.0
PRODID:-//Pub 78 - ECPv6.15.20//NONSGML v1.0//EN
CALSCALE:GREGORIAN
METHOD:PUBLISH
X-ORIGINAL-URL:https://pub78.com
X-WR-CALDESC:Events for Pub 78
REFRESH-INTERVAL;VALUE=DURATION:PT1H
X-Robots-Tag:noindex
X-PUBLISHED-TTL:PT1H
BEGIN:VTIMEZONE
TZID:America/Chicago
BEGIN:DAYLIGHT
TZOFFSETFROM:-0600
TZOFFSETTO:-0500
TZNAME:CDT
DTSTART:20240310T080000
END:DAYLIGHT
BEGIN:STANDARD
TZOFFSETFROM:-0500
TZOFFSETTO:-0600
TZNAME:CST
DTSTART:20241103T070000
END:STANDARD
BEGIN:DAYLIGHT
TZOFFSETFROM:-0600
TZOFFSETTO:-0500
TZNAME:CDT
DTSTART:20250309T080000
END:DAYLIGHT
BEGIN:STANDARD
TZOFFSETFROM:-0500
TZOFFSETTO:-0600
TZNAME:CST
DTSTART:20251102T070000
END:STANDARD
BEGIN:DAYLIGHT
TZOFFSETFROM:-0600
TZOFFSETTO:-0500
TZNAME:CDT
DTSTART:20260308T080000
END:DAYLIGHT
BEGIN:STANDARD
TZOFFSETFROM:-0500
TZOFFSETTO:-0600
TZNAME:CST
DTSTART:20261101T070000
END:STANDARD
END:VTIMEZONE
BEGIN:VEVENT
DTSTART;TZID=America/Chicago:20251203T200000
DTEND;TZID=America/Chicago:20251203T230000
DTSTAMP:20260424T114639
CREATED:20251103T185650Z
LAST-MODIFIED:20251103T185650Z
UID:4977-1764792000-1764802800@pub78.com
SUMMARY:Open Mic/Jam with Alex Hamer
DESCRIPTION:Come out to open mic and jam! Or come out to just enjoy some great local musicians! Kitchen open until 9pm! House drum kit available. Sign up sheet gets set out after 7pm.
URL:https://pub78.com/event/open-mic-jam-with-alex-hamer-3/
LOCATION:Pub 78: 3733 Grand Blvd\, Brookfield\, IL 60513
CATEGORIES:Music & Events
ATTACH;FMTTYPE=image/png:https://pub78.com/wp-content/uploads/Alex-Hamer-1.png
END:VEVENT
BEGIN:VEVENT
DTSTART;TZID=America/Chicago:20251205T200000
DTEND;TZID=America/Chicago:20251205T230000
DTSTAMP:20260424T114639
CREATED:20251128T160114Z
LAST-MODIFIED:20251128T160114Z
UID:5020-1764964800-1764975600@pub78.com
SUMMARY:The Vaughn Building
DESCRIPTION:ome warm up with some red hot Rock ‘n’ Blooz from 8-11!
URL:https://pub78.com/event/the-vaughn-building-2/
LOCATION:Pub 78: 3733 Grand Blvd\, Brookfield\, IL 60513
CATEGORIES:Music & Events
ATTACH;FMTTYPE=image/jpeg:https://pub78.com/wp-content/uploads/The-Vaugh.jpg
END:VEVENT
BEGIN:VEVENT
DTSTART;TZID=America/Chicago:20251206T200000
DTEND;TZID=America/Chicago:20251206T230000
DTSTAMP:20260424T114639
CREATED:20251128T160514Z
LAST-MODIFIED:20251128T160514Z
UID:5022-1765051200-1765062000@pub78.com
SUMMARY:Wildwood Country
DESCRIPTION:Playing the best of Country music!
URL:https://pub78.com/event/wildwood-country/
LOCATION:Pub 78: 3733 Grand Blvd\, Brookfield\, IL 60513
CATEGORIES:Music & Events
ATTACH;FMTTYPE=image/jpeg:https://pub78.com/wp-content/uploads/wilidwood.jpg
END:VEVENT
BEGIN:VEVENT
DTSTART;TZID=America/Chicago:20251210T200000
DTEND;TZID=America/Chicago:20251210T230000
DTSTAMP:20260424T114639
CREATED:20251103T185834Z
LAST-MODIFIED:20251103T185834Z
UID:4980-1765396800-1765407600@pub78.com
SUMMARY:Open Mic/Jam with Alex Hamer
DESCRIPTION:Come out to open mic and jam! Or come out to just enjoy some great local musicians! Kitchen open until 9pm! House drum kit available. Sign up sheet gets set out after 7pm.
URL:https://pub78.com/event/open-mic-jam-with-alex-hamer-4/
LOCATION:Pub 78: 3733 Grand Blvd\, Brookfield\, IL 60513
CATEGORIES:Music & Events
ATTACH;FMTTYPE=image/png:https://pub78.com/wp-content/uploads/Alex-Hamer-1.png
END:VEVENT
BEGIN:VEVENT
DTSTART;TZID=America/Chicago:20251212T200000
DTEND;TZID=America/Chicago:20251212T230000
DTSTAMP:20260424T114639
CREATED:20251128T162334Z
LAST-MODIFIED:20251128T162334Z
UID:5025-1765569600-1765580400@pub78.com
SUMMARY:Hearts & Boots
DESCRIPTION:With a blend of rock and country hits\, their high-energy show is sure to have you dancing all night long. Put on your dancing boots and we’ll meet you on the dance floor!!
URL:https://pub78.com/event/hearts-boots-3/
LOCATION:Pub 78: 3733 Grand Blvd\, Brookfield\, IL 60513
CATEGORIES:Music & Events
ATTACH;FMTTYPE=image/png:https://pub78.com/wp-content/uploads/Friday-December.png
END:VEVENT
BEGIN:VEVENT
DTSTART;TZID=America/Chicago:20251217T200000
DTEND;TZID=America/Chicago:20251217T230000
DTSTAMP:20260424T114639
CREATED:20251103T185948Z
LAST-MODIFIED:20251103T185948Z
UID:4982-1766001600-1766012400@pub78.com
SUMMARY:Open Mic/Jam with Alex Hamer
DESCRIPTION:Come out to open mic and jam! Or come out to just enjoy some great local musicians! Kitchen open until 9pm! House drum kit available. Sign up sheet gets set out after 7pm.
URL:https://pub78.com/event/open-mic-jam-with-alex-hamer-5/
LOCATION:Pub 78: 3733 Grand Blvd\, Brookfield\, IL 60513
CATEGORIES:Music & Events
ATTACH;FMTTYPE=image/png:https://pub78.com/wp-content/uploads/Alex-Hamer-1.png
END:VEVENT
BEGIN:VEVENT
DTSTART;TZID=America/Chicago:20251219T200000
DTEND;TZID=America/Chicago:20251219T230000
DTSTAMP:20260424T114639
CREATED:20251202T175656Z
LAST-MODIFIED:20251202T175656Z
UID:5036-1766174400-1766185200@pub78.com
SUMMARY:GOING WESt
DESCRIPTION:GOING WESt is a blend of irish\, pop & alternative music coming to Pub 78!
URL:https://pub78.com/event/going-west/
LOCATION:Pub 78: 3733 Grand Blvd\, Brookfield\, IL 60513
CATEGORIES:Music & Events
ATTACH;FMTTYPE=image/png:https://pub78.com/wp-content/uploads/GOING-WESt.png
END:VEVENT
BEGIN:VEVENT
DTSTART;TZID=America/Chicago:20251220T200000
DTEND;TZID=America/Chicago:20251220T230000
DTSTAMP:20260424T114639
CREATED:20251202T174727Z
LAST-MODIFIED:20251202T174727Z
UID:5034-1766260800-1766271600@pub78.com
SUMMARY:Simply Elton
DESCRIPTION:Simply ELton returns to Pub 78 as a Christmas present to you all!
URL:https://pub78.com/event/simply-elton-2/
LOCATION:Pub 78: 3733 Grand Blvd\, Brookfield\, IL 60513
CATEGORIES:Music & Events
ATTACH;FMTTYPE=image/jpeg:https://pub78.com/wp-content/uploads/Simply.jpg
END:VEVENT
BEGIN:VEVENT
DTSTART;TZID=America/Chicago:20251227T200000
DTEND;TZID=America/Chicago:20251227T230000
DTSTAMP:20260424T114639
CREATED:20251202T174347Z
LAST-MODIFIED:20251202T174347Z
UID:5031-1766865600-1766876400@pub78.com
SUMMARY:That's My Jam
DESCRIPTION:Thatsmyjamchicago.com
URL:https://pub78.com/event/thats-my-jam-2/
LOCATION:Pub 78: 3733 Grand Blvd\, Brookfield\, IL 60513
CATEGORIES:Music & Events
ATTACH;FMTTYPE=image/jpeg:https://pub78.com/wp-content/uploads/thats-my-jam-1225.jpg
END:VEVENT
END:VCALENDAR