BEGIN:VCALENDAR
VERSION:2.0
PRODID:-//Pub 78 - ECPv6.15.20//NONSGML v1.0//EN
CALSCALE:GREGORIAN
METHOD:PUBLISH
X-ORIGINAL-URL:https://pub78.com
X-WR-CALDESC:Events for Pub 78
REFRESH-INTERVAL;VALUE=DURATION:PT1H
X-Robots-Tag:noindex
X-PUBLISHED-TTL:PT1H
BEGIN:VTIMEZONE
TZID:America/Chicago
BEGIN:DAYLIGHT
TZOFFSETFROM:-0600
TZOFFSETTO:-0500
TZNAME:CDT
DTSTART:20240310T080000
END:DAYLIGHT
BEGIN:STANDARD
TZOFFSETFROM:-0500
TZOFFSETTO:-0600
TZNAME:CST
DTSTART:20241103T070000
END:STANDARD
BEGIN:DAYLIGHT
TZOFFSETFROM:-0600
TZOFFSETTO:-0500
TZNAME:CDT
DTSTART:20250309T080000
END:DAYLIGHT
BEGIN:STANDARD
TZOFFSETFROM:-0500
TZOFFSETTO:-0600
TZNAME:CST
DTSTART:20251102T070000
END:STANDARD
BEGIN:DAYLIGHT
TZOFFSETFROM:-0600
TZOFFSETTO:-0500
TZNAME:CDT
DTSTART:20260308T080000
END:DAYLIGHT
BEGIN:STANDARD
TZOFFSETFROM:-0500
TZOFFSETTO:-0600
TZNAME:CST
DTSTART:20261101T070000
END:STANDARD
END:VTIMEZONE
BEGIN:VEVENT
DTSTART;TZID=America/Chicago:20251101T200000
DTEND;TZID=America/Chicago:20251101T230000
DTSTAMP:20260423T184614
CREATED:20251002T181743Z
LAST-MODIFIED:20251002T181743Z
UID:4964-1762027200-1762038000@pub78.com
SUMMARY:Trailer Park Twisters
DESCRIPTION:
URL:https://pub78.com/event/trailer-park-twisters-5/
LOCATION:Pub 78: 3733 Grand Blvd\, Brookfield\, IL 60513
CATEGORIES:Music & Events
ATTACH;FMTTYPE=image/jpeg:https://pub78.com/wp-content/uploads/tpt.jpg
END:VEVENT
BEGIN:VEVENT
DTSTART;TZID=America/Chicago:20251105T200000
DTEND;TZID=America/Chicago:20251105T230000
DTSTAMP:20260423T184614
CREATED:20251002T174656Z
LAST-MODIFIED:20251002T174656Z
UID:4929-1762372800-1762383600@pub78.com
SUMMARY:Open Mic with Alex Hamer
DESCRIPTION:Come out to open mic and jam! Or come out to just enjoy some great local musicians! Kitchen open until 9pm! House drum kit available. Sign up sheet gets set out after 7pm.
URL:https://pub78.com/event/open-mic-with-alex-hamer-6/
CATEGORIES:Music & Events
ATTACH;FMTTYPE=image/jpeg:https://pub78.com/wp-content/uploads/open-mic-alex.jpg
END:VEVENT
BEGIN:VEVENT
DTSTART;TZID=America/Chicago:20251106T190000
DTEND;TZID=America/Chicago:20251106T230000
DTSTAMP:20260423T184614
CREATED:20251002T175207Z
LAST-MODIFIED:20251002T175207Z
UID:4939-1762455600-1762470000@pub78.com
SUMMARY:Singo with Katie Redmond
DESCRIPTION:Singo is bingo with music! We drop beats not balls! You don’t have to sing but will find yourself singing along. We play three rounds that last about 45 minutes per rounds with breaks in between. You can get in on any round or play all three. Winners from each round can select a prize from the prize table. Kitchen is open until 9pm
URL:https://pub78.com/event/singo-with-katie-redmond-53/
LOCATION:Pub 78: 3733 Grand Blvd\, Brookfield\, IL 60513
CATEGORIES:Music & Events
ATTACH;FMTTYPE=image/jpeg:https://pub78.com/wp-content/uploads/Singo-1.jpg
END:VEVENT
BEGIN:VEVENT
DTSTART;TZID=America/Chicago:20251107T200000
DTEND;TZID=America/Chicago:20251107T230000
DTSTAMP:20260423T184614
CREATED:20251103T184425Z
LAST-MODIFIED:20251103T184425Z
UID:4970-1762545600-1762556400@pub78.com
SUMMARY:The Piano Man - Simply Elton & Billy
DESCRIPTION:he Piano Men: Simply Elton & Simply Billy Experience the ultimate tribute to two of rock & roll’s greatest icons — Elton John and Billy Joel — in a powerhouse evening of solo performances that capture the heart\, soul\, energy\, and swagger of these legendary piano men. From thunderous rock anthems to timeless ballads\, Simply Elton and Simply Billy bring the fire\, the flair\, and all the hits you know and love. This is more than a concert — it’s a full-throttle celebration of two musical giants. Don’t miss this unforgettable night of music and showmanship!
URL:https://pub78.com/event/the-piano-man-simply-elton-billy/
LOCATION:Pub 78: 3733 Grand Blvd\, Brookfield\, IL 60513
CATEGORIES:Music & Events
ATTACH;FMTTYPE=image/jpeg:https://pub78.com/wp-content/uploads/Simply.jpg
END:VEVENT
BEGIN:VEVENT
DTSTART;TZID=America/Chicago:20251108T200000
DTEND;TZID=America/Chicago:20251108T230000
DTSTAMP:20260423T184614
CREATED:20251103T184026Z
LAST-MODIFIED:20251103T184026Z
UID:4967-1762632000-1762642800@pub78.com
SUMMARY:Hot Mic
DESCRIPTION:Let’s make some noise early November! We’re back at our #1 spot at Pub 78 with a fresh rotation of hot covers we’re excited to share.\nGet ready for another night of high-energy\, feel-good rock with Hot Mic. This is our last scheduled show for 2025. Come out and party with us!\nhttps://www.hotmicband.com/\nSitting in the “party-psych” lane\, Hot Mic blends groove-driven rhythms\, singalong nostalgia\, and classic rock punch into one unforgettable show. The sets flow seamlessly from dancefloor-ready beats to anthems everyone knows by heart\, always throwing in just enough twists to keep things fresh
URL:https://pub78.com/event/hot-mic-3/
LOCATION:Pub 78: 3733 Grand Blvd\, Brookfield\, IL 60513
CATEGORIES:Music & Events
ATTACH;FMTTYPE=image/jpeg:https://pub78.com/wp-content/uploads/Hot-Mic110325.jpg
END:VEVENT
BEGIN:VEVENT
DTSTART;TZID=America/Chicago:20251112T200000
DTEND;TZID=America/Chicago:20251112T230000
DTSTAMP:20260423T184614
CREATED:20251103T185424Z
LAST-MODIFIED:20251103T185424Z
UID:4972-1762977600-1762988400@pub78.com
SUMMARY:Open Mic/Jam with Alex Hamer
DESCRIPTION:Come out to open mic and jam! Or come out to just enjoy some great local musicians! Kitchen open until 9pm! House drum kit available. Sign up sheet gets set out after 7pm.
URL:https://pub78.com/event/open-mic-jam-with-alex-hamer/
LOCATION:Pub 78: 3733 Grand Blvd\, Brookfield\, IL 60513
CATEGORIES:Music & Events
ATTACH;FMTTYPE=image/png:https://pub78.com/wp-content/uploads/Alex-Hamer-1.png
END:VEVENT
BEGIN:VEVENT
DTSTART;TZID=America/Chicago:20251113T190000
DTEND;TZID=America/Chicago:20251113T190000
DTSTAMP:20260423T184614
CREATED:20251103T190155Z
LAST-MODIFIED:20251103T190155Z
UID:4984-1763060400-1763060400@pub78.com
SUMMARY:Singo with Katie Redmond
DESCRIPTION:Singo is bingo with music! We drop beats not balls! You don’t have to sing but will find yourself singing along. We play three rounds that last about 45 minutes per rounds with breaks in between. You can get in on any round or play all three. Winners from each round can select a prize from the prize table. Kitchen is open until 9pm
URL:https://pub78.com/event/singo-with-katie-redmond-54/
LOCATION:Pub 78: 3733 Grand Blvd\, Brookfield\, IL 60513
CATEGORIES:Music & Events
ATTACH;FMTTYPE=image/jpeg:https://pub78.com/wp-content/uploads/Singo-1.jpg
END:VEVENT
BEGIN:VEVENT
DTSTART;TZID=America/Chicago:20251114T200000
DTEND;TZID=America/Chicago:20251114T230000
DTSTAMP:20260423T184614
CREATED:20251103T191352Z
LAST-MODIFIED:20251103T191352Z
UID:4994-1763150400-1763161200@pub78.com
SUMMARY:Meritage Live
DESCRIPTION:Join us at Pub 78 where it’s always a PARTY!!!
URL:https://pub78.com/event/meritage-live/
LOCATION:Pub 78: 3733 Grand Blvd\, Brookfield\, IL 60513
CATEGORIES:Music & Events
ATTACH;FMTTYPE=image/png:https://pub78.com/wp-content/uploads/Nov14-8PM.png
END:VEVENT
BEGIN:VEVENT
DTSTART;TZID=America/Chicago:20251115T200000
DTEND;TZID=America/Chicago:20251115T230000
DTSTAMP:20260423T184614
CREATED:20251110T223009Z
LAST-MODIFIED:20251110T223009Z
UID:4997-1763236800-1763247600@pub78.com
SUMMARY:My Cousins Jacket
DESCRIPTION:My Cousins Jacket returns to Pub 78!
URL:https://pub78.com/event/my-cousins-jacket-2/
LOCATION:Pub 78: 3733 Grand Blvd\, Brookfield\, IL 60513
CATEGORIES:Music & Events
ATTACH;FMTTYPE=image/jpeg:https://pub78.com/wp-content/uploads/mycousins.jpg
END:VEVENT
BEGIN:VEVENT
DTSTART;TZID=America/Chicago:20251116T123000
DTEND;TZID=America/Chicago:20251116T123000
DTSTAMP:20260423T184614
CREATED:20251110T225002Z
LAST-MODIFIED:20251110T225002Z
UID:5000-1763296200-1763296200@pub78.com
SUMMARY:Pub Church
DESCRIPTION:Join us at Pub 78 with Pastor Craig and Every Day Grace band. All are welcome!
URL:https://pub78.com/event/pub-church-12/
LOCATION:Pub 78: 3733 Grand Blvd\, Brookfield\, IL 60513
CATEGORIES:Music & Events
ATTACH;FMTTYPE=image/png:https://pub78.com/wp-content/uploads/pub-chucrh-logo.png
END:VEVENT
BEGIN:VEVENT
DTSTART;TZID=America/Chicago:20251119T200000
DTEND;TZID=America/Chicago:20251119T230000
DTSTAMP:20260423T184614
CREATED:20251103T185543Z
LAST-MODIFIED:20251103T185543Z
UID:4975-1763582400-1763593200@pub78.com
SUMMARY:Open Mic/Jam with Alex Hamer
DESCRIPTION:Come out to open mic and jam! Or come out to just enjoy some great local musicians! Kitchen open until 9pm! House drum kit available. Sign up sheet gets set out after 7pm.
URL:https://pub78.com/event/open-mic-jam-with-alex-hamer-2/
LOCATION:Pub 78: 3733 Grand Blvd\, Brookfield\, IL 60513
CATEGORIES:Music & Events
ATTACH;FMTTYPE=image/png:https://pub78.com/wp-content/uploads/Alex-Hamer-1.png
END:VEVENT
BEGIN:VEVENT
DTSTART;TZID=America/Chicago:20251120T190000
DTEND;TZID=America/Chicago:20251120T190000
DTSTAMP:20260423T184614
CREATED:20251103T190313Z
LAST-MODIFIED:20251103T190313Z
UID:4986-1763665200-1763665200@pub78.com
SUMMARY:Singo with Katie Redmond
DESCRIPTION:Singo is bingo with music! We drop beats not balls! You don’t have to sing but will find yourself singing along. We play three rounds that last about 45 minutes per rounds with breaks in between. You can get in on any round or play all three. Winners from each round can select a prize from the prize table. Kitchen is open until 9pm
URL:https://pub78.com/event/singo-with-katie-redmond-55/
LOCATION:Pub 78: 3733 Grand Blvd\, Brookfield\, IL 60513
CATEGORIES:Music & Events
ATTACH;FMTTYPE=image/jpeg:https://pub78.com/wp-content/uploads/Singo-1.jpg
END:VEVENT
BEGIN:VEVENT
DTSTART;TZID=America/Chicago:20251121T200000
DTEND;TZID=America/Chicago:20251121T230000
DTSTAMP:20260423T184614
CREATED:20251119T152229Z
LAST-MODIFIED:20251119T152229Z
UID:5002-1763755200-1763766000@pub78.com
SUMMARY:The Sylvies
DESCRIPTION:Pub 78 welcomes back The Sylvies!
URL:https://pub78.com/event/the-sylvies-2/
LOCATION:Pub 78: 3733 Grand Blvd\, Brookfield\, IL 60513
CATEGORIES:Music & Events
ATTACH;FMTTYPE=image/jpeg:https://pub78.com/wp-content/uploads/sylvies.jpg
END:VEVENT
BEGIN:VEVENT
DTSTART;TZID=America/Chicago:20251122T200000
DTEND;TZID=America/Chicago:20251122T230000
DTSTAMP:20260423T184614
CREATED:20251119T152518Z
LAST-MODIFIED:20251121T174713Z
UID:5005-1763841600-1763852400@pub78.com
SUMMARY:GJAK'D UP
DESCRIPTION:GJAK’D UP is coming back to Pub 78!  A mix of country and rock! Kelly is coming back!
URL:https://pub78.com/event/gkakd-up/
LOCATION:Pub 78: 3733 Grand Blvd\, Brookfield\, IL 60513
CATEGORIES:Music & Events
ATTACH;FMTTYPE=image/png:https://pub78.com/wp-content/uploads/Pub-78-Live-Music-Event-Saturday-November-23-8-11pm-1.png
END:VEVENT
BEGIN:VEVENT
DTSTART;TZID=America/Chicago:20251126T200000
DTEND;TZID=America/Chicago:20251126T230000
DTSTAMP:20260423T184615
CREATED:20251119T153624Z
LAST-MODIFIED:20251119T153624Z
UID:5008-1764187200-1764198000@pub78.com
SUMMARY:The Jolly Ringwalds
DESCRIPTION:imply the best in 80s music!
URL:https://pub78.com/event/the-jolly-ringwalds-4/
LOCATION:Pub 78: 3733 Grand Blvd\, Brookfield\, IL 60513
CATEGORIES:Music & Events
ATTACH;FMTTYPE=image/png:https://pub78.com/wp-content/uploads/The-jolly-ringwalds.png
END:VEVENT
BEGIN:VEVENT
DTSTART;TZID=America/Chicago:20251128T200000
DTEND;TZID=America/Chicago:20251128T230000
DTSTAMP:20260423T184615
CREATED:20251119T153817Z
LAST-MODIFIED:20251119T153817Z
UID:5011-1764360000-1764370800@pub78.com
SUMMARY:Woody's Revenge
DESCRIPTION:Good Old Fashion American Rock & Roll.
URL:https://pub78.com/event/woodys-revenge-2/
LOCATION:Pub 78: 3733 Grand Blvd\, Brookfield\, IL 60513
CATEGORIES:Music & Events
ATTACH;FMTTYPE=image/jpeg:https://pub78.com/wp-content/uploads/woodys.jpg
END:VEVENT
BEGIN:VEVENT
DTSTART;TZID=America/Chicago:20251129T200000
DTEND;TZID=America/Chicago:20251129T230000
DTSTAMP:20260423T184615
CREATED:20251119T154049Z
LAST-MODIFIED:20251119T154049Z
UID:5013-1764446400-1764457200@pub78.com
SUMMARY:KG and the Damaged Goods
DESCRIPTION:KG & The Damaged Goods debuts at Pub 78!\nCheck out their website.\nhttps://kgandthedamagedgoods.com
URL:https://pub78.com/event/kg-and-the-damaged-goods/
LOCATION:Pub 78: 3733 Grand Blvd\, Brookfield\, IL 60513
CATEGORIES:Music & Events
ATTACH;FMTTYPE=image/jpeg:https://pub78.com/wp-content/uploads/kg.jpg
END:VEVENT
END:VCALENDAR