BEGIN:VCALENDAR
VERSION:2.0
PRODID:-//Pub 78 - ECPv6.15.20//NONSGML v1.0//EN
CALSCALE:GREGORIAN
METHOD:PUBLISH
X-WR-CALNAME:Pub 78
X-ORIGINAL-URL:https://pub78.com
X-WR-CALDESC:Events for Pub 78
REFRESH-INTERVAL;VALUE=DURATION:PT1H
X-Robots-Tag:noindex
X-PUBLISHED-TTL:PT1H
BEGIN:VTIMEZONE
TZID:America/Chicago
BEGIN:DAYLIGHT
TZOFFSETFROM:-0600
TZOFFSETTO:-0500
TZNAME:CDT
DTSTART:20230312T080000
END:DAYLIGHT
BEGIN:STANDARD
TZOFFSETFROM:-0500
TZOFFSETTO:-0600
TZNAME:CST
DTSTART:20231105T070000
END:STANDARD
BEGIN:DAYLIGHT
TZOFFSETFROM:-0600
TZOFFSETTO:-0500
TZNAME:CDT
DTSTART:20240310T080000
END:DAYLIGHT
BEGIN:STANDARD
TZOFFSETFROM:-0500
TZOFFSETTO:-0600
TZNAME:CST
DTSTART:20241103T070000
END:STANDARD
BEGIN:DAYLIGHT
TZOFFSETFROM:-0600
TZOFFSETTO:-0500
TZNAME:CDT
DTSTART:20250309T080000
END:DAYLIGHT
BEGIN:STANDARD
TZOFFSETFROM:-0500
TZOFFSETTO:-0600
TZNAME:CST
DTSTART:20251102T070000
END:STANDARD
END:VTIMEZONE
BEGIN:VEVENT
DTSTART;TZID=America/Chicago:20240802T200000
DTEND;TZID=America/Chicago:20240802T230000
DTSTAMP:20260425T102056
CREATED:20240729T201239Z
LAST-MODIFIED:20240729T201239Z
UID:4256-1722628800-1722639600@pub78.com
SUMMARY:The Mad Poets
DESCRIPTION:Edgy and talented 3 piece band entertaining Chicagoland for decades. Fans of WXRT and Q101 will recognize the music The Mad Poets covers.
URL:https://pub78.com/event/the-mad-poets/
LOCATION:Pub 78: 3733 Grand Blvd\, Brookfield\, IL 60513
CATEGORIES:Music & Events
ATTACH;FMTTYPE=image/jpeg:https://pub78.com/wp-content/uploads/mad-poets.jpg
END:VEVENT
BEGIN:VEVENT
DTSTART;TZID=America/Chicago:20240803T200000
DTEND;TZID=America/Chicago:20240803T230000
DTSTAMP:20260425T102056
CREATED:20240729T202118Z
LAST-MODIFIED:20240729T202118Z
UID:4259-1722715200-1722726000@pub78.com
SUMMARY:RadiO-M-G!
DESCRIPTION:RADIO-M-G! is a powerhouse full band and unplugged trio that defies genre limitations with “More hits than your shuffle button!”
URL:https://pub78.com/event/radio-m-g/
LOCATION:Pub 78: 3733 Grand Blvd\, Brookfield\, IL 60513
CATEGORIES:Music & Events
ATTACH;FMTTYPE=image/jpeg:https://pub78.com/wp-content/uploads/radiomg.jpg
END:VEVENT
BEGIN:VEVENT
DTSTART;TZID=America/Chicago:20240807T200000
DTEND;TZID=America/Chicago:20240807T230000
DTSTAMP:20260425T102056
CREATED:20240803T154706Z
LAST-MODIFIED:20240803T154706Z
UID:4276-1723060800-1723071600@pub78.com
SUMMARY:Open Mic Hosted by Kelly Ott
DESCRIPTION:House drum kit available
URL:https://pub78.com/event/open-mic-hosted-by-kelly-ott-174/
LOCATION:Pub 78: 3733 Grand Blvd\, Brookfield\, IL 60513
CATEGORIES:Music & Events
ATTACH;FMTTYPE=image/jpeg:https://pub78.com/wp-content/uploads/openmic-e1708019639280.jpg
END:VEVENT
BEGIN:VEVENT
DTSTART;TZID=America/Chicago:20240809T200000
DTEND;TZID=America/Chicago:20240809T230000
DTSTAMP:20260425T102056
CREATED:20240729T202840Z
LAST-MODIFIED:20240809T201121Z
UID:4262-1723233600-1723244400@pub78.com
SUMMARY:The Neighborhood
DESCRIPTION:The Neighborhood is playing last minute tonight! Come out and support local live music. They will have a few special guests.
URL:https://pub78.com/event/tony-cruz-the-crossroads/
LOCATION:Pub 78: 3733 Grand Blvd\, Brookfield\, IL 60513
CATEGORIES:Music & Events
ATTACH;FMTTYPE=image/jpeg:https://pub78.com/wp-content/uploads/The-Neighboor-logo-1.jpg
END:VEVENT
BEGIN:VEVENT
DTSTART;TZID=America/Chicago:20240814T200000
DTEND;TZID=America/Chicago:20240814T230000
DTSTAMP:20260425T102056
CREATED:20240803T154804Z
LAST-MODIFIED:20240803T154804Z
UID:4278-1723665600-1723676400@pub78.com
SUMMARY:Open Mic Hosted by Kelly Ott
DESCRIPTION:House drum kit available
URL:https://pub78.com/event/open-mic-hosted-by-kelly-ott-175/
LOCATION:Pub 78: 3733 Grand Blvd\, Brookfield\, IL 60513
CATEGORIES:Music & Events
ATTACH;FMTTYPE=image/jpeg:https://pub78.com/wp-content/uploads/openmic-e1708019639280.jpg
END:VEVENT
BEGIN:VEVENT
DTSTART;TZID=America/Chicago:20240815T190000
DTEND;TZID=America/Chicago:20240815T190000
DTSTAMP:20260425T102056
CREATED:20240803T155125Z
LAST-MODIFIED:20240803T155125Z
UID:4284-1723748400-1723748400@pub78.com
SUMMARY:Singo!
DESCRIPTION:Prizes will be awarded to winners of each round
URL:https://pub78.com/event/singo-38/
LOCATION:Pub 78: 3733 Grand Blvd\, Brookfield\, IL 60513
CATEGORIES:Music & Events
ATTACH;FMTTYPE=image/jpeg:https://pub78.com/wp-content/uploads/Singo-1.jpg
END:VEVENT
BEGIN:VEVENT
DTSTART;TZID=America/Chicago:20240816T200000
DTEND;TZID=America/Chicago:20240816T230000
DTSTAMP:20260425T102056
CREATED:20240729T203228Z
LAST-MODIFIED:20240803T155953Z
UID:4266-1723838400-1723849200@pub78.com
SUMMARY:Live Music: What She Said
DESCRIPTION:A female-fronted\, mixed-genre cover band from the Chicago suburbs that plays a diverse blend of everything from the 60s to today in a full electric band\, acoustic band\, or acoustic duo.
URL:https://pub78.com/event/what-she-said/
LOCATION:Pub 78: 3733 Grand Blvd\, Brookfield\, IL 60513
CATEGORIES:Music & Events
ATTACH;FMTTYPE=image/jpeg:https://pub78.com/wp-content/uploads/what-she-said-better.jpg
END:VEVENT
BEGIN:VEVENT
DTSTART;TZID=America/Chicago:20240817T150000
DTEND;TZID=America/Chicago:20240817T190000
DTSTAMP:20260425T102056
CREATED:20240729T204040Z
LAST-MODIFIED:20240729T204040Z
UID:4269-1723906800-1723921200@pub78.com
SUMMARY:Palacky Lodge #630 Meat Raffle
DESCRIPTION:The Palacky Lodge #630 will be holding a meat raffle at Pub 78 at 3pm for charity. The Palacky Lodge is not only the oldest Bohemian lodge of the Independent Order of Odd Fellows in Chicago\, but it is also the oldest Bohemian lodge in America.
URL:https://pub78.com/event/palacky-lodge-630-meat-raffle/
LOCATION:Pub 78: 3733 Grand Blvd\, Brookfield\, IL 60513
CATEGORIES:Music & Events
ATTACH;FMTTYPE=image/jpeg:https://pub78.com/wp-content/uploads/palacky.jpg
END:VEVENT
BEGIN:VEVENT
DTSTART;TZID=America/Chicago:20240817T200000
DTEND;TZID=America/Chicago:20240817T230000
DTSTAMP:20260425T102056
CREATED:20240729T204435Z
LAST-MODIFIED:20240803T162025Z
UID:4274-1723924800-1723935600@pub78.com
SUMMARY:Live Music: Emma and The Dilemma
DESCRIPTION:High energy diva pop\, rock & soul featuring the wonderful Miss Emma!
URL:https://pub78.com/event/emma-the-dillemma/
LOCATION:Pub 78: 3733 Grand Blvd\, Brookfield\, IL 60513
CATEGORIES:Music & Events
END:VEVENT
BEGIN:VEVENT
DTSTART;TZID=America/Chicago:20240818T123000
DTEND;TZID=America/Chicago:20240818T123000
DTSTAMP:20260425T102056
CREATED:20240814T164057Z
LAST-MODIFIED:20240814T164115Z
UID:4317-1723984200-1723984200@pub78.com
SUMMARY:Pub Church
DESCRIPTION:Join us at Pub 78 with Pastor Craig and the Every Day Grace band. All are welcome!
URL:https://pub78.com/event/pub-church-3/
LOCATION:Pub 78: 3733 Grand Blvd\, Brookfield\, IL 60513
CATEGORIES:Music & Events
END:VEVENT
BEGIN:VEVENT
DTSTART;TZID=America/Chicago:20240821T200000
DTEND;TZID=America/Chicago:20240821T230000
DTSTAMP:20260425T102056
CREATED:20240803T154855Z
LAST-MODIFIED:20240803T154855Z
UID:4280-1724270400-1724281200@pub78.com
SUMMARY:Open Mic Hosted by Kelly Ott
DESCRIPTION:House drum kit available
URL:https://pub78.com/event/open-mic-hosted-by-kelly-ott-176/
LOCATION:Pub 78: 3733 Grand Blvd\, Brookfield\, IL 60513
CATEGORIES:Music & Events
ATTACH;FMTTYPE=image/jpeg:https://pub78.com/wp-content/uploads/openmic-e1708019639280.jpg
END:VEVENT
BEGIN:VEVENT
DTSTART;TZID=America/Chicago:20240822T190000
DTEND;TZID=America/Chicago:20240822T190000
DTSTAMP:20260425T102056
CREATED:20240803T155228Z
LAST-MODIFIED:20240803T155228Z
UID:4286-1724353200-1724353200@pub78.com
SUMMARY:Singo!
DESCRIPTION:Prizes will be awarded to winners of each round
URL:https://pub78.com/event/singo-39/
LOCATION:Pub 78: 3733 Grand Blvd\, Brookfield\, IL 60513
CATEGORIES:Music & Events
ATTACH;FMTTYPE=image/jpeg:https://pub78.com/wp-content/uploads/Singo-1.jpg
END:VEVENT
BEGIN:VEVENT
DTSTART;TZID=America/Chicago:20240823T200000
DTEND;TZID=America/Chicago:20240823T230000
DTSTAMP:20260425T102056
CREATED:20240814T163036Z
LAST-MODIFIED:20240814T163036Z
UID:4303-1724443200-1724454000@pub78.com
SUMMARY:Live Music: Frank Wysong & Jessie Perez
DESCRIPTION:
URL:https://pub78.com/event/live-music-frank-wysong-jessie-perez/
LOCATION:Pub 78: 3733 Grand Blvd\, Brookfield\, IL 60513
CATEGORIES:Music & Events
END:VEVENT
BEGIN:VEVENT
DTSTART;TZID=America/Chicago:20240824T200000
DTEND;TZID=America/Chicago:20240824T200000
DTSTAMP:20260425T102056
CREATED:20240803T155622Z
LAST-MODIFIED:20240803T155910Z
UID:4290-1724529600-1724529600@pub78.com
SUMMARY:Live Music: Trailer Park Twisters
DESCRIPTION:
URL:https://pub78.com/event/trailer-park-twisters/
LOCATION:Pub 78: 3733 Grand Blvd\, Brookfield\, IL 60513
CATEGORIES:Music & Events
ATTACH;FMTTYPE=image/jpeg:https://pub78.com/wp-content/uploads/tpt.jpg
END:VEVENT
BEGIN:VEVENT
DTSTART;TZID=America/Chicago:20240828T200000
DTEND;TZID=America/Chicago:20240828T230000
DTSTAMP:20260425T102056
CREATED:20240803T154948Z
LAST-MODIFIED:20240803T154948Z
UID:4282-1724875200-1724886000@pub78.com
SUMMARY:Open Mic Hosted by Kelly Ott
DESCRIPTION:House drum kit available
URL:https://pub78.com/event/open-mic-hosted-by-kelly-ott-177/
LOCATION:Pub 78: 3733 Grand Blvd\, Brookfield\, IL 60513
CATEGORIES:Music & Events
ATTACH;FMTTYPE=image/jpeg:https://pub78.com/wp-content/uploads/openmic-e1708019639280.jpg
END:VEVENT
BEGIN:VEVENT
DTSTART;TZID=America/Chicago:20240829T190000
DTEND;TZID=America/Chicago:20240829T190000
DTSTAMP:20260425T102056
CREATED:20240803T155329Z
LAST-MODIFIED:20240803T155329Z
UID:4288-1724958000-1724958000@pub78.com
SUMMARY:Singo!
DESCRIPTION:Prizes will be awarded to winners of each round
URL:https://pub78.com/event/singo-40/
LOCATION:Pub 78: 3733 Grand Blvd\, Brookfield\, IL 60513
CATEGORIES:Music & Events
ATTACH;FMTTYPE=image/jpeg:https://pub78.com/wp-content/uploads/Singo-1.jpg
END:VEVENT
BEGIN:VEVENT
DTSTART;TZID=America/Chicago:20240830T200000
DTEND;TZID=America/Chicago:20240830T200000
DTSTAMP:20260425T102056
CREATED:20240803T155818Z
LAST-MODIFIED:20240803T155854Z
UID:4292-1725048000-1725048000@pub78.com
SUMMARY:Live Music: The Neighborhood
DESCRIPTION:
URL:https://pub78.com/event/the-neighborhood-2/
LOCATION:Pub 78: 3733 Grand Blvd\, Brookfield\, IL 60513
CATEGORIES:Music & Events
ATTACH;FMTTYPE=image/jpeg:https://pub78.com/wp-content/uploads/tn.jpg
END:VEVENT
BEGIN:VEVENT
DTSTART;TZID=America/Chicago:20240830T200000
DTEND;TZID=America/Chicago:20240830T230000
DTSTAMP:20260425T102056
CREATED:20240828T181314Z
LAST-MODIFIED:20240828T181314Z
UID:4324-1725048000-1725058800@pub78.com
SUMMARY:The Neighborhood
DESCRIPTION:The Neighborhood returns to Pub 78.  Check out this local band.  Playing music from Johnny Cash to Rod Stewart.
URL:https://pub78.com/event/the-neighborhood-3/
LOCATION:Pub 78: 3733 Grand Blvd\, Brookfield\, IL 60513
CATEGORIES:Music & Events
ATTACH;FMTTYPE=image/jpeg:https://pub78.com/wp-content/uploads/The-Neigh-083024.jpg
END:VEVENT
END:VCALENDAR