BEGIN:VCALENDAR
VERSION:2.0
PRODID:-//Pub 78 - ECPv6.15.20//NONSGML v1.0//EN
CALSCALE:GREGORIAN
METHOD:PUBLISH
X-ORIGINAL-URL:https://pub78.com
X-WR-CALDESC:Events for Pub 78
REFRESH-INTERVAL;VALUE=DURATION:PT1H
X-Robots-Tag:noindex
X-PUBLISHED-TTL:PT1H
BEGIN:VTIMEZONE
TZID:America/Chicago
BEGIN:DAYLIGHT
TZOFFSETFROM:-0600
TZOFFSETTO:-0500
TZNAME:CDT
DTSTART:20230312T080000
END:DAYLIGHT
BEGIN:STANDARD
TZOFFSETFROM:-0500
TZOFFSETTO:-0600
TZNAME:CST
DTSTART:20231105T070000
END:STANDARD
BEGIN:DAYLIGHT
TZOFFSETFROM:-0600
TZOFFSETTO:-0500
TZNAME:CDT
DTSTART:20240310T080000
END:DAYLIGHT
BEGIN:STANDARD
TZOFFSETFROM:-0500
TZOFFSETTO:-0600
TZNAME:CST
DTSTART:20241103T070000
END:STANDARD
BEGIN:DAYLIGHT
TZOFFSETFROM:-0600
TZOFFSETTO:-0500
TZNAME:CDT
DTSTART:20250309T080000
END:DAYLIGHT
BEGIN:STANDARD
TZOFFSETFROM:-0500
TZOFFSETTO:-0600
TZNAME:CST
DTSTART:20251102T070000
END:STANDARD
END:VTIMEZONE
BEGIN:VEVENT
DTSTART;TZID=America/Chicago:20240201T193000
DTEND;TZID=America/Chicago:20240201T193000
DTSTAMP:20260425T203656
CREATED:20240116T180123Z
LAST-MODIFIED:20240116T180123Z
UID:3766-1706815800-1706815800@pub78.com
SUMMARY:Singo!
DESCRIPTION:Prizes will be awarded to winners of each game.
URL:https://pub78.com/event/singo-14/
LOCATION:Pub 78: 3733 Grand Blvd\, Brookfield\, IL 60513
CATEGORIES:Music & Events
ATTACH;FMTTYPE=image/png:https://pub78.com/wp-content/uploads/singo.png
END:VEVENT
BEGIN:VEVENT
DTSTART;TZID=America/Chicago:20240202T200000
DTEND;TZID=America/Chicago:20240202T200000
DTSTAMP:20260425T203656
CREATED:20240116T180244Z
LAST-MODIFIED:20240116T180744Z
UID:3768-1706904000-1706904000@pub78.com
SUMMARY:Live Music: Don't Matter to Me
DESCRIPTION:
URL:https://pub78.com/event/live-music-dont-matter-to-me-2/
LOCATION:Pub 78: 3733 Grand Blvd\, Brookfield\, IL 60513
CATEGORIES:Music & Events
ATTACH;FMTTYPE=image/jpeg:https://pub78.com/wp-content/uploads/DMTM-2.jpg
END:VEVENT
BEGIN:VEVENT
DTSTART;TZID=America/Chicago:20240203T200000
DTEND;TZID=America/Chicago:20240203T200000
DTSTAMP:20260425T203656
CREATED:20240116T180853Z
LAST-MODIFIED:20240116T180853Z
UID:3772-1706990400-1706990400@pub78.com
SUMMARY:Live Music: The PriSSillas
DESCRIPTION:
URL:https://pub78.com/event/live-music-the-prissillas-8/
LOCATION:Pub 78: 3733 Grand Blvd\, Brookfield\, IL 60513
CATEGORIES:Music & Events
ATTACH;FMTTYPE=image/jpeg:https://pub78.com/wp-content/uploads/Prissillas.jpg
END:VEVENT
BEGIN:VEVENT
DTSTART;TZID=America/Chicago:20240206T180000
DTEND;TZID=America/Chicago:20240206T210000
DTSTAMP:20260425T203656
CREATED:20240130T214507Z
LAST-MODIFIED:20240130T214507Z
UID:3793-1707242400-1707253200@pub78.com
SUMMARY:Paint Party Hosted by RAD Canvas
DESCRIPTION:Paint with RAD Canvas! Choose from many projects and have some fun with friends! Text “PUB 78” to Becky at 708-227-3999 to sign up!
URL:https://pub78.com/event/paint-party-hosted-by-rad-canvas-13/
LOCATION:Pub 78: 3733 Grand Blvd\, Brookfield\, IL 60513
CATEGORIES:Music & Events
ATTACH;FMTTYPE=image/jpeg:https://pub78.com/wp-content/uploads/RadFeb6.jpg
END:VEVENT
BEGIN:VEVENT
DTSTART;TZID=America/Chicago:20240207T200000
DTEND;TZID=America/Chicago:20240207T230000
DTSTAMP:20260425T203656
CREATED:20240116T181103Z
LAST-MODIFIED:20240116T181103Z
UID:3774-1707336000-1707346800@pub78.com
SUMMARY:Open Mic Hosted by Kelly Ott
DESCRIPTION:House drum kit available
URL:https://pub78.com/event/open-mic-hosted-by-kelly-ott-152/
LOCATION:Pub 78: 3733 Grand Blvd\, Brookfield\, IL 60513
CATEGORIES:Music & Events
ATTACH;FMTTYPE=image/jpeg:https://pub78.com/wp-content/uploads/openmic-e1708019639280.jpg
END:VEVENT
BEGIN:VEVENT
DTSTART;TZID=America/Chicago:20240208T190000
DTEND;TZID=America/Chicago:20240208T190000
DTSTAMP:20260425T203656
CREATED:20240116T181156Z
LAST-MODIFIED:20240205T193907Z
UID:3776-1707418800-1707418800@pub78.com
SUMMARY:Singo!
DESCRIPTION:Prizes will be awarded to winners of each game
URL:https://pub78.com/event/singo-15/
LOCATION:Pub 78: 3733 Grand Blvd\, Brookfield\, IL 60513
CATEGORIES:Music & Events
ATTACH;FMTTYPE=image/png:https://pub78.com/wp-content/uploads/singo.png
END:VEVENT
BEGIN:VEVENT
DTSTART;TZID=America/Chicago:20240209T200000
DTEND;TZID=America/Chicago:20240209T200000
DTSTAMP:20260425T203656
CREATED:20240116T181441Z
LAST-MODIFIED:20240116T181441Z
UID:3778-1707508800-1707508800@pub78.com
SUMMARY:Live Music: Trailer Park Twisters
DESCRIPTION:
URL:https://pub78.com/event/live-music-trailer-park-twisters-8/
LOCATION:Pub 78: 3733 Grand Blvd\, Brookfield\, IL 60513
CATEGORIES:Music & Events
ATTACH;FMTTYPE=image/jpeg:https://pub78.com/wp-content/uploads/tpt.jpg
END:VEVENT
BEGIN:VEVENT
DTSTART;TZID=America/Chicago:20240210T200000
DTEND;TZID=America/Chicago:20240210T200000
DTSTAMP:20260425T203656
CREATED:20240116T181603Z
LAST-MODIFIED:20240116T181629Z
UID:3780-1707595200-1707595200@pub78.com
SUMMARY:Live Music: GJAK'D UP
DESCRIPTION:
URL:https://pub78.com/event/live-music-gjakd-up-2/
LOCATION:Pub 78: 3733 Grand Blvd\, Brookfield\, IL 60513
CATEGORIES:Music & Events
ATTACH;FMTTYPE=image/jpeg:https://pub78.com/wp-content/uploads/GJAKDUP.jpg
END:VEVENT
BEGIN:VEVENT
DTSTART;TZID=America/Chicago:20240214T200000
DTEND;TZID=America/Chicago:20240214T230000
DTSTAMP:20260425T203656
CREATED:20240116T181750Z
LAST-MODIFIED:20240116T181750Z
UID:3783-1707940800-1707951600@pub78.com
SUMMARY:Open Mic Hosted by Kelly Ott
DESCRIPTION:House drum kit available
URL:https://pub78.com/event/open-mic-hosted-by-kelly-ott-153/
LOCATION:Pub 78: 3733 Grand Blvd\, Brookfield\, IL 60513
CATEGORIES:Music & Events
ATTACH;FMTTYPE=image/jpeg:https://pub78.com/wp-content/uploads/openmic-e1708019639280.jpg
END:VEVENT
BEGIN:VEVENT
DTSTART;TZID=America/Chicago:20240215T190000
DTEND;TZID=America/Chicago:20240215T190000
DTSTAMP:20260425T203656
CREATED:20240116T181915Z
LAST-MODIFIED:20240205T193930Z
UID:3785-1708023600-1708023600@pub78.com
SUMMARY:Singo!
DESCRIPTION:Prizes will be awarded to winners of each round
URL:https://pub78.com/event/singo-16/
LOCATION:Pub 78: 3733 Grand Blvd\, Brookfield\, IL 60513
CATEGORIES:Music & Events
ATTACH;FMTTYPE=image/png:https://pub78.com/wp-content/uploads/singo.png
END:VEVENT
BEGIN:VEVENT
DTSTART;TZID=America/Chicago:20240216T200000
DTEND;TZID=America/Chicago:20240216T230000
DTSTAMP:20260425T203656
CREATED:20240209T175900Z
LAST-MODIFIED:20240209T175900Z
UID:3824-1708113600-1708124400@pub78.com
SUMMARY:Live Music at Pub 78: True Story
DESCRIPTION:Live Music at Pub 78: True Story
URL:https://pub78.com/event/live-music-at-pub-78-true-story/
LOCATION:Pub 78: 3733 Grand Blvd\, Brookfield\, IL 60513
CATEGORIES:Music & Events
END:VEVENT
BEGIN:VEVENT
DTSTART;TZID=America/Chicago:20240217T200000
DTEND;TZID=America/Chicago:20240217T200000
DTSTAMP:20260425T203656
CREATED:20240116T182120Z
LAST-MODIFIED:20240116T182120Z
UID:3787-1708200000-1708200000@pub78.com
SUMMARY:Live Music: Easily Distracted
DESCRIPTION:
URL:https://pub78.com/event/live-music-easily-distracted-8/
LOCATION:Pub 78: 3733 Grand Blvd\, Brookfield\, IL 60513
CATEGORIES:Music & Events
ATTACH;FMTTYPE=image/jpeg:https://pub78.com/wp-content/uploads/ed.jpg
END:VEVENT
BEGIN:VEVENT
DTSTART;TZID=America/Chicago:20240221T200000
DTEND;TZID=America/Chicago:20240221T230000
DTSTAMP:20260425T203656
CREATED:20240116T182358Z
LAST-MODIFIED:20240116T182358Z
UID:3789-1708545600-1708556400@pub78.com
SUMMARY:Open Mic Hosted by Kelly Ott
DESCRIPTION:House drum kit available
URL:https://pub78.com/event/open-mic-hosted-by-kelly-ott-154/
LOCATION:Pub 78: 3733 Grand Blvd\, Brookfield\, IL 60513
CATEGORIES:Music & Events
ATTACH;FMTTYPE=image/jpeg:https://pub78.com/wp-content/uploads/openmic-e1708019639280.jpg
END:VEVENT
BEGIN:VEVENT
DTSTART;TZID=America/Chicago:20240222T190000
DTEND;TZID=America/Chicago:20240222T190000
DTSTAMP:20260425T203656
CREATED:20240206T164327Z
LAST-MODIFIED:20240206T164327Z
UID:3797-1708628400-1708628400@pub78.com
SUMMARY:Singo!
DESCRIPTION:Prizes will be awarded to winners of each round
URL:https://pub78.com/event/singo-17/
LOCATION:Pub 78: 3733 Grand Blvd\, Brookfield\, IL 60513
CATEGORIES:Music & Events
ATTACH;FMTTYPE=image/png:https://pub78.com/wp-content/uploads/singo.png
END:VEVENT
BEGIN:VEVENT
DTSTART;TZID=America/Chicago:20240223T200000
DTEND;TZID=America/Chicago:20240223T200000
DTSTAMP:20260425T203656
CREATED:20240206T164649Z
LAST-MODIFIED:20240206T164649Z
UID:3799-1708718400-1708718400@pub78.com
SUMMARY:Live Music: Gotham Ramblers
DESCRIPTION:
URL:https://pub78.com/event/live-music-gotham-ramblers-3/
LOCATION:Pub 78: 3733 Grand Blvd\, Brookfield\, IL 60513
CATEGORIES:Music & Events
ATTACH;FMTTYPE=image/jpeg:https://pub78.com/wp-content/uploads/GR.jpg
END:VEVENT
BEGIN:VEVENT
DTSTART;TZID=America/Chicago:20240224T200000
DTEND;TZID=America/Chicago:20240224T200000
DTSTAMP:20260425T203656
CREATED:20240206T165336Z
LAST-MODIFIED:20240206T165336Z
UID:3802-1708804800-1708804800@pub78.com
SUMMARY:Live Music: Giggity 2.0
DESCRIPTION:
URL:https://pub78.com/event/live-music-giggity-2-0-2/
LOCATION:Pub 78: 3733 Grand Blvd\, Brookfield\, IL 60513
CATEGORIES:Music & Events
ATTACH;FMTTYPE=image/jpeg:https://pub78.com/wp-content/uploads/Giggity.jpg
END:VEVENT
BEGIN:VEVENT
DTSTART;TZID=America/Chicago:20240228T200000
DTEND;TZID=America/Chicago:20240228T230000
DTSTAMP:20260425T203656
CREATED:20240206T165548Z
LAST-MODIFIED:20240206T165548Z
UID:3806-1709150400-1709161200@pub78.com
SUMMARY:Open Mic Hosted by Kelly Ott
DESCRIPTION:House drum kit available
URL:https://pub78.com/event/open-mic-hosted-by-kelly-ott-155/
LOCATION:Pub 78: 3733 Grand Blvd\, Brookfield\, IL 60513
CATEGORIES:Music & Events
ATTACH;FMTTYPE=image/jpeg:https://pub78.com/wp-content/uploads/openmic-e1708019639280.jpg
END:VEVENT
BEGIN:VEVENT
DTSTART;TZID=America/Chicago:20240229T190000
DTEND;TZID=America/Chicago:20240229T190000
DTSTAMP:20260425T203656
CREATED:20240206T165649Z
LAST-MODIFIED:20240206T165649Z
UID:3808-1709233200-1709233200@pub78.com
SUMMARY:Singo!
DESCRIPTION:Prizes will be awarded to winners of each round
URL:https://pub78.com/event/singo-18/
LOCATION:Pub 78: 3733 Grand Blvd\, Brookfield\, IL 60513
CATEGORIES:Music & Events
ATTACH;FMTTYPE=image/png:https://pub78.com/wp-content/uploads/singo.png
END:VEVENT
END:VCALENDAR