BEGIN:VCALENDAR
VERSION:2.0
PRODID:-//Pub 78 - ECPv6.15.20//NONSGML v1.0//EN
CALSCALE:GREGORIAN
METHOD:PUBLISH
X-WR-CALNAME:Pub 78
X-ORIGINAL-URL:https://pub78.com
X-WR-CALDESC:Events for Pub 78
REFRESH-INTERVAL;VALUE=DURATION:PT1H
X-Robots-Tag:noindex
X-PUBLISHED-TTL:PT1H
BEGIN:VTIMEZONE
TZID:America/Chicago
BEGIN:DAYLIGHT
TZOFFSETFROM:-0600
TZOFFSETTO:-0500
TZNAME:CDT
DTSTART:20240310T080000
END:DAYLIGHT
BEGIN:STANDARD
TZOFFSETFROM:-0500
TZOFFSETTO:-0600
TZNAME:CST
DTSTART:20241103T070000
END:STANDARD
BEGIN:DAYLIGHT
TZOFFSETFROM:-0600
TZOFFSETTO:-0500
TZNAME:CDT
DTSTART:20250309T080000
END:DAYLIGHT
BEGIN:STANDARD
TZOFFSETFROM:-0500
TZOFFSETTO:-0600
TZNAME:CST
DTSTART:20251102T070000
END:STANDARD
BEGIN:DAYLIGHT
TZOFFSETFROM:-0600
TZOFFSETTO:-0500
TZNAME:CDT
DTSTART:20260308T080000
END:DAYLIGHT
BEGIN:STANDARD
TZOFFSETFROM:-0500
TZOFFSETTO:-0600
TZNAME:CST
DTSTART:20261101T070000
END:STANDARD
END:VTIMEZONE
BEGIN:VEVENT
DTSTART;TZID=America/Chicago:20250720T123000
DTEND;TZID=America/Chicago:20250720T123000
DTSTAMP:20260425T083526
CREATED:20250612T195537Z
LAST-MODIFIED:20250716T174742Z
UID:4768-1753014600-1753014600@pub78.com
SUMMARY:Pub Church
DESCRIPTION:Join us at Pub 78 with Pastor Craig and Every Day Grace band. All are welcome!
URL:https://pub78.com/event/pub-church-9/
LOCATION:Pub 78: 3733 Grand Blvd\, Brookfield\, IL 60513
CATEGORIES:Music & Events
ATTACH;FMTTYPE=image/png:https://pub78.com/wp-content/uploads/pub-chucrh-logo.png
END:VEVENT
BEGIN:VEVENT
DTSTART;TZID=America/Chicago:20250720T140000
DTEND;TZID=America/Chicago:20250720T170000
DTSTAMP:20260425T083526
CREATED:20250716T175115Z
LAST-MODIFIED:20250716T175115Z
UID:4813-1753020000-1753030800@pub78.com
SUMMARY:Don Dopka Solo Sounds
DESCRIPTION:Spend a Saturday afternoon with Don and his solo sounds.
URL:https://pub78.com/event/don-dopka-solo-sounds/
LOCATION:Pub 78: 3733 Grand Blvd\, Brookfield\, IL 60513
CATEGORIES:Music & Events
ATTACH;FMTTYPE=image/jpeg:https://pub78.com/wp-content/uploads/image0-12.jpeg
END:VEVENT
BEGIN:VEVENT
DTSTART;TZID=America/Chicago:20250723T200000
DTEND;TZID=America/Chicago:20250723T230000
DTSTAMP:20260425T083526
CREATED:20250624T151527Z
LAST-MODIFIED:20250624T151527Z
UID:4785-1753300800-1753311600@pub78.com
SUMMARY:Open Mic with Kelly Ott
DESCRIPTION:Join us on Wednesdays for Open Mic hosted by Kelly Ott! Come out and play solo or there is always someone to jam out with. If you don’t sing or play\, you can come out and watch local musicians/artists perform. Kelly runs sound and drum kit available. Kitchen open until 9pm!
URL:https://pub78.com/event/open-mic-with-kelly-ott-37/
LOCATION:Pub 78: 3733 Grand Blvd\, Brookfield\, IL 60513
CATEGORIES:Music & Events
ATTACH;FMTTYPE=image/jpeg:https://pub78.com/wp-content/uploads/Open-Mic-2.jpg
END:VEVENT
BEGIN:VEVENT
DTSTART;TZID=America/Chicago:20250724T190000
DTEND;TZID=America/Chicago:20250724T190000
DTSTAMP:20260425T083526
CREATED:20250624T152015Z
LAST-MODIFIED:20250624T152015Z
UID:4795-1753383600-1753383600@pub78.com
SUMMARY:Singo with Katie Redmond
DESCRIPTION:Singo is bingo with music! We drop beats not balls! You don’t have to sing but will find yourself singing along. We play three rounds that last about 45 minutes per rounds with breaks in between. You can get in on any round or play all three. Winners from each round can select a prize from the prize table. Kitchen is open until 9pm
URL:https://pub78.com/event/singo-with-katie-redmond-38/
LOCATION:Pub 78: 3733 Grand Blvd\, Brookfield\, IL 60513
CATEGORIES:Music & Events
ATTACH;FMTTYPE=image/jpeg:https://pub78.com/wp-content/uploads/Singo-1.jpg
END:VEVENT
BEGIN:VEVENT
DTSTART;TZID=America/Chicago:20250725T200000
DTEND;TZID=America/Chicago:20250725T230000
DTSTAMP:20260425T083526
CREATED:20250724T170751Z
LAST-MODIFIED:20250724T170751Z
UID:4817-1753473600-1753484400@pub78.com
SUMMARY:Crows On A Wire
DESCRIPTION:Crows on a Wire return to Pub 78’s stage playing 60-80’s funk\, blues & rock. Come out to great rock n roll at 8pm. Kitchen is open until 9pm on Friday night.
URL:https://pub78.com/event/crows-on-a-wire-3/
LOCATION:Pub 78: 3733 Grand Blvd\, Brookfield\, IL 60513
CATEGORIES:Music & Events
ATTACH;FMTTYPE=image/jpeg:https://pub78.com/wp-content/uploads/Crowsonawire.jpg
END:VEVENT
BEGIN:VEVENT
DTSTART;TZID=America/Chicago:20250726T200000
DTEND;TZID=America/Chicago:20250726T230000
DTSTAMP:20260425T083526
CREATED:20250724T170954Z
LAST-MODIFIED:20250724T171004Z
UID:4819-1753560000-1753570800@pub78.com
SUMMARY:GrassFed Collective
DESCRIPTION:Grass Fed Collective returns to Pub 78!
URL:https://pub78.com/event/grassfed-collective/
LOCATION:Pub 78: 3733 Grand Blvd\, Brookfield\, IL 60513
CATEGORIES:Music & Events
ATTACH;FMTTYPE=image/jpeg:https://pub78.com/wp-content/uploads/image0-9.jpeg
END:VEVENT
BEGIN:VEVENT
DTSTART;TZID=America/Chicago:20250730T200000
DTEND;TZID=America/Chicago:20250730T230000
DTSTAMP:20260425T083526
CREATED:20250624T151617Z
LAST-MODIFIED:20250624T151617Z
UID:4787-1753905600-1753916400@pub78.com
SUMMARY:Open Mic with Kelly Ott
DESCRIPTION:Join us on Wednesdays for Open Mic hosted by Kelly Ott! Come out and play solo or there is always someone to jam out with. If you don’t sing or play\, you can come out and watch local musicians/artists perform. Kelly runs sound and drum kit available. Kitchen open until 9pm!
URL:https://pub78.com/event/open-mic-with-kelly-ott-38/
LOCATION:Pub 78: 3733 Grand Blvd\, Brookfield\, IL 60513
CATEGORIES:Music & Events
ATTACH;FMTTYPE=image/jpeg:https://pub78.com/wp-content/uploads/Open-Mic-2.jpg
END:VEVENT
BEGIN:VEVENT
DTSTART;TZID=America/Chicago:20250731T190000
DTEND;TZID=America/Chicago:20250731T190000
DTSTAMP:20260425T083526
CREATED:20250624T152129Z
LAST-MODIFIED:20250624T152129Z
UID:4797-1753988400-1753988400@pub78.com
SUMMARY:Singo with Katie Redmond
DESCRIPTION:Singo is bingo with music! We drop beats not balls! You don’t have to sing but will find yourself singing along. We play three rounds that last about 45 minutes per rounds with breaks in between. You can get in on any round or play all three. Winners from each round can select a prize from the prize table. Kitchen is open until 9pm
URL:https://pub78.com/event/singo-with-katie-redmond-39/
LOCATION:Pub 78: 3733 Grand Blvd\, Brookfield\, IL 60513
CATEGORIES:Music & Events
ATTACH;FMTTYPE=image/jpeg:https://pub78.com/wp-content/uploads/Singo-1.jpg
END:VEVENT
BEGIN:VEVENT
DTSTART;TZID=America/Chicago:20250801T200000
DTEND;TZID=America/Chicago:20250801T230000
DTSTAMP:20260425T083526
CREATED:20250724T171322Z
LAST-MODIFIED:20250724T171322Z
UID:4822-1754078400-1754089200@pub78.com
SUMMARY:Smoke & Mirrors
DESCRIPTION:Smoke & Mirrors plays classic vinyl hits and rare gems you won’t hear anywhere else. Our line up of four well seasoned musicians include three gifted singers who masterfully deliver three part harmonies. We promise to take you on a musical journey.
URL:https://pub78.com/event/smoke-mirrors/
LOCATION:Pub 78: 3733 Grand Blvd\, Brookfield\, IL 60513
CATEGORIES:Music & Events
ATTACH;FMTTYPE=image/jpeg:https://pub78.com/wp-content/uploads/Smoke-and-Mirrors.jpg
END:VEVENT
BEGIN:VEVENT
DTSTART;TZID=America/Chicago:20250802T200000
DTEND;TZID=America/Chicago:20250802T230000
DTSTAMP:20260425T083526
CREATED:20250724T171515Z
LAST-MODIFIED:20250724T171515Z
UID:4825-1754164800-1754175600@pub78.com
SUMMARY:Radio Collective
DESCRIPTION:Radio Collective Band plays all of your classic rock\, pop and country hits!
URL:https://pub78.com/event/radio-collective/
LOCATION:Pub 78: 3733 Grand Blvd\, Brookfield\, IL 60513
CATEGORIES:Music & Events
ATTACH;FMTTYPE=image/jpeg:https://pub78.com/wp-content/uploads/Radio-Collective.jpg
END:VEVENT
BEGIN:VEVENT
DTSTART;TZID=America/Chicago:20250803T130000
DTEND;TZID=America/Chicago:20250803T130000
DTSTAMP:20260425T083526
CREATED:20250724T172825Z
LAST-MODIFIED:20250724T172825Z
UID:4842-1754226000-1754226000@pub78.com
SUMMARY:Faux Stained Glass
DESCRIPTION:Faux Stained Glass party!  Please RSVP
URL:https://pub78.com/event/faux-stained-glass/
LOCATION:Pub 78: 3733 Grand Blvd\, Brookfield\, IL 60513
CATEGORIES:Music & Events
ATTACH;FMTTYPE=image/jpeg:https://pub78.com/wp-content/uploads/Stained.jpg
END:VEVENT
BEGIN:VEVENT
DTSTART;TZID=America/Chicago:20250806T200000
DTEND;TZID=America/Chicago:20250806T230000
DTSTAMP:20260425T083526
CREATED:20250724T171656Z
LAST-MODIFIED:20250724T171656Z
UID:4828-1754510400-1754521200@pub78.com
SUMMARY:Open Mic with Kelly Ott
DESCRIPTION:Join us on Wednesdays for Open Mic hosted by Kelly Ott! Come out and play solo or there is always someone to jam out with. If you don’t sing or play\, you can come out and watch local musicians/artists perform. Kelly runs sound and drum kit available. Kitchen open until 9pm!
URL:https://pub78.com/event/open-mic-with-kelly-ott-39/
LOCATION:Pub 78: 3733 Grand Blvd\, Brookfield\, IL 60513
CATEGORIES:Music & Events
ATTACH;FMTTYPE=image/jpeg:https://pub78.com/wp-content/uploads/Open-Mic-2.jpg
END:VEVENT
BEGIN:VEVENT
DTSTART;TZID=America/Chicago:20250807T190000
DTEND;TZID=America/Chicago:20250807T190000
DTSTAMP:20260425T083526
CREATED:20250724T172322Z
LAST-MODIFIED:20250724T172322Z
UID:4836-1754593200-1754593200@pub78.com
SUMMARY:Singo! with Katie Redmond
DESCRIPTION:Singo is bingo with music! We drop beats not balls! You don’t have to sing but will find yourself singing along. We play three rounds that last about 45 minutes per rounds with breaks in between. You can get in on any round or play all three. Winners from each round can select a prize from the prize table. Kitchen is open until 9pm
URL:https://pub78.com/event/singo-with-katie-redmond-40/
LOCATION:Pub 78: 3733 Grand Blvd\, Brookfield\, IL 60513
CATEGORIES:Music & Events
ATTACH;FMTTYPE=image/jpeg:https://pub78.com/wp-content/uploads/Singo-1.jpg
END:VEVENT
BEGIN:VEVENT
DTSTART;TZID=America/Chicago:20250808T200000
DTEND;TZID=America/Chicago:20250808T230000
DTSTAMP:20260425T083526
CREATED:20250724T172957Z
LAST-MODIFIED:20250724T172957Z
UID:4845-1754683200-1754694000@pub78.com
SUMMARY:The Neighborhood
DESCRIPTION:Local Neighborhood Blues\, Rock & Outlaw Country Band
URL:https://pub78.com/event/the-neighborhood-7/
LOCATION:Pub 78: 3733 Grand Blvd\, Brookfield\, IL 60513
CATEGORIES:Music & Events
ATTACH;FMTTYPE=image/jpeg:https://pub78.com/wp-content/uploads/The-Neighboor-logo-1.jpg
END:VEVENT
BEGIN:VEVENT
DTSTART;TZID=America/Chicago:20250809T200000
DTEND;TZID=America/Chicago:20250809T230000
DTSTAMP:20260425T083526
CREATED:20250724T173159Z
LAST-MODIFIED:20250724T173159Z
UID:4847-1754769600-1754780400@pub78.com
SUMMARY:Woody's Revenge
DESCRIPTION:Good Old Fashion American Rock & Roll.
URL:https://pub78.com/event/woodys-revenge/
LOCATION:Pub 78: 3733 Grand Blvd\, Brookfield\, IL 60513
CATEGORIES:Music & Events
ATTACH;FMTTYPE=image/jpeg:https://pub78.com/wp-content/uploads/woodys.jpg
END:VEVENT
BEGIN:VEVENT
DTSTART;TZID=America/Chicago:20250813T200000
DTEND;TZID=America/Chicago:20250813T230000
DTSTAMP:20260425T083526
CREATED:20250724T171929Z
LAST-MODIFIED:20250724T171929Z
UID:4830-1755115200-1755126000@pub78.com
SUMMARY:Open Mic with Kelly Ott
DESCRIPTION:Join us on Wednesdays for Open Mic hosted by Kelly Ott! Come out and play solo or there is always someone to jam out with. If you don’t sing or play\, you can come out and watch local musicians/artists perform. Kelly runs sound and drum kit available. Kitchen open until 9pm!
URL:https://pub78.com/event/open-mic-with-kelly-ott-40/
LOCATION:Pub 78: 3733 Grand Blvd\, Brookfield\, IL 60513
CATEGORIES:Music & Events
ATTACH;FMTTYPE=image/jpeg:https://pub78.com/wp-content/uploads/Open-Mic-2.jpg
END:VEVENT
BEGIN:VEVENT
DTSTART;TZID=America/Chicago:20250814T190000
DTEND;TZID=America/Chicago:20250814T190000
DTSTAMP:20260425T083526
CREATED:20250724T172453Z
LAST-MODIFIED:20250724T172453Z
UID:4838-1755198000-1755198000@pub78.com
SUMMARY:Singo! with Katie Redmond
DESCRIPTION:Singo is bingo with music! We drop beats not balls! You don’t have to sing but will find yourself singing along. We play three rounds that last about 45 minutes per rounds with breaks in between. You can get in on any round or play all three. Winners from each round can select a prize from the prize table. Kitchen is open until 9pm
URL:https://pub78.com/event/singo-with-katie-redmond-41/
LOCATION:Pub 78: 3733 Grand Blvd\, Brookfield\, IL 60513
CATEGORIES:Music & Events
ATTACH;FMTTYPE=image/jpeg:https://pub78.com/wp-content/uploads/Singo-1.jpg
END:VEVENT
BEGIN:VEVENT
DTSTART;TZID=America/Chicago:20250815T200000
DTEND;TZID=America/Chicago:20250815T230000
DTSTAMP:20260425T083526
CREATED:20250724T173325Z
LAST-MODIFIED:20250724T173325Z
UID:4850-1755288000-1755298800@pub78.com
SUMMARY:The Telltale Hearts
DESCRIPTION:A rock\, pop\, classic country and rockabilly band.
URL:https://pub78.com/event/the-telltale-hearts-4/
LOCATION:Pub 78: 3733 Grand Blvd\, Brookfield\, IL 60513
CATEGORIES:Music & Events
ATTACH;FMTTYPE=image/png:https://pub78.com/wp-content/uploads/TTH.png
END:VEVENT
BEGIN:VEVENT
DTSTART;TZID=America/Chicago:20250816T200000
DTEND;TZID=America/Chicago:20250816T230000
DTSTAMP:20260425T083526
CREATED:20250724T173440Z
LAST-MODIFIED:20250724T173440Z
UID:4852-1755374400-1755385200@pub78.com
SUMMARY:Harlem Avenue Express
DESCRIPTION:Harlem Avenue Express returns to Pub 78!
URL:https://pub78.com/event/harlem-avenue-express-2/
LOCATION:Pub 78: 3733 Grand Blvd\, Brookfield\, IL 60513
CATEGORIES:Music & Events
ATTACH;FMTTYPE=image/jpeg:https://pub78.com/wp-content/uploads/Harlem-Ave.jpg
END:VEVENT
BEGIN:VEVENT
DTSTART;TZID=America/Chicago:20250817T120000
DTEND;TZID=America/Chicago:20250817T130000
DTSTAMP:20260425T083526
CREATED:20250817T160829Z
LAST-MODIFIED:20250817T160829Z
UID:4866-1755432000-1755435600@pub78.com
SUMMARY:Pub Church
DESCRIPTION:Join us at Pub 78 with Pastor Craig and Every Day Grace band. All are welcome!
URL:https://pub78.com/event/pub-church-10/
LOCATION:Pub 78: 3733 Grand Blvd\, Brookfield\, IL 60513
CATEGORIES:Music & Events
ATTACH;FMTTYPE=image/png:https://pub78.com/wp-content/uploads/pub-chucrh-logo.png
END:VEVENT
BEGIN:VEVENT
DTSTART;TZID=America/Chicago:20250820T200000
DTEND;TZID=America/Chicago:20250820T230000
DTSTAMP:20260425T083526
CREATED:20250724T172038Z
LAST-MODIFIED:20250724T172038Z
UID:4832-1755720000-1755730800@pub78.com
SUMMARY:Open Mic with Kelly Ott
DESCRIPTION:Join us on Wednesdays for Open Mic hosted by Kelly Ott! Come out and play solo or there is always someone to jam out with. If you don’t sing or play\, you can come out and watch local musicians/artists perform. Kelly runs sound and drum kit available. Kitchen open until 9pm!
URL:https://pub78.com/event/open-mic-with-kelly-ott-41/
LOCATION:Pub 78: 3733 Grand Blvd\, Brookfield\, IL 60513
CATEGORIES:Music & Events
ATTACH;FMTTYPE=image/jpeg:https://pub78.com/wp-content/uploads/Open-Mic-2.jpg
END:VEVENT
BEGIN:VEVENT
DTSTART;TZID=America/Chicago:20250821T190000
DTEND;TZID=America/Chicago:20250821T190000
DTSTAMP:20260425T083526
CREATED:20250806T220247Z
LAST-MODIFIED:20250806T220247Z
UID:4854-1755802800-1755802800@pub78.com
SUMMARY:Singo! with Katie Redmond
DESCRIPTION:Singo is bingo with music! We drop beats not balls! You don’t have to sing but will find yourself singing along. We play three rounds that last about 45 minutes per rounds with breaks in between. You can get in on any round or play all three. Winners from each round can select a prize from the prize table. Kitchen is open until 9pm
URL:https://pub78.com/event/singo-with-katie-redmond-43/
LOCATION:Pub 78: 3733 Grand Blvd\, Brookfield\, IL 60513
CATEGORIES:Music & Events
ATTACH;FMTTYPE=image/jpeg:https://pub78.com/wp-content/uploads/Singo-1.jpg
END:VEVENT
BEGIN:VEVENT
DTSTART;TZID=America/Chicago:20250822T200000
DTEND;TZID=America/Chicago:20250822T230000
DTSTAMP:20260425T083526
CREATED:20250806T221719Z
LAST-MODIFIED:20250806T221719Z
UID:4860-1755892800-1755903600@pub78.com
SUMMARY:Gotham Ramblers
DESCRIPTION:Gotham Ramblers return to Pub 78!
URL:https://pub78.com/event/gotham-ramblers-2/
LOCATION:Pub 78: 3733 Grand Blvd\, Brookfield\, IL 60513
CATEGORIES:Music & Events
ATTACH;FMTTYPE=image/jpeg:https://pub78.com/wp-content/uploads/gotham.jpg
END:VEVENT
BEGIN:VEVENT
DTSTART;TZID=America/Chicago:20250823T200000
DTEND;TZID=America/Chicago:20250823T230000
DTSTAMP:20260425T083526
CREATED:20250806T222401Z
LAST-MODIFIED:20250806T222401Z
UID:4862-1755979200-1755990000@pub78.com
SUMMARY:3 Piece and a Biscuit
DESCRIPTION:3 Piece and a Biscuit returns to Pub 78!
URL:https://pub78.com/event/3-piece-and-a-biscuit/
LOCATION:Pub 78: 3733 Grand Blvd\, Brookfield\, IL 60513
CATEGORIES:Music & Events
ATTACH;FMTTYPE=image/jpeg:https://pub78.com/wp-content/uploads/3-peice.jpg
END:VEVENT
BEGIN:VEVENT
DTSTART;TZID=America/Chicago:20250827T200000
DTEND;TZID=America/Chicago:20250827T230000
DTSTAMP:20260425T083526
CREATED:20250724T172140Z
LAST-MODIFIED:20250724T172140Z
UID:4834-1756324800-1756335600@pub78.com
SUMMARY:Open Mic with Kelly Ott
DESCRIPTION:Join us on Wednesdays for Open Mic hosted by Kelly Ott! Come out and play solo or there is always someone to jam out with. If you don’t sing or play\, you can come out and watch local musicians/artists perform. Kelly runs sound and drum kit available. Kitchen open until 9pm!
URL:https://pub78.com/event/open-mic-with-kelly-ott-42/
CATEGORIES:Music & Events
ATTACH;FMTTYPE=image/jpeg:https://pub78.com/wp-content/uploads/Open-Mic-2.jpg
END:VEVENT
BEGIN:VEVENT
DTSTART;TZID=America/Chicago:20250828T190000
DTEND;TZID=America/Chicago:20250828T190000
DTSTAMP:20260425T083526
CREATED:20250724T172615Z
LAST-MODIFIED:20250724T172615Z
UID:4840-1756407600-1756407600@pub78.com
SUMMARY:Singo! with Katie Redmond
DESCRIPTION:Singo is bingo with music! We drop beats not balls! You don’t have to sing but will find yourself singing along. We play three rounds that last about 45 minutes per rounds with breaks in between. You can get in on any round or play all three. Winners from each round can select a prize from the prize table. Kitchen is open until 9pm
URL:https://pub78.com/event/singo-with-katie-redmond-42/
LOCATION:Pub 78: 3733 Grand Blvd\, Brookfield\, IL 60513
CATEGORIES:Music & Events
ATTACH;FMTTYPE=image/jpeg:https://pub78.com/wp-content/uploads/Singo-1.jpg
END:VEVENT
BEGIN:VEVENT
DTSTART;TZID=America/Chicago:20250829T200000
DTEND;TZID=America/Chicago:20250829T230000
DTSTAMP:20260425T083526
CREATED:20250806T221101Z
LAST-MODIFIED:20250812T151415Z
UID:4856-1756497600-1756508400@pub78.com
SUMMARY:Buckwild
DESCRIPTION:Come out a litte bit of country and a little bit of rock!
URL:https://pub78.com/event/buckwild-2/
LOCATION:Pub 78: 3733 Grand Blvd\, Brookfield\, IL 60513
CATEGORIES:Music & Events
ATTACH;FMTTYPE=image/jpeg:https://pub78.com/wp-content/uploads/buckwild-1.jpg
END:VEVENT
BEGIN:VEVENT
DTSTART;TZID=America/Chicago:20250903T200000
DTEND;TZID=America/Chicago:20250903T230000
DTSTAMP:20260425T083526
CREATED:20250817T161045Z
LAST-MODIFIED:20250817T161045Z
UID:4868-1756929600-1756940400@pub78.com
SUMMARY:Open Mic with Kelly Ott
DESCRIPTION:Join us on Wednesdays for Open Mic hosted by Kelly Ott! Come out and play solo or there is always someone to jam out with. If you don’t sing or play\, you can come out and watch local musicians/artists perform. Kelly runs sound and drum kit available. Kitchen open until 9pm!
URL:https://pub78.com/event/open-mic-with-kelly-ott-43/
LOCATION:Pub 78: 3733 Grand Blvd\, Brookfield\, IL 60513
CATEGORIES:Music & Events
ATTACH;FMTTYPE=image/jpeg:https://pub78.com/wp-content/uploads/Open-Mic-2.jpg
END:VEVENT
BEGIN:VEVENT
DTSTART;TZID=America/Chicago:20250904T190000
DTEND;TZID=America/Chicago:20250904T190000
DTSTAMP:20260425T083526
CREATED:20250826T151733Z
LAST-MODIFIED:20250826T151733Z
UID:4876-1757012400-1757012400@pub78.com
SUMMARY:Singo with Katie Redmond
DESCRIPTION:Singo is bingo with music! We drop beats not balls! You don’t have to sing but will find yourself singing along. We play three rounds that last about 45 minutes per rounds with breaks in between. You can get in on any round or play all three. Winners from each round can select a prize from the prize table. Kitchen is open until 9pm
URL:https://pub78.com/event/singo-with-katie-redmond-44/
LOCATION:Pub 78: 3733 Grand Blvd\, Brookfield\, IL 60513
CATEGORIES:Music & Events
ATTACH;FMTTYPE=image/jpeg:https://pub78.com/wp-content/uploads/Singo-1.jpg
END:VEVENT
BEGIN:VEVENT
DTSTART;TZID=America/Chicago:20250905T200000
DTEND;TZID=America/Chicago:20250905T230000
DTSTAMP:20260425T083526
CREATED:20250826T152400Z
LAST-MODIFIED:20250826T152400Z
UID:4886-1757102400-1757113200@pub78.com
SUMMARY:The Jakob Welch Trio
DESCRIPTION:You don’t want to miss this. This is the start of something big. We’re burning it down September 5th! 🤘
URL:https://pub78.com/event/the-jakob-welch-trio/
LOCATION:Pub 78: 3733 Grand Blvd\, Brookfield\, IL 60513
ATTACH;FMTTYPE=image/jpeg:https://pub78.com/wp-content/uploads/Jakob.jpg
END:VEVENT
END:VCALENDAR