BEGIN:VCALENDAR
VERSION:2.0
PRODID:-//Pub 78 - ECPv6.15.20//NONSGML v1.0//EN
CALSCALE:GREGORIAN
METHOD:PUBLISH
X-ORIGINAL-URL:https://pub78.com
X-WR-CALDESC:Events for Pub 78
REFRESH-INTERVAL;VALUE=DURATION:PT1H
X-Robots-Tag:noindex
X-PUBLISHED-TTL:PT1H
BEGIN:VTIMEZONE
TZID:America/Chicago
BEGIN:DAYLIGHT
TZOFFSETFROM:-0600
TZOFFSETTO:-0500
TZNAME:CDT
DTSTART:20250309T080000
END:DAYLIGHT
BEGIN:STANDARD
TZOFFSETFROM:-0500
TZOFFSETTO:-0600
TZNAME:CST
DTSTART:20251102T070000
END:STANDARD
BEGIN:DAYLIGHT
TZOFFSETFROM:-0600
TZOFFSETTO:-0500
TZNAME:CDT
DTSTART:20260308T080000
END:DAYLIGHT
BEGIN:STANDARD
TZOFFSETFROM:-0500
TZOFFSETTO:-0600
TZNAME:CST
DTSTART:20261101T070000
END:STANDARD
BEGIN:DAYLIGHT
TZOFFSETFROM:-0600
TZOFFSETTO:-0500
TZNAME:CDT
DTSTART:20270314T080000
END:DAYLIGHT
BEGIN:STANDARD
TZOFFSETFROM:-0500
TZOFFSETTO:-0600
TZNAME:CST
DTSTART:20271107T070000
END:STANDARD
END:VTIMEZONE
BEGIN:VEVENT
DTSTART;TZID=America/Chicago:20260417T200000
DTEND;TZID=America/Chicago:20260417T230000
DTSTAMP:20260423T173035
CREATED:20260410T174754Z
LAST-MODIFIED:20260415T192120Z
UID:5286-1776456000-1776466800@pub78.com
SUMMARY:Trailer Park Twisters
DESCRIPTION:5 guys and a gal who love country music and twangy rock\, covering your favorite tunes from the 60s through today.\\TPT will be back at the Pub on Friday April 17. Always a fun time! Great drinks and food\, and of course our signature brand of good old country music and twangy rock. Come on out and join us!
URL:https://pub78.com/event/trailer-park-twisters-6/
LOCATION:Pub 78: 3733 Grand Blvd\, Brookfield\, IL 60513
CATEGORIES:Music & Events
ATTACH;FMTTYPE=image/png:https://pub78.com/wp-content/uploads/Add-a-subheading-5.png
END:VEVENT
BEGIN:VEVENT
DTSTART;TZID=America/Chicago:20260418T200000
DTEND;TZID=America/Chicago:20260418T230000
DTSTAMP:20260423T173035
CREATED:20260410T175033Z
LAST-MODIFIED:20260415T192750Z
UID:5288-1776542400-1776553200@pub78.com
SUMMARY:The PriSSillas
DESCRIPTION:The PriSSillas are one of the hottest ‘Classy Rock’ bands in the Chicagoland area\, connecting music from a long list of iconic classic\, modern and alternative artists. Their setlist is packed with something for everyone from Led Zeppelin to Green Day\, Dolly Parton to White Stripes\, to the Kinks to the Doobie Brothers\, Pearl Jam to Harry Stiles and much more\, including medleys you won’t hear elsewhere.
URL:https://pub78.com/event/the-prissillas-4/
LOCATION:Pub 78: 3733 Grand Blvd\, Brookfield\, IL 60513
CATEGORIES:Music & Events
ATTACH;FMTTYPE=image/webp:https://pub78.com/wp-content/uploads/Prisillas0426.webp
END:VEVENT
BEGIN:VEVENT
DTSTART;TZID=America/Chicago:20260419T123000
DTEND;TZID=America/Chicago:20260419T123000
DTSTAMP:20260423T173035
CREATED:20260414T154743Z
LAST-MODIFIED:20260414T154743Z
UID:5307-1776601800-1776601800@pub78.com
SUMMARY:Pub Church
DESCRIPTION:Join us at Pub 78 with Pastor Craig and Every Day Grace band. All are welcome!
URL:https://pub78.com/event/pub-church-14/
LOCATION:Pub 78: 3733 Grand Blvd\, Brookfield\, IL 60513
CATEGORIES:Music & Events
END:VEVENT
BEGIN:VEVENT
DTSTART;TZID=America/Chicago:20260419T140000
DTEND;TZID=America/Chicago:20260419T140000
DTSTAMP:20260423T173035
CREATED:20260414T162302Z
LAST-MODIFIED:20260416T152414Z
UID:5309-1776607200-1776607200@pub78.com
SUMMARY:Live Music: Group Therapy
DESCRIPTION:
URL:https://pub78.com/event/live-music-group-therapy/
LOCATION:Pub 78: 3733 Grand Blvd\, Brookfield\, IL 60513
CATEGORIES:Music & Events
ATTACH;FMTTYPE=image/jpeg:https://pub78.com/wp-content/uploads/gt.jpg
END:VEVENT
BEGIN:VEVENT
DTSTART;TZID=America/Chicago:20260422T200000
DTEND;TZID=America/Chicago:20260422T230000
DTSTAMP:20260423T173035
CREATED:20260324T191209Z
LAST-MODIFIED:20260324T191209Z
UID:5261-1776888000-1776898800@pub78.com
SUMMARY:Open Mic/Jam with Alex Hamer
DESCRIPTION:Come out to open mic and jam! Or come out to just enjoy some great local musicians! Kitchen open until 9pm! House drum kit available. Sign up sheet gets set out after 7pm.
URL:https://pub78.com/event/open-mic-jam-with-alex-hamer-22/
LOCATION:Pub 78: 3733 Grand Blvd\, Brookfield\, IL 60513
CATEGORIES:Music & Events
ATTACH;FMTTYPE=image/jpeg:https://pub78.com/wp-content/uploads/open-mic-alex.jpg
END:VEVENT
BEGIN:VEVENT
DTSTART;TZID=America/Chicago:20260423T190000
DTEND;TZID=America/Chicago:20260423T190000
DTSTAMP:20260423T173035
CREATED:20260324T192314Z
LAST-MODIFIED:20260324T192314Z
UID:5269-1776970800-1776970800@pub78.com
SUMMARY:SINGO WITH KATIE REDMOND
DESCRIPTION:Singo is bingo with music! We drop beats not balls! You don’t have to sing but will find yourself singing along. We play three rounds that last about 45 minutes per rounds with breaks in between. You can get in on any round or play all three. Winners from each round can select a prize from the prize table. Kitchen is open until 9pm
URL:https://pub78.com/event/singo-with-katie-redmond-75/
LOCATION:Pub 78: 3733 Grand Blvd\, Brookfield\, IL 60513
CATEGORIES:Music & Events
ATTACH;FMTTYPE=image/jpeg:https://pub78.com/wp-content/uploads/Singo-1.jpg
END:VEVENT
BEGIN:VEVENT
DTSTART;TZID=America/Chicago:20260424T200000
DTEND;TZID=America/Chicago:20260424T230000
DTSTAMP:20260423T173035
CREATED:20260410T175919Z
LAST-MODIFIED:20260410T175919Z
UID:5291-1777060800-1777071600@pub78.com
SUMMARY:Billy Gray Music Band
DESCRIPTION:
URL:https://pub78.com/event/billy-gray-music-band/
LOCATION:Pub 78: 3733 Grand Blvd\, Brookfield\, IL 60513
CATEGORIES:Music & Events
ATTACH;FMTTYPE=image/jpeg:https://pub78.com/wp-content/uploads/bg-2.jpg
END:VEVENT
BEGIN:VEVENT
DTSTART;TZID=America/Chicago:20260425T200000
DTEND;TZID=America/Chicago:20260425T200000
DTSTAMP:20260423T173035
CREATED:20260411T165733Z
LAST-MODIFIED:20260411T165733Z
UID:5294-1777147200-1777147200@pub78.com
SUMMARY:Live Music: Tours
DESCRIPTION:Alternative rock band
URL:https://pub78.com/event/live-music-tours/
LOCATION:Pub 78: 3733 Grand Blvd\, Brookfield\, IL 60513
CATEGORIES:Music & Events
ATTACH;FMTTYPE=image/jpeg:https://pub78.com/wp-content/uploads/tours.jpg
END:VEVENT
BEGIN:VEVENT
DTSTART;TZID=America/Chicago:20260425T213000
DTEND;TZID=America/Chicago:20260425T213000
DTSTAMP:20260423T173035
CREATED:20260411T170040Z
LAST-MODIFIED:20260411T170040Z
UID:5297-1777152600-1777152600@pub78.com
SUMMARY:Live Music: Pink Raspberry Cats
DESCRIPTION:Pink Raspberry Cats (“PRC”) is an original Instrumental Funk Band out of Chicago.
URL:https://pub78.com/event/live-music-pink-raspberry-cats/
LOCATION:Pub 78: 3733 Grand Blvd\, Brookfield\, IL 60513
CATEGORIES:Music & Events
ATTACH;FMTTYPE=image/png:https://pub78.com/wp-content/uploads/prc.png
END:VEVENT
BEGIN:VEVENT
DTSTART;TZID=America/Chicago:20260429T200000
DTEND;TZID=America/Chicago:20260429T230000
DTSTAMP:20260423T173035
CREATED:20260324T191318Z
LAST-MODIFIED:20260324T191318Z
UID:5263-1777492800-1777503600@pub78.com
SUMMARY:Open Mic/Jam with Alex Hamer
DESCRIPTION:Come out to open mic and jam! Or come out to just enjoy some great local musicians! Kitchen open until 9pm! House drum kit available. Sign up sheet gets set out after 7pm.
URL:https://pub78.com/event/open-mic-jam-with-alex-hamer-23/
LOCATION:Pub 78: 3733 Grand Blvd\, Brookfield\, IL 60513
CATEGORIES:Music & Events
ATTACH;FMTTYPE=image/jpeg:https://pub78.com/wp-content/uploads/open-mic-alex.jpg
END:VEVENT
BEGIN:VEVENT
DTSTART;TZID=America/Chicago:20260430T190000
DTEND;TZID=America/Chicago:20260430T190000
DTSTAMP:20260423T173035
CREATED:20260324T192413Z
LAST-MODIFIED:20260324T192413Z
UID:5271-1777575600-1777575600@pub78.com
SUMMARY:SINGO WITH KATIE REDMOND
DESCRIPTION:Singo is bingo with music! We drop beats not balls! You don’t have to sing but will find yourself singing along. We play three rounds that last about 45 minutes per rounds with breaks in between. You can get in on any round or play all three. Winners from each round can select a prize from the prize table. Kitchen is open until 9pm
URL:https://pub78.com/event/singo-with-katie-redmond-76/
LOCATION:Pub 78: 3733 Grand Blvd\, Brookfield\, IL 60513
CATEGORIES:Music & Events
ATTACH;FMTTYPE=image/jpeg:https://pub78.com/wp-content/uploads/Singo-1.jpg
END:VEVENT
BEGIN:VEVENT
DTSTART;TZID=America/Chicago:20260501T200000
DTEND;TZID=America/Chicago:20260501T230000
DTSTAMP:20260423T173035
CREATED:20260421T175429Z
LAST-MODIFIED:20260421T175429Z
UID:5352-1777665600-1777676400@pub78.com
SUMMARY:The Jolly Ringwalds
DESCRIPTION:Come back to the 80’s with The Jolly Ringwalds playing at Pub 78! The kitchen is open until 9pm.
URL:https://pub78.com/event/the-jolly-ringwalds-5/
LOCATION:Pub 78: 3733 Grand Blvd\, Brookfield\, IL 60513
CATEGORIES:Music & Events
ATTACH;FMTTYPE=image/jpeg:https://pub78.com/wp-content/uploads/jr-1.jpg
END:VEVENT
BEGIN:VEVENT
DTSTART;TZID=America/Chicago:20260502T200000
DTEND;TZID=America/Chicago:20260502T230000
DTSTAMP:20260423T173035
CREATED:20260411T170629Z
LAST-MODIFIED:20260411T170629Z
UID:5303-1777752000-1777762800@pub78.com
SUMMARY:That's My Jam!
DESCRIPTION:Chicago’s Favorite Party Band!
URL:https://pub78.com/event/thats-my-jam-3/
LOCATION:Pub 78: 3733 Grand Blvd\, Brookfield\, IL 60513
CATEGORIES:Music & Events
ATTACH;FMTTYPE=image/jpeg:https://pub78.com/wp-content/uploads/tmj.jpg
END:VEVENT
BEGIN:VEVENT
DTSTART;TZID=America/Chicago:20260506T200000
DTEND;TZID=America/Chicago:20260506T230000
DTSTAMP:20260423T173035
CREATED:20260418T160315Z
LAST-MODIFIED:20260418T160315Z
UID:5332-1778097600-1778108400@pub78.com
SUMMARY:Open Mic/Jam with Alex Hamer
DESCRIPTION:Come out to open mic and jam! Or come out to just enjoy some great local musicians! Kitchen open until 9pm! House drum kit available. Sign up sheet gets set out after 7pm.
URL:https://pub78.com/event/open-mic-jam-with-alex-hamer-20/
LOCATION:Pub 78: 3733 Grand Blvd\, Brookfield\, IL 60513
CATEGORIES:Music & Events
ATTACH;FMTTYPE=image/png:https://pub78.com/wp-content/uploads/Alex-Hamer-1.png
END:VEVENT
BEGIN:VEVENT
DTSTART;TZID=America/Chicago:20260507T190000
DTEND;TZID=America/Chicago:20260507T190000
DTSTAMP:20260423T173035
CREATED:20260418T161016Z
LAST-MODIFIED:20260418T161016Z
UID:5344-1778180400-1778180400@pub78.com
SUMMARY:SINGO WITH KATIE REDMOND
DESCRIPTION:Singo is bingo with music! We drop beats not balls! You don’t have to sing but will find yourself singing along. We play three rounds that last about 45 minutes per rounds with breaks in between. You can get in on any round or play all three. Winners from each round can select a prize from the prize table. Kitchen is open until 9pm
URL:https://pub78.com/event/singo-with-katie-redmond-78/
LOCATION:Pub 78: 3733 Grand Blvd\, Brookfield\, IL 60513
CATEGORIES:Music & Events
ATTACH;FMTTYPE=image/jpeg:https://pub78.com/wp-content/uploads/Singo-1.jpg
END:VEVENT
BEGIN:VEVENT
DTSTART;TZID=America/Chicago:20260508T200000
DTEND;TZID=America/Chicago:20260508T230000
DTSTAMP:20260423T173035
CREATED:20260418T154833Z
LAST-MODIFIED:20260418T155241Z
UID:5316-1778270400-1778281200@pub78.com
SUMMARY:Brohirrim
DESCRIPTION:
URL:https://pub78.com/event/live-music-brohirrim-9/
LOCATION:Pub 78: 3733 Grand Blvd\, Brookfield\, IL 60513
CATEGORIES:Music & Events
END:VEVENT
BEGIN:VEVENT
DTSTART;TZID=America/Chicago:20260509T200000
DTEND;TZID=America/Chicago:20260509T230000
DTSTAMP:20260423T173035
CREATED:20260418T155020Z
LAST-MODIFIED:20260418T155228Z
UID:5318-1778356800-1778367600@pub78.com
SUMMARY:Exhale
DESCRIPTION:New wave & Alt Rock ClassicsFrom the 80’s 90’s & now
URL:https://pub78.com/event/live-music-exhale/
LOCATION:Pub 78: 3733 Grand Blvd\, Brookfield\, IL 60513
CATEGORIES:Music & Events
ATTACH;FMTTYPE=image/jpeg:https://pub78.com/wp-content/uploads/exhale-2.jpg
END:VEVENT
BEGIN:VEVENT
DTSTART;TZID=America/Chicago:20260513T200000
DTEND;TZID=America/Chicago:20260513T230000
DTSTAMP:20260423T173035
CREATED:20260418T160449Z
LAST-MODIFIED:20260418T160631Z
UID:5334-1778702400-1778713200@pub78.com
SUMMARY:Open Mic/Jam with Alex Hamer
DESCRIPTION:Come out to open mic and jam! Or come out to just enjoy some great local musicians! Kitchen open until 9pm! House drum kit available. Sign up sheet available after 7pm.
URL:https://pub78.com/event/open-mic-jam-with-alex-hamer-24/
LOCATION:Pub 78: 3733 Grand Blvd\, Brookfield\, IL 60513
CATEGORIES:Music & Events
ATTACH;FMTTYPE=image/png:https://pub78.com/wp-content/uploads/Alex-Hamer-1.png
END:VEVENT
BEGIN:VEVENT
DTSTART;TZID=America/Chicago:20260514T190000
DTEND;TZID=America/Chicago:20260514T190000
DTSTAMP:20260423T173035
CREATED:20260418T160904Z
LAST-MODIFIED:20260418T160904Z
UID:5342-1778785200-1778785200@pub78.com
SUMMARY:SINGO WITH KATIE REDMOND
DESCRIPTION:Singo is bingo with music! We drop beats not balls! You don’t have to sing but will find yourself singing along. We play three rounds that last about 45 minutes per rounds with breaks in between. You can get in on any round or play all three. Winners from each round can select a prize from the prize table. Kitchen is open until 9pm
URL:https://pub78.com/event/singo-with-katie-redmond-77/
LOCATION:Pub 78: 3733 Grand Blvd\, Brookfield\, IL 60513
CATEGORIES:Music & Events
ATTACH;FMTTYPE=image/jpeg:https://pub78.com/wp-content/uploads/Singo-1.jpg
END:VEVENT
BEGIN:VEVENT
DTSTART;TZID=America/Chicago:20260515T200000
DTEND;TZID=America/Chicago:20260515T230000
DTSTAMP:20260423T173035
CREATED:20260418T155522Z
LAST-MODIFIED:20260418T155522Z
UID:5325-1778875200-1778886000@pub78.com
SUMMARY:August James
DESCRIPTION:
URL:https://pub78.com/event/august-james-2/
LOCATION:Pub 78: 3733 Grand Blvd\, Brookfield\, IL 60513
CATEGORIES:Music & Events
END:VEVENT
BEGIN:VEVENT
DTSTART;TZID=America/Chicago:20260516T200000
DTEND;TZID=America/Chicago:20260516T230000
DTSTAMP:20260423T173035
CREATED:20260418T155907Z
LAST-MODIFIED:20260418T155907Z
UID:5327-1778961600-1778972400@pub78.com
SUMMARY:Meritage Band
DESCRIPTION:
URL:https://pub78.com/event/meritage-band/
LOCATION:Pub 78: 3733 Grand Blvd\, Brookfield\, IL 60513
CATEGORIES:Music & Events
ATTACH;FMTTYPE=image/jpeg:https://pub78.com/wp-content/uploads/meritage-1.jpg
END:VEVENT
BEGIN:VEVENT
DTSTART;TZID=America/Chicago:20260517T123000
DTEND;TZID=America/Chicago:20260517T123000
DTSTAMP:20260423T173035
CREATED:20260418T160104Z
LAST-MODIFIED:20260418T160104Z
UID:5330-1779021000-1779021000@pub78.com
SUMMARY:Pub Church
DESCRIPTION:Join us at Pub 78 with Pastor Craig and Every Day Grace band. All are welcome!
URL:https://pub78.com/event/pub-church-15/
LOCATION:Pub 78: 3733 Grand Blvd\, Brookfield\, IL 60513
CATEGORIES:Music & Events
ATTACH;FMTTYPE=image/jpeg:https://pub78.com/wp-content/uploads/pub-church-scaled.jpg
END:VEVENT
BEGIN:VEVENT
DTSTART;TZID=America/Chicago:20260520T200000
DTEND;TZID=America/Chicago:20260520T230000
DTSTAMP:20260423T173035
CREATED:20260418T160549Z
LAST-MODIFIED:20260418T160610Z
UID:5336-1779307200-1779318000@pub78.com
SUMMARY:Open Mic/Jam with Alex Hamer
DESCRIPTION:Come out to open mic and jam! Or come out to just enjoy some great local musicians! Kitchen open until 9pm! House drum kit available. Sign up sheet available after 7pm.
URL:https://pub78.com/event/open-mic-jam-with-alex-hamer-25/
LOCATION:Pub 78: 3733 Grand Blvd\, Brookfield\, IL 60513
CATEGORIES:Music & Events
ATTACH;FMTTYPE=image/png:https://pub78.com/wp-content/uploads/Alex-Hamer-1.png
END:VEVENT
BEGIN:VEVENT
DTSTART;TZID=America/Chicago:20260521T190000
DTEND;TZID=America/Chicago:20260521T190000
DTSTAMP:20260423T173035
CREATED:20260418T161111Z
LAST-MODIFIED:20260418T161111Z
UID:5346-1779390000-1779390000@pub78.com
SUMMARY:SINGO WITH KATIE REDMOND
DESCRIPTION:Singo is bingo with music! We drop beats not balls! You don’t have to sing but will find yourself singing along. We play three rounds that last about 45 minutes per rounds with breaks in between. You can get in on any round or play all three. Winners from each round can select a prize from the prize table. Kitchen is open until 9pm
URL:https://pub78.com/event/singo-with-katie-redmond-79/
LOCATION:Pub 78: 3733 Grand Blvd\, Brookfield\, IL 60513
CATEGORIES:Music & Events
ATTACH;FMTTYPE=image/jpeg:https://pub78.com/wp-content/uploads/Singo-1.jpg
END:VEVENT
BEGIN:VEVENT
DTSTART;TZID=America/Chicago:20260527T200000
DTEND;TZID=America/Chicago:20260527T230000
DTSTAMP:20260423T173036
CREATED:20260418T160741Z
LAST-MODIFIED:20260418T160741Z
UID:5340-1779912000-1779922800@pub78.com
SUMMARY:Open Mic/Jam with Alex Hamer
DESCRIPTION:Come out to open mic and jam! Or come out to just enjoy some great local musicians! Kitchen open until 9pm! House drum kit available. Sign up sheet available after 7pm.
URL:https://pub78.com/event/open-mic-jam-with-alex-hamer-26/
LOCATION:Pub 78: 3733 Grand Blvd\, Brookfield\, IL 60513
CATEGORIES:Music & Events
ATTACH;FMTTYPE=image/png:https://pub78.com/wp-content/uploads/Alex-Hamer-1.png
END:VEVENT
BEGIN:VEVENT
DTSTART;TZID=America/Chicago:20260528T190000
DTEND;TZID=America/Chicago:20260528T190000
DTSTAMP:20260423T173036
CREATED:20260418T161215Z
LAST-MODIFIED:20260418T161215Z
UID:5348-1779994800-1779994800@pub78.com
SUMMARY:SINGO WITH KATIE REDMOND
DESCRIPTION:Singo is bingo with music! We drop beats not balls! You don’t have to sing but will find yourself singing along. We play three rounds that last about 45 minutes per rounds with breaks in between. You can get in on any round or play all three. Winners from each round can select a prize from the prize table. Kitchen is open until 9pm
URL:https://pub78.com/event/singo-with-katie-redmond-80/
LOCATION:Pub 78: 3733 Grand Blvd\, Brookfield\, IL 60513
CATEGORIES:Music & Events
ATTACH;FMTTYPE=image/jpeg:https://pub78.com/wp-content/uploads/Singo-1.jpg
END:VEVENT
END:VCALENDAR