BEGIN:VCALENDAR
VERSION:2.0
PRODID:-//Pub 78 - ECPv6.15.20//NONSGML v1.0//EN
CALSCALE:GREGORIAN
METHOD:PUBLISH
X-ORIGINAL-URL:https://pub78.com
X-WR-CALDESC:Events for Pub 78
REFRESH-INTERVAL;VALUE=DURATION:PT1H
X-Robots-Tag:noindex
X-PUBLISHED-TTL:PT1H
BEGIN:VTIMEZONE
TZID:America/Chicago
BEGIN:DAYLIGHT
TZOFFSETFROM:-0600
TZOFFSETTO:-0500
TZNAME:CDT
DTSTART:20230312T080000
END:DAYLIGHT
BEGIN:STANDARD
TZOFFSETFROM:-0500
TZOFFSETTO:-0600
TZNAME:CST
DTSTART:20231105T070000
END:STANDARD
BEGIN:DAYLIGHT
TZOFFSETFROM:-0600
TZOFFSETTO:-0500
TZNAME:CDT
DTSTART:20240310T080000
END:DAYLIGHT
BEGIN:STANDARD
TZOFFSETFROM:-0500
TZOFFSETTO:-0600
TZNAME:CST
DTSTART:20241103T070000
END:STANDARD
BEGIN:DAYLIGHT
TZOFFSETFROM:-0600
TZOFFSETTO:-0500
TZNAME:CDT
DTSTART:20250309T080000
END:DAYLIGHT
BEGIN:STANDARD
TZOFFSETFROM:-0500
TZOFFSETTO:-0600
TZNAME:CST
DTSTART:20251102T070000
END:STANDARD
BEGIN:DAYLIGHT
TZOFFSETFROM:-0600
TZOFFSETTO:-0500
TZNAME:CDT
DTSTART:20260308T080000
END:DAYLIGHT
BEGIN:STANDARD
TZOFFSETFROM:-0500
TZOFFSETTO:-0600
TZNAME:CST
DTSTART:20261101T070000
END:STANDARD
END:VTIMEZONE
BEGIN:VEVENT
DTSTART;TZID=America/Chicago:20241120T200000
DTEND;TZID=America/Chicago:20241120T230000
DTSTAMP:20260425T083604
CREATED:20241112T213942Z
LAST-MODIFIED:20241112T213942Z
UID:4435-1732132800-1732143600@pub78.com
SUMMARY:Open Mic with Kelly Ott
DESCRIPTION:Join us on Wednesdays for Open Mic hosted by Kelly Ott!  Come out and play solo or there is always someone to jam out with.  If you don’t sing or play\, you can come out and watch local musicians/artists perform.  Kelly runs sound and drum kit available.  Kitchen open until 9pm!
URL:https://pub78.com/event/open-mic-with-kelly-ott-7/
LOCATION:Pub 78: 3733 Grand Blvd\, Brookfield\, IL 60513
CATEGORIES:Music & Events
ATTACH;FMTTYPE=image/jpeg:https://pub78.com/wp-content/uploads/Open-Mic-2.jpg
END:VEVENT
BEGIN:VEVENT
DTSTART;TZID=America/Chicago:20241121T190000
DTEND;TZID=America/Chicago:20241121T190000
DTSTAMP:20260425T083604
CREATED:20241112T214253Z
LAST-MODIFIED:20241112T214253Z
UID:4439-1732215600-1732215600@pub78.com
SUMMARY:Singo with Katie Redmond
DESCRIPTION:Singo is bingo with music! We drop beats not balls! You don’t have to sing but will find yourself singing along. We play three rounds that last about 45 minutes per rounds with breaks in between. You can get in on any round or play all three. Kitchen is open until 9pm.
URL:https://pub78.com/event/singo-with-katie-redmond-6/
LOCATION:Pub 78: 3733 Grand Blvd\, Brookfield\, IL 60513
CATEGORIES:Music & Events
ATTACH;FMTTYPE=image/jpeg:https://pub78.com/wp-content/uploads/Singo-1.jpg
END:VEVENT
BEGIN:VEVENT
DTSTART;TZID=America/Chicago:20241122T200000
DTEND;TZID=America/Chicago:20241122T230000
DTSTAMP:20260425T083604
CREATED:20241022T222816Z
LAST-MODIFIED:20241119T213512Z
UID:4415-1732305600-1732316400@pub78.com
SUMMARY:The Neighborhood
DESCRIPTION:Your Local Neighborhood Blues\, Rock & Outlaw Country Band
URL:https://pub78.com/event/the-neighborhood-4/
LOCATION:Pub 78: 3733 Grand Blvd\, Brookfield\, IL 60513
CATEGORIES:Music & Events
ATTACH;FMTTYPE=image/png:https://pub78.com/wp-content/uploads/Add-a-subheading.png
END:VEVENT
BEGIN:VEVENT
DTSTART;TZID=America/Chicago:20241123T200000
DTEND;TZID=America/Chicago:20241123T230000
DTSTAMP:20260425T083604
CREATED:20241022T224230Z
LAST-MODIFIED:20241119T213558Z
UID:4423-1732392000-1732402800@pub78.com
SUMMARY:GJAK'D UP
DESCRIPTION:GJAK’D UP returns to Pub 78
URL:https://pub78.com/event/gjakd-up-2/
LOCATION:Pub 78: 3733 Grand Blvd\, Brookfield\, IL 60513
CATEGORIES:Music & Events
ATTACH;FMTTYPE=image/png:https://pub78.com/wp-content/uploads/Pub-78-Live-Music-Event-Saturday-November-23-8-11pm.png
END:VEVENT
BEGIN:VEVENT
DTSTART;TZID=America/Chicago:20241127T200000
DTEND;TZID=America/Chicago:20241127T200000
DTSTAMP:20260425T083604
CREATED:20241022T224821Z
LAST-MODIFIED:20241123T055835Z
UID:4425-1732737600-1732737600@pub78.com
SUMMARY:BOSCO
DESCRIPTION:BOSCO The worlds greatest party band returns to Pub 78 for the best drinking night of the year!
URL:https://pub78.com/event/bosco/
LOCATION:Pub 78: 3733 Grand Blvd\, Brookfield\, IL 60513
CATEGORIES:Music & Events
ATTACH;FMTTYPE=image/png:https://pub78.com/wp-content/uploads/BOSCO-at-PUB-78.png
END:VEVENT
BEGIN:VEVENT
DTSTART;TZID=America/Chicago:20241129T200000
DTEND;TZID=America/Chicago:20241129T230000
DTSTAMP:20260425T083604
CREATED:20241114T222441Z
LAST-MODIFIED:20241114T222441Z
UID:4450-1732910400-1732921200@pub78.com
SUMMARY:Don't Matter to Me
DESCRIPTION:DMTM returns to Pub 78!
URL:https://pub78.com/event/dont-matter-to-me-2/
LOCATION:Pub 78: 3733 Grand Blvd\, Brookfield\, IL 60513
CATEGORIES:Music & Events
ATTACH;FMTTYPE=image/jpeg:https://pub78.com/wp-content/uploads/Dont-matter-to-me.jpg
END:VEVENT
BEGIN:VEVENT
DTSTART;TZID=America/Chicago:20241130T200000
DTEND;TZID=America/Chicago:20241130T230000
DTSTAMP:20260425T083604
CREATED:20241114T222221Z
LAST-MODIFIED:20241114T222221Z
UID:4447-1732996800-1733007600@pub78.com
SUMMARY:Petty Union
DESCRIPTION:Petty Union debuts at Pub 78!
URL:https://pub78.com/event/petty-union/
LOCATION:Pub 78: 3733 Grand Blvd\, Brookfield\, IL 60513
CATEGORIES:Music & Events
ATTACH;FMTTYPE=image/jpeg:https://pub78.com/wp-content/uploads/Petty-Union.jpg
END:VEVENT
BEGIN:VEVENT
DTSTART;TZID=America/Chicago:20241204T200000
DTEND;TZID=America/Chicago:20241204T230000
DTSTAMP:20260425T083604
CREATED:20241203T220809Z
LAST-MODIFIED:20241203T220809Z
UID:4472-1733342400-1733353200@pub78.com
SUMMARY:Open Mic with Kelly Ott
DESCRIPTION:Join us on Wednesdays for Open Mic hosted by Kelly Ott!  Come out and play solo or there is always someone to jam out with.  If you don’t sing or play\, you can come out and watch local musicians/artists perform.  Kelly runs sound and drum kit available.  Kitchen open until 9pm!
URL:https://pub78.com/event/open-mic-with-kelly-ott-8/
LOCATION:Pub 78: 3733 Grand Blvd\, Brookfield\, IL 60513
CATEGORIES:Music & Events
ATTACH;FMTTYPE=image/jpeg:https://pub78.com/wp-content/uploads/Open-Mic-2.jpg
END:VEVENT
BEGIN:VEVENT
DTSTART;TZID=America/Chicago:20241205T190000
DTEND;TZID=America/Chicago:20241205T220000
DTSTAMP:20260425T083604
CREATED:20241203T221442Z
LAST-MODIFIED:20241203T222038Z
UID:4480-1733425200-1733436000@pub78.com
SUMMARY:Singo with Katie Redmond
DESCRIPTION:Singo is bingo with music! We drop beats not balls! You don’t have to sing but will find yourself singing along. We play three rounds that last about 45 minutes per rounds with breaks in between. You can get in on any round or play all three. Kitchen is open until 9pm.
URL:https://pub78.com/event/singo-with-katie-redmond-7/
LOCATION:Pub 78: 3733 Grand Blvd\, Brookfield\, IL 60513
CATEGORIES:Music & Events
ATTACH;FMTTYPE=image/jpeg:https://pub78.com/wp-content/uploads/Singo-1.jpg
END:VEVENT
BEGIN:VEVENT
DTSTART;TZID=America/Chicago:20241206T200000
DTEND;TZID=America/Chicago:20241206T230000
DTSTAMP:20260425T083604
CREATED:20241126T155522Z
LAST-MODIFIED:20241126T155522Z
UID:4457-1733515200-1733526000@pub78.com
SUMMARY:Buckshot Bully
DESCRIPTION:Buckshot Bully is at the Pub! Come out for country & southern rock Friday night. www.buckshotbully.com
URL:https://pub78.com/event/buckshot-bully-2/
LOCATION:Pub 78: 3733 Grand Blvd\, Brookfield\, IL 60513
CATEGORIES:Music & Events
ATTACH;FMTTYPE=image/jpeg:https://pub78.com/wp-content/uploads/buckshot.jpg
END:VEVENT
BEGIN:VEVENT
DTSTART;TZID=America/Chicago:20241207T200000
DTEND;TZID=America/Chicago:20241207T230000
DTSTAMP:20260425T083604
CREATED:20241126T160105Z
LAST-MODIFIED:20241126T160105Z
UID:4459-1733601600-1733612400@pub78.com
SUMMARY:Exhale
DESCRIPTION:New wave & Alternative ROCK CLASSICSFrom the 80’s 90’s & now\nVisit them at https://exhaleband.com for more information and setlists!
URL:https://pub78.com/event/exhale/
LOCATION:Pub 78: 3733 Grand Blvd\, Brookfield\, IL 60513
CATEGORIES:Music & Events
ATTACH;FMTTYPE=image/jpeg:https://pub78.com/wp-content/uploads/exhale.jpg
END:VEVENT
BEGIN:VEVENT
DTSTART;TZID=America/Chicago:20241211T200000
DTEND;TZID=America/Chicago:20241211T230000
DTSTAMP:20260425T083604
CREATED:20241203T220945Z
LAST-MODIFIED:20241203T220945Z
UID:4474-1733947200-1733958000@pub78.com
SUMMARY:Open Mic with Kelly Ott
DESCRIPTION:Join us on Wednesdays for Open Mic hosted by Kelly Ott!  Come out and play solo or there is always someone to jam out with.  If you don’t sing or play\, you can come out and watch local musicians/artists perform.  Kelly runs sound and drum kit available.  Kitchen open until 9pm!
URL:https://pub78.com/event/open-mic-with-kelly-ott-9/
LOCATION:Pub 78: 3733 Grand Blvd\, Brookfield\, IL 60513
CATEGORIES:Music & Events
ATTACH;FMTTYPE=image/jpeg:https://pub78.com/wp-content/uploads/Open-Mic-2.jpg
END:VEVENT
BEGIN:VEVENT
DTSTART;TZID=America/Chicago:20241212T190000
DTEND;TZID=America/Chicago:20241212T220000
DTSTAMP:20260425T083604
CREATED:20241203T221542Z
LAST-MODIFIED:20241203T221954Z
UID:4482-1734030000-1734040800@pub78.com
SUMMARY:Singo with Katie Redmond
DESCRIPTION:Singo is bingo with music! We drop beats not balls! You don’t have to sing but will find yourself singing along. We play three rounds that last about 45 minutes per rounds with breaks in between. You can get in on any round or play all three. Kitchen is open until 9pm.
URL:https://pub78.com/event/singo-with-katie-redmond-8/
LOCATION:Pub 78: 3733 Grand Blvd\, Brookfield\, IL 60513
CATEGORIES:Music & Events
ATTACH;FMTTYPE=image/jpeg:https://pub78.com/wp-content/uploads/Singo-1.jpg
END:VEVENT
BEGIN:VEVENT
DTSTART;TZID=America/Chicago:20241213T200000
DTEND;TZID=America/Chicago:20241213T230000
DTSTAMP:20260425T083604
CREATED:20241126T160522Z
LAST-MODIFIED:20241211T203939Z
UID:4462-1734120000-1734130800@pub78.com
SUMMARY:The Sylvies
DESCRIPTION:The Sylvies debut at Pub 78! Come out for this local Brookfield band!
URL:https://pub78.com/event/the-sylvies/
LOCATION:Pub 78: 3733 Grand Blvd\, Brookfield\, IL 60513
CATEGORIES:Music & Events
ATTACH;FMTTYPE=image/jpeg:https://pub78.com/wp-content/uploads/image0-8.jpeg
END:VEVENT
BEGIN:VEVENT
DTSTART;TZID=America/Chicago:20241218T200000
DTEND;TZID=America/Chicago:20241218T230000
DTSTAMP:20260425T083604
CREATED:20241203T221052Z
LAST-MODIFIED:20241203T221052Z
UID:4476-1734552000-1734562800@pub78.com
SUMMARY:Open Mic with Kelly Ott
DESCRIPTION:Join us on Wednesdays for Open Mic hosted by Kelly Ott!  Come out and play solo or there is always someone to jam out with.  If you don’t sing or play\, you can come out and watch local musicians/artists perform.  Kelly runs sound and drum kit available.  Kitchen open until 9pm!
URL:https://pub78.com/event/open-mic-with-kelly-ott-10/
LOCATION:Pub 78: 3733 Grand Blvd\, Brookfield\, IL 60513
CATEGORIES:Music & Events
ATTACH;FMTTYPE=image/jpeg:https://pub78.com/wp-content/uploads/Open-Mic-2.jpg
END:VEVENT
BEGIN:VEVENT
DTSTART;TZID=America/Chicago:20241219T190000
DTEND;TZID=America/Chicago:20241219T220000
DTSTAMP:20260425T083604
CREATED:20241203T221638Z
LAST-MODIFIED:20241203T221908Z
UID:4484-1734634800-1734645600@pub78.com
SUMMARY:Singo with Katie Redmond
DESCRIPTION:Singo is bingo with music! We drop beats not balls! You don’t have to sing but will find yourself singing along. We play three rounds that last about 45 minutes per rounds with breaks in between. You can get in on any round or play all three. Kitchen is open until 9pm.
URL:https://pub78.com/event/singo-with-katie-redmond-9/
LOCATION:Pub 78: 3733 Grand Blvd\, Brookfield\, IL 60513
CATEGORIES:Music & Events
ATTACH;FMTTYPE=image/jpeg:https://pub78.com/wp-content/uploads/Singo-1.jpg
END:VEVENT
BEGIN:VEVENT
DTSTART;TZID=America/Chicago:20241220T200000
DTEND;TZID=America/Chicago:20241220T230000
DTSTAMP:20260425T083604
CREATED:20241126T161038Z
LAST-MODIFIED:20241126T161038Z
UID:4465-1734724800-1734735600@pub78.com
SUMMARY:Easily Distracted
DESCRIPTION:Easily Distracted come to Pub 78! Come out and enjoy this local band! They always rock the joint!
URL:https://pub78.com/event/easily-distracted-2/
LOCATION:Pub 78: 3733 Grand Blvd\, Brookfield\, IL 60513
CATEGORIES:Music & Events
ATTACH;FMTTYPE=image/jpeg:https://pub78.com/wp-content/uploads/ed.jpg
END:VEVENT
BEGIN:VEVENT
DTSTART;TZID=America/Chicago:20241221T200000
DTEND;TZID=America/Chicago:20241221T230000
DTSTAMP:20260425T083604
CREATED:20241126T162154Z
LAST-MODIFIED:20241126T162154Z
UID:4469-1734811200-1734822000@pub78.com
SUMMARY:Sam Day Music
DESCRIPTION:Celloist Sam Day debuts at Pub 78! Check out Sam Day Music on facebook for further information.
URL:https://pub78.com/event/sam-day-music/
LOCATION:Pub 78: 3733 Grand Blvd\, Brookfield\, IL 60513
CATEGORIES:Music & Events
ATTACH;FMTTYPE=image/jpeg:https://pub78.com/wp-content/uploads/Sam-day.jpg
END:VEVENT
BEGIN:VEVENT
DTSTART;TZID=America/Chicago:20241227T200000
DTEND;TZID=America/Chicago:20241227T230000
DTSTAMP:20260425T083604
CREATED:20241126T161319Z
LAST-MODIFIED:20241126T161319Z
UID:4467-1735329600-1735340400@pub78.com
SUMMARY:The Telltale Hearts
DESCRIPTION:The telltale Hearts return to Pub 78!
URL:https://pub78.com/event/the-telltale-hearts-2/
LOCATION:Pub 78: 3733 Grand Blvd\, Brookfield\, IL 60513
CATEGORIES:Music & Events
ATTACH;FMTTYPE=image/png:https://pub78.com/wp-content/uploads/TTH.png
END:VEVENT
BEGIN:VEVENT
DTSTART;TZID=America/Chicago:20241228T200000
DTEND;TZID=America/Chicago:20241228T230000
DTSTAMP:20260425T083604
CREATED:20241226T223916Z
LAST-MODIFIED:20241226T223916Z
UID:4493-1735416000-1735426800@pub78.com
SUMMARY:My Cousins Jacket
DESCRIPTION:
URL:https://pub78.com/event/my-cousins-jacket/
LOCATION:Pub 78: 3733 Grand Blvd\, Brookfield\, IL 60513
CATEGORIES:Music & Events
ATTACH;FMTTYPE=image/jpeg:https://pub78.com/wp-content/uploads/My-Cousin.jpg
END:VEVENT
BEGIN:VEVENT
DTSTART;VALUE=DATE:20241231
DTEND;VALUE=DATE:20250101
DTSTAMP:20260425T083604
CREATED:20241226T205814Z
LAST-MODIFIED:20241226T210023Z
UID:4488-1735603200-1735689599@pub78.com
SUMMARY:New Year's Eve at Pub 78 Featuring The Redmonds
DESCRIPTION:We are continuing our tradition on NYE to celebrate bringing in the New Year with The Redmonds!\nReservations and payment required ahead of time.All you can drink (top tier excluded) and eat!Champagne Toast!The Redmonds showReserved Seating$60 per person\nCome in to reserve or facebook message Pub 78!We sell out every year so get your seat now… already have several seats reserved.
URL:https://pub78.com/event/new-years-eve-featuring-the-redmonds/
LOCATION:Pub 78: 3733 Grand Blvd\, Brookfield\, IL 60513
CATEGORIES:Music & Events
ATTACH;FMTTYPE=image/jpeg:https://pub78.com/wp-content/uploads/NYE-1.jpg
END:VEVENT
BEGIN:VEVENT
DTSTART;TZID=America/Chicago:20250101T200000
DTEND;TZID=America/Chicago:20250101T230000
DTSTAMP:20260425T083604
CREATED:20241203T221200Z
LAST-MODIFIED:20241203T221200Z
UID:4478-1735761600-1735772400@pub78.com
SUMMARY:Open Mic with Kelly Ott
DESCRIPTION:Join us on Wednesdays for Open Mic hosted by Kelly Ott!  Come out and play solo or there is always someone to jam out with.  If you don’t sing or play\, you can come out and watch local musicians/artists perform.  Kelly runs sound and drum kit available.  Kitchen open until 9pm!
URL:https://pub78.com/event/open-mic-with-kelly-ott-11/
LOCATION:Pub 78: 3733 Grand Blvd\, Brookfield\, IL 60513
CATEGORIES:Music & Events
ATTACH;FMTTYPE=image/jpeg:https://pub78.com/wp-content/uploads/Open-Mic-2.jpg
END:VEVENT
BEGIN:VEVENT
DTSTART;TZID=America/Chicago:20250103T200000
DTEND;TZID=America/Chicago:20250103T230000
DTSTAMP:20260425T083604
CREATED:20241226T224354Z
LAST-MODIFIED:20241226T224354Z
UID:4496-1735934400-1735945200@pub78.com
SUMMARY:Grass Fed Collective
DESCRIPTION:Grass Fed Collective returns to Pub 78!
URL:https://pub78.com/event/grass-fed-collective/
LOCATION:Pub 78: 3733 Grand Blvd\, Brookfield\, IL 60513
CATEGORIES:Music & Events
ATTACH;FMTTYPE=image/jpeg:https://pub78.com/wp-content/uploads/image0-9.jpeg
END:VEVENT
BEGIN:VEVENT
DTSTART;TZID=America/Chicago:20250104T200000
DTEND;TZID=America/Chicago:20250104T230000
DTSTAMP:20260425T083604
CREATED:20250101T231111Z
LAST-MODIFIED:20250101T231111Z
UID:4499-1736020800-1736031600@pub78.com
SUMMARY:Landon James as Elvis
DESCRIPTION:Come out as Landon James performs at the Pub as the King of Rock n Roll!
URL:https://pub78.com/event/landon-james-as-elvis/
LOCATION:Pub 78: 3733 Grand Blvd\, Brookfield\, IL 60513
CATEGORIES:Music & Events
ATTACH;FMTTYPE=image/jpeg:https://pub78.com/wp-content/uploads/Elvis.jpg
END:VEVENT
BEGIN:VEVENT
DTSTART;TZID=America/Chicago:20250108T200000
DTEND;TZID=America/Chicago:20250108T230000
DTSTAMP:20260425T083604
CREATED:20250102T211029Z
LAST-MODIFIED:20250102T211029Z
UID:4502-1736366400-1736377200@pub78.com
SUMMARY:Open Mic with Kelly Ott
DESCRIPTION:Join us on Wednesdays for Open Mic hosted by Kelly Ott!  Come out and play solo or there is always someone to jam out with.  If you don’t sing or play\, you can come out and watch local musicians/artists perform.  Kelly runs sound and drum kit available.  Kitchen open until 9pm!
URL:https://pub78.com/event/open-mic-with-kelly-ott-12/
LOCATION:Pub 78: 3733 Grand Blvd\, Brookfield\, IL 60513
CATEGORIES:Music & Events
ATTACH;FMTTYPE=image/jpeg:https://pub78.com/wp-content/uploads/Open-Mic-2.jpg
END:VEVENT
BEGIN:VEVENT
DTSTART;TZID=America/Chicago:20250109T190000
DTEND;TZID=America/Chicago:20250109T190000
DTSTAMP:20260425T083604
CREATED:20250102T233437Z
LAST-MODIFIED:20250102T233437Z
UID:4510-1736449200-1736449200@pub78.com
SUMMARY:Singo with Katie Redmond
DESCRIPTION:Singo is bingo with music! We drop beats not balls! You don’t have to sing but will find yourself singing along. We play three rounds that last about 45 minutes per rounds with breaks in between. You can get in on any round or play all three. Kitchen is open until 9pm.
URL:https://pub78.com/event/singo-with-katie-redmond-10/
LOCATION:Pub 78: 3733 Grand Blvd\, Brookfield\, IL 60513
CATEGORIES:Music & Events
ATTACH;FMTTYPE=image/jpeg:https://pub78.com/wp-content/uploads/Singo-1.jpg
END:VEVENT
BEGIN:VEVENT
DTSTART;TZID=America/Chicago:20250110T200000
DTEND;TZID=America/Chicago:20250110T230000
DTSTAMP:20260425T083604
CREATED:20250110T050634Z
LAST-MODIFIED:20250110T050721Z
UID:4525-1736539200-1736550000@pub78.com
SUMMARY:Billy Grey Full Band
DESCRIPTION:Billy Grey and his full band are at Pub 78 on Friday!  We open the doors at 6pm.
URL:https://pub78.com/event/billy-grey-full-band/
LOCATION:Pub 78: 3733 Grand Blvd\, Brookfield\, IL 60513
CATEGORIES:Music & Events
ATTACH;FMTTYPE=image/jpeg:https://pub78.com/wp-content/uploads/image0-10.jpeg
END:VEVENT
BEGIN:VEVENT
DTSTART;TZID=America/Chicago:20250111T200000
DTEND;TZID=America/Chicago:20250111T230000
DTSTAMP:20260425T083604
CREATED:20250102T234426Z
LAST-MODIFIED:20250102T234426Z
UID:4521-1736625600-1736636400@pub78.com
SUMMARY:Hot Mic
DESCRIPTION:HOT MIC – We play what you like. We’re excited to be back for a 3rd time at Pub 78!\nSee more about us on our new website:\nhttps://www.hotmicband.com/\nCome jam with us as we play your favorite sing-along classics from the 90s and more eclectic fun!\nWe play all night – 3 hour set starts at 8pm. No cover!
URL:https://pub78.com/event/hot-mic-2/
LOCATION:Pub 78: 3733 Grand Blvd\, Brookfield\, IL 60513
CATEGORIES:Music & Events
ATTACH;FMTTYPE=image/jpeg:https://pub78.com/wp-content/uploads/Hot-Mic-0125.jpg
END:VEVENT
BEGIN:VEVENT
DTSTART;TZID=America/Chicago:20250112T123000
DTEND;TZID=America/Chicago:20250112T123000
DTSTAMP:20260425T083604
CREATED:20250102T234024Z
LAST-MODIFIED:20250102T234024Z
UID:4519-1736685000-1736685000@pub78.com
SUMMARY:Pub Church with Pastor Craig
DESCRIPTION:Come worship with us at Pub 78 with Paster Craig and Every Day Grace! All are welcome!
URL:https://pub78.com/event/pub-church-with-pastor-craig/
LOCATION:Pub 78: 3733 Grand Blvd\, Brookfield\, IL 60513
CATEGORIES:Music & Events
ATTACH;FMTTYPE=image/png:https://pub78.com/wp-content/uploads/pub-chucrh-logo.png
END:VEVENT
BEGIN:VEVENT
DTSTART;TZID=America/Chicago:20250115T200000
DTEND;TZID=America/Chicago:20250115T230000
DTSTAMP:20260425T083604
CREATED:20250102T232326Z
LAST-MODIFIED:20250102T232326Z
UID:4504-1736971200-1736982000@pub78.com
SUMMARY:Open Mic with Kelly Ott
DESCRIPTION:Join us on Wednesdays for Open Mic hosted by Kelly Ott!  Come out and play solo or there is always someone to jam out with.  If you don’t sing or play\, you can come out and watch local musicians/artists perform.  Kelly runs sound and drum kit available.  Kitchen open until 9pm!
URL:https://pub78.com/event/open-mic-with-kelly-ott-13/
LOCATION:Pub 78: 3733 Grand Blvd\, Brookfield\, IL 60513
CATEGORIES:Music & Events
ATTACH;FMTTYPE=image/jpeg:https://pub78.com/wp-content/uploads/Open-Mic-2.jpg
END:VEVENT
END:VCALENDAR