BEGIN:VCALENDAR
VERSION:2.0
PRODID:-//Pub 78 - ECPv6.15.20//NONSGML v1.0//EN
CALSCALE:GREGORIAN
METHOD:PUBLISH
X-WR-CALNAME:Pub 78
X-ORIGINAL-URL:https://pub78.com
X-WR-CALDESC:Events for Pub 78
REFRESH-INTERVAL;VALUE=DURATION:PT1H
X-Robots-Tag:noindex
X-PUBLISHED-TTL:PT1H
BEGIN:VTIMEZONE
TZID:America/Chicago
BEGIN:DAYLIGHT
TZOFFSETFROM:-0600
TZOFFSETTO:-0500
TZNAME:CDT
DTSTART:20230312T080000
END:DAYLIGHT
BEGIN:STANDARD
TZOFFSETFROM:-0500
TZOFFSETTO:-0600
TZNAME:CST
DTSTART:20231105T070000
END:STANDARD
BEGIN:DAYLIGHT
TZOFFSETFROM:-0600
TZOFFSETTO:-0500
TZNAME:CDT
DTSTART:20240310T080000
END:DAYLIGHT
BEGIN:STANDARD
TZOFFSETFROM:-0500
TZOFFSETTO:-0600
TZNAME:CST
DTSTART:20241103T070000
END:STANDARD
BEGIN:DAYLIGHT
TZOFFSETFROM:-0600
TZOFFSETTO:-0500
TZNAME:CDT
DTSTART:20250309T080000
END:DAYLIGHT
BEGIN:STANDARD
TZOFFSETFROM:-0500
TZOFFSETTO:-0600
TZNAME:CST
DTSTART:20251102T070000
END:STANDARD
END:VTIMEZONE
BEGIN:VEVENT
DTSTART;TZID=America/Chicago:20240517T200000
DTEND;TZID=America/Chicago:20240517T200000
DTSTAMP:20260425T185455
CREATED:20240414T184736Z
LAST-MODIFIED:20240414T184736Z
UID:4102-1715976000-1715976000@pub78.com
SUMMARY:Live Music: The Telltale Hearts
DESCRIPTION:
URL:https://pub78.com/event/live-music-the-telltale-hearts-8/
LOCATION:Pub 78: 3733 Grand Blvd\, Brookfield\, IL 60513
CATEGORIES:Music & Events
END:VEVENT
BEGIN:VEVENT
DTSTART;TZID=America/Chicago:20240518T200000
DTEND;TZID=America/Chicago:20240518T200000
DTSTAMP:20260425T185455
CREATED:20240414T184837Z
LAST-MODIFIED:20240514T184700Z
UID:4104-1716062400-1716062400@pub78.com
SUMMARY:Live Music: Brohirrim
DESCRIPTION:
URL:https://pub78.com/event/live-music-brohirim/
LOCATION:Pub 78: 3733 Grand Blvd\, Brookfield\, IL 60513
CATEGORIES:Music & Events
END:VEVENT
BEGIN:VEVENT
DTSTART;TZID=America/Chicago:20240519T150000
DTEND;TZID=America/Chicago:20240519T150000
DTSTAMP:20260425T185455
CREATED:20240502T174801Z
LAST-MODIFIED:20240502T174801Z
UID:4123-1716130800-1716130800@pub78.com
SUMMARY:Fundraising Event
DESCRIPTION:Let’s support Lori Hart O’Malley together. Sunday\, May 19\, at Pub 78. Join us at 3pm\, we have raffle baskets\, 50/50\, food and music. Everyone is welcome.
URL:https://pub78.com/event/fundraising-event/
LOCATION:Pub 78: 3733 Grand Blvd\, Brookfield\, IL 60513
CATEGORIES:Music & Events
ATTACH;FMTTYPE=image/jpeg:https://pub78.com/wp-content/uploads/LH.jpg
END:VEVENT
BEGIN:VEVENT
DTSTART;TZID=America/Chicago:20240522T200000
DTEND;TZID=America/Chicago:20240522T200000
DTSTAMP:20260425T185455
CREATED:20240417T232214Z
LAST-MODIFIED:20240417T232214Z
UID:4115-1716408000-1716408000@pub78.com
SUMMARY:Open Mic Hosted by Kelly Ott
DESCRIPTION:House drum kit available
URL:https://pub78.com/event/open-mic-hosted-by-kelly-ott-166/
LOCATION:Pub 78: 3733 Grand Blvd\, Brookfield\, IL 60513
CATEGORIES:Music & Events
ATTACH;FMTTYPE=image/jpeg:https://pub78.com/wp-content/uploads/open-mic-1.jpg
END:VEVENT
BEGIN:VEVENT
DTSTART;TZID=America/Chicago:20240523T190000
DTEND;TZID=America/Chicago:20240523T190000
DTSTAMP:20260425T185455
CREATED:20240417T232324Z
LAST-MODIFIED:20240417T232324Z
UID:4117-1716490800-1716490800@pub78.com
SUMMARY:Singo!
DESCRIPTION:Prizes will be awarded to winners of each round
URL:https://pub78.com/event/singo-30/
LOCATION:Pub 78: 3733 Grand Blvd\, Brookfield\, IL 60513
CATEGORIES:Music & Events
ATTACH;FMTTYPE=image/jpeg:https://pub78.com/wp-content/uploads/Singo-1.jpg
END:VEVENT
BEGIN:VEVENT
DTSTART;TZID=America/Chicago:20240524T200000
DTEND;TZID=America/Chicago:20240524T200000
DTSTAMP:20260425T185455
CREATED:20240514T183314Z
LAST-MODIFIED:20240514T183314Z
UID:4126-1716580800-1716580800@pub78.com
SUMMARY:Live Music: August James Band
DESCRIPTION:
URL:https://pub78.com/event/live-music-august-james-band-3/
LOCATION:Pub 78: 3733 Grand Blvd\, Brookfield\, IL 60513
CATEGORIES:Music & Events
END:VEVENT
BEGIN:VEVENT
DTSTART;TZID=America/Chicago:20240525T200000
DTEND;TZID=America/Chicago:20240525T200000
DTSTAMP:20260425T185455
CREATED:20240514T183355Z
LAST-MODIFIED:20240514T183355Z
UID:4128-1716667200-1716667200@pub78.com
SUMMARY:Live Music: Trailer Park Twisters
DESCRIPTION:
URL:https://pub78.com/event/live-music-trailer-park-twisters-9/
LOCATION:Pub 78: 3733 Grand Blvd\, Brookfield\, IL 60513
CATEGORIES:Music & Events
END:VEVENT
BEGIN:VEVENT
DTSTART;TZID=America/Chicago:20240529T200000
DTEND;TZID=America/Chicago:20240529T200000
DTSTAMP:20260425T185455
CREATED:20240417T232456Z
LAST-MODIFIED:20240417T232456Z
UID:4119-1717012800-1717012800@pub78.com
SUMMARY:Open Mic Hosted by Kelly Ott
DESCRIPTION:House drum kit available
URL:https://pub78.com/event/open-mic-hosted-by-kelly-ott-167/
LOCATION:Pub 78: 3733 Grand Blvd\, Brookfield\, IL 60513
CATEGORIES:Music & Events
ATTACH;FMTTYPE=image/jpeg:https://pub78.com/wp-content/uploads/open-mic-1.jpg
END:VEVENT
BEGIN:VEVENT
DTSTART;TZID=America/Chicago:20240530T190000
DTEND;TZID=America/Chicago:20240530T190000
DTSTAMP:20260425T185455
CREATED:20240417T232601Z
LAST-MODIFIED:20240417T232601Z
UID:4121-1717095600-1717095600@pub78.com
SUMMARY:Singo!
DESCRIPTION:Prizes will be awarded to winners of each round
URL:https://pub78.com/event/singo-31/
LOCATION:Pub 78: 3733 Grand Blvd\, Brookfield\, IL 60513
CATEGORIES:Music & Events
ATTACH;FMTTYPE=image/jpeg:https://pub78.com/wp-content/uploads/Singo-1.jpg
END:VEVENT
BEGIN:VEVENT
DTSTART;TZID=America/Chicago:20240531T200000
DTEND;TZID=America/Chicago:20240531T230000
DTSTAMP:20260425T185455
CREATED:20240530T193039Z
LAST-MODIFIED:20240530T193039Z
UID:4149-1717185600-1717196400@pub78.com
SUMMARY:Kyle Brooks Band
DESCRIPTION:Kyle Brooks Band is a blend of funk/rock and jazz.  This quartet includes a sax\, bass\, keys and drums.                                                       
URL:https://pub78.com/event/kyle-brooks-band/
END:VEVENT
BEGIN:VEVENT
DTSTART;TZID=America/Chicago:20240601T200000
DTEND;TZID=America/Chicago:20240601T200000
DTSTAMP:20260425T185455
CREATED:20240522T144424Z
LAST-MODIFIED:20240530T193439Z
UID:4132-1717272000-1717272000@pub78.com
SUMMARY:Live Music: GJAK'D UP
DESCRIPTION:This band has all the genres covered… come out and listen to great country and rock covers…. \n 
URL:https://pub78.com/event/live-music-gjakd-up-4/
LOCATION:Pub 78: 3733 Grand Blvd\, Brookfield\, IL 60513
CATEGORIES:Music & Events
ATTACH;FMTTYPE=image/jpeg:https://pub78.com/wp-content/uploads/GJAKDUP.jpg
END:VEVENT
BEGIN:VEVENT
DTSTART;TZID=America/Chicago:20240605T200000
DTEND;TZID=America/Chicago:20240605T230000
DTSTAMP:20260425T185455
CREATED:20240522T144611Z
LAST-MODIFIED:20240522T144611Z
UID:4134-1717617600-1717628400@pub78.com
SUMMARY:Open Mic Hosted by Kelly Ott
DESCRIPTION:House drum kit available
URL:https://pub78.com/event/open-mic-hosted-by-kelly-ott-168/
LOCATION:Pub 78: 3733 Grand Blvd\, Brookfield\, IL 60513
CATEGORIES:Music & Events
ATTACH;FMTTYPE=image/jpeg:https://pub78.com/wp-content/uploads/openmic-e1708019639280.jpg
END:VEVENT
BEGIN:VEVENT
DTSTART;TZID=America/Chicago:20240606T190000
DTEND;TZID=America/Chicago:20240606T190000
DTSTAMP:20260425T185455
CREATED:20240522T145046Z
LAST-MODIFIED:20240522T145046Z
UID:4142-1717700400-1717700400@pub78.com
SUMMARY:Singo!
DESCRIPTION:Prizes will be awarded to winners of each round
URL:https://pub78.com/event/singo-32/
LOCATION:Pub 78: 3733 Grand Blvd\, Brookfield\, IL 60513
CATEGORIES:Music & Events
ATTACH;FMTTYPE=image/jpeg:https://pub78.com/wp-content/uploads/Singo-1.jpg
END:VEVENT
BEGIN:VEVENT
DTSTART;TZID=America/Chicago:20240607T200000
DTEND;TZID=America/Chicago:20240607T230000
DTSTAMP:20260425T185455
CREATED:20240604T195544Z
LAST-MODIFIED:20240605T220412Z
UID:4158-1717790400-1717801200@pub78.com
SUMMARY:Brad Jackson & Shades of Country
DESCRIPTION:Brad Jackson & Shades of Country \nBrad Jackson & Shades of Country returns to Pub 78.  Enjoy a night of old school country.  Kitchen open until 9pm! \nhttps://www.facebook.com/profile.php?id=100058185223780&sk=about
URL:https://pub78.com/event/brad-jackson-shades-of-country-2/
LOCATION:Pub 78: 3733 Grand Blvd\, Brookfield\, IL 60513
CATEGORIES:Music & Events
ATTACH;FMTTYPE=image/jpeg:https://pub78.com/wp-content/uploads/BRad-Jackson.jpg
END:VEVENT
BEGIN:VEVENT
DTSTART;TZID=America/Chicago:20240608T200000
DTEND;TZID=America/Chicago:20240608T230000
DTSTAMP:20260425T185455
CREATED:20240604T200741Z
LAST-MODIFIED:20240605T220032Z
UID:4162-1717876800-1717887600@pub78.com
SUMMARY:Retro Grade
DESCRIPTION:Retro Grade\nRetro Grade debuts at Pub 78!  Come out that nightfor a fun night of rock n roll!  Sorry\, kitchen is closed for this event.
URL:https://pub78.com/event/retro-grade/
LOCATION:Pub 78: 3733 Grand Blvd\, Brookfield\, IL 60513
CATEGORIES:Music & Events
ATTACH;FMTTYPE=image/jpeg:https://pub78.com/wp-content/uploads/Retro-Grade.jpg
END:VEVENT
BEGIN:VEVENT
DTSTART;TZID=America/Chicago:20240609T140000
DTEND;TZID=America/Chicago:20240609T170000
DTSTAMP:20260425T185455
CREATED:20240604T201449Z
LAST-MODIFIED:20240605T215806Z
UID:4166-1717941600-1717952400@pub78.com
SUMMARY:Jay Heer - Acoustic Solo
DESCRIPTION:Local music Jay Heer will be starting out Pub 78’s solo show on Sunday afternoons.  Enjoy the afternoon with rock covers from this local brookfield musician.  Kitchen will be open until 5pm.
URL:https://pub78.com/event/jay-heer-acoustic-solo/
CATEGORIES:Music & Events
ATTACH;FMTTYPE=image/jpeg:https://pub78.com/wp-content/uploads/jay-heer.jpg
END:VEVENT
BEGIN:VEVENT
DTSTART;TZID=America/Chicago:20240612T200000
DTEND;TZID=America/Chicago:20240612T230000
DTSTAMP:20260425T185455
CREATED:20240522T144715Z
LAST-MODIFIED:20240522T144715Z
UID:4136-1718222400-1718233200@pub78.com
SUMMARY:Open Mic Hosted by Kelly Ott
DESCRIPTION:House drum kit available
URL:https://pub78.com/event/open-mic-hosted-by-kelly-ott-169/
LOCATION:Pub 78: 3733 Grand Blvd\, Brookfield\, IL 60513
CATEGORIES:Music & Events
ATTACH;FMTTYPE=image/jpeg:https://pub78.com/wp-content/uploads/openmic-e1708019639280.jpg
END:VEVENT
BEGIN:VEVENT
DTSTART;TZID=America/Chicago:20240613T190000
DTEND;TZID=America/Chicago:20240613T190000
DTSTAMP:20260425T185455
CREATED:20240522T145128Z
LAST-MODIFIED:20240522T145128Z
UID:4144-1718305200-1718305200@pub78.com
SUMMARY:Singo!
DESCRIPTION:Prizes will be awarded to winners of each round
URL:https://pub78.com/event/singo-33/
LOCATION:Pub 78: 3733 Grand Blvd\, Brookfield\, IL 60513
CATEGORIES:Music & Events
ATTACH;FMTTYPE=image/jpeg:https://pub78.com/wp-content/uploads/Singo-1.jpg
END:VEVENT
BEGIN:VEVENT
DTSTART;TZID=America/Chicago:20240614T200000
DTEND;TZID=America/Chicago:20240614T230000
DTSTAMP:20260425T185455
CREATED:20240604T202507Z
LAST-MODIFIED:20240605T220305Z
UID:4170-1718395200-1718406000@pub78.com
SUMMARY:PO5
DESCRIPTION:PO5 \nPO5 returns to Pub 78…. come out for a night a great rock covers spanning decades.  Kitchen open until 9pm!
URL:https://pub78.com/event/po5/
LOCATION:Pub 78: 3733 Grand Blvd\, Brookfield\, IL 60513
CATEGORIES:Music & Events
ATTACH;FMTTYPE=image/jpeg:https://pub78.com/wp-content/uploads/Po5-New.jpg
END:VEVENT
BEGIN:VEVENT
DTSTART;TZID=America/Chicago:20240616T123000
DTEND;TZID=America/Chicago:20240616T123000
DTSTAMP:20260425T185455
CREATED:20240604T203407Z
LAST-MODIFIED:20240605T220228Z
UID:4173-1718541000-1718541000@pub78.com
SUMMARY:Pub Church
DESCRIPTION:Come worship with us at Pub 78 with Pastor Craig and Every Day Grace. All are welcome! \n\nhttp://sojopubchurch.com
URL:https://pub78.com/event/pub-church-2/
LOCATION:Pub 78: 3733 Grand Blvd\, Brookfield\, IL 60513
CATEGORIES:Music & Events
ATTACH;FMTTYPE=image/jpeg:https://pub78.com/wp-content/uploads/pub-church-scaled.jpg
END:VEVENT
BEGIN:VEVENT
DTSTART;TZID=America/Chicago:20240619T200000
DTEND;TZID=America/Chicago:20240619T230000
DTSTAMP:20260425T185455
CREATED:20240522T144818Z
LAST-MODIFIED:20240522T144818Z
UID:4138-1718827200-1718838000@pub78.com
SUMMARY:Open Mic Hosted by Kelly Ott
DESCRIPTION:House drum kit available
URL:https://pub78.com/event/open-mic-hosted-by-kelly-ott-170/
LOCATION:Pub 78: 3733 Grand Blvd\, Brookfield\, IL 60513
CATEGORIES:Music & Events
ATTACH;FMTTYPE=image/jpeg:https://pub78.com/wp-content/uploads/openmic-e1708019639280.jpg
END:VEVENT
BEGIN:VEVENT
DTSTART;TZID=America/Chicago:20240620T190000
DTEND;TZID=America/Chicago:20240620T190000
DTSTAMP:20260425T185455
CREATED:20240522T145210Z
LAST-MODIFIED:20240522T145210Z
UID:4146-1718910000-1718910000@pub78.com
SUMMARY:Singo!
DESCRIPTION:Prizes will be awarded to winners of each round
URL:https://pub78.com/event/singo-34/
LOCATION:Pub 78: 3733 Grand Blvd\, Brookfield\, IL 60513
CATEGORIES:Music & Events
ATTACH;FMTTYPE=image/jpeg:https://pub78.com/wp-content/uploads/Singo-1.jpg
END:VEVENT
BEGIN:VEVENT
DTSTART;TZID=America/Chicago:20240621T200000
DTEND;TZID=America/Chicago:20240621T230000
DTSTAMP:20260425T185455
CREATED:20240604T204558Z
LAST-MODIFIED:20240605T220132Z
UID:4177-1719000000-1719010800@pub78.com
SUMMARY:Tractor Bomb
DESCRIPTION:Tractor Bomb\nTractor Bomb debuts at Pub 78! Enjoy a night of rock covers and originals. \nhttps://www.facebook.com/tractorbomb \n 
URL:https://pub78.com/event/tractor-bomb/
LOCATION:Pub 78: 3733 Grand Blvd\, Brookfield\, IL 60513
CATEGORIES:Music & Events
ATTACH;FMTTYPE=image/png:https://pub78.com/wp-content/uploads/Untitled-design.png
END:VEVENT
BEGIN:VEVENT
DTSTART;TZID=America/Chicago:20240623T120000
DTEND;TZID=America/Chicago:20240623T150000
DTSTAMP:20260425T185455
CREATED:20240623T170232Z
LAST-MODIFIED:20240623T170232Z
UID:4193-1719144000-1719154800@pub78.com
SUMMARY:Live Music: Ben Harrison
DESCRIPTION:
URL:https://pub78.com/event/live-music-ben-harrison-6/
LOCATION:Pub 78: 3733 Grand Blvd\, Brookfield\, IL 60513
CATEGORIES:Music & Events
END:VEVENT
BEGIN:VEVENT
DTSTART;TZID=America/Chicago:20240626T200000
DTEND;TZID=America/Chicago:20240626T230000
DTSTAMP:20260425T185455
CREATED:20240522T144917Z
LAST-MODIFIED:20240522T144917Z
UID:4140-1719432000-1719442800@pub78.com
SUMMARY:Open Mic Hosted by Kelly Ott
DESCRIPTION:House drum kit available
URL:https://pub78.com/event/open-mic-hosted-by-kelly-ott-171/
LOCATION:Pub 78: 3733 Grand Blvd\, Brookfield\, IL 60513
CATEGORIES:Music & Events
ATTACH;FMTTYPE=image/jpeg:https://pub78.com/wp-content/uploads/openmic-e1708019639280.jpg
END:VEVENT
BEGIN:VEVENT
DTSTART;TZID=America/Chicago:20240628T200000
DTEND;TZID=America/Chicago:20240628T230000
DTSTAMP:20260425T185455
CREATED:20240604T210609Z
LAST-MODIFIED:20240605T220054Z
UID:4180-1719604800-1719615600@pub78.com
SUMMARY:The Neighborhood
DESCRIPTION:The Neighborhood\nThe Neighborhood returns to Pub 78!  Street will be closed and picnic tables out front to enjoy this night.  Kitchen open until 9pm! \n 
URL:https://pub78.com/event/the-neighborhood/
LOCATION:Pub 78: 3733 Grand Blvd\, Brookfield\, IL 60513
CATEGORIES:Music & Events
ATTACH;FMTTYPE=image/jpeg:https://pub78.com/wp-content/uploads/The-Neighboor-logo.jpg
END:VEVENT
BEGIN:VEVENT
DTSTART;TZID=America/Chicago:20240710T160000
DTEND;TZID=America/Chicago:20240714T190000
DTSTAMP:20260425T185455
CREATED:20240710T182703Z
LAST-MODIFIED:20240710T182703Z
UID:4228-1720627200-1720983600@pub78.com
SUMMARY:Pub 78's 5th Anniversary Week
DESCRIPTION:Wow! It has been 5 years since we open Sunday\, July 14th\, 2019. Looking forward to a fun week celebrating. I want to thank all the bands\, musicians and artists that have performed at the Pub. Also\, we want to show appreciation to all of our patrons that have supported us through the years. In addition\, to our staff… you guys are amazing and outstanding! Thank you all once again for supporting us\, we are definitely blessed!
URL:https://pub78.com/event/pub-78s-5th-anniversary-week/
LOCATION:Pub 78: 3733 Grand Blvd\, Brookfield\, IL 60513
ATTACH;FMTTYPE=image/png:https://pub78.com/wp-content/uploads/Black-and-Beige-Modern-Simple-Events-for-this-Week-Instagram-Post-2.png
END:VEVENT
BEGIN:VEVENT
DTSTART;TZID=America/Chicago:20240710T200000
DTEND;TZID=America/Chicago:20240710T230000
DTSTAMP:20260425T185455
CREATED:20240623T171012Z
LAST-MODIFIED:20240623T171012Z
UID:4199-1720641600-1720652400@pub78.com
SUMMARY:Open Mic Hosted by Kelly Ott
DESCRIPTION:House drum kit available
URL:https://pub78.com/event/open-mic-hosted-by-kelly-ott-172/
LOCATION:Pub 78: 3733 Grand Blvd\, Brookfield\, IL 60513
CATEGORIES:Music & Events
ATTACH;FMTTYPE=image/jpeg:https://pub78.com/wp-content/uploads/openmic-e1708019639280.jpg
END:VEVENT
BEGIN:VEVENT
DTSTART;TZID=America/Chicago:20240711T190000
DTEND;TZID=America/Chicago:20240711T190000
DTSTAMP:20260425T185455
CREATED:20240623T171316Z
LAST-MODIFIED:20240623T171727Z
UID:4201-1720724400-1720724400@pub78.com
SUMMARY:Singo!
DESCRIPTION:Prizes will be awarded to winners of each round
URL:https://pub78.com/event/singo-35/
LOCATION:Pub 78: 3733 Grand Blvd\, Brookfield\, IL 60513
CATEGORIES:Music & Events
ATTACH;FMTTYPE=image/jpeg:https://pub78.com/wp-content/uploads/Singo-1.jpg
END:VEVENT
BEGIN:VEVENT
DTSTART;TZID=America/Chicago:20240712T200000
DTEND;TZID=America/Chicago:20240712T200000
DTSTAMP:20260425T185455
CREATED:20240623T170507Z
LAST-MODIFIED:20240623T170507Z
UID:4195-1720814400-1720814400@pub78.com
SUMMARY:Live Music: Easily Distracted
DESCRIPTION:
URL:https://pub78.com/event/live-music-easily-distracted-10/
LOCATION:Pub 78: 3733 Grand Blvd\, Brookfield\, IL 60513
CATEGORIES:Music & Events
ATTACH;FMTTYPE=image/jpeg:https://pub78.com/wp-content/uploads/ed.jpg
END:VEVENT
END:VCALENDAR