BEGIN:VCALENDAR
VERSION:2.0
PRODID:-//Pub 78 - ECPv6.15.20//NONSGML v1.0//EN
CALSCALE:GREGORIAN
METHOD:PUBLISH
X-WR-CALNAME:Pub 78
X-ORIGINAL-URL:https://pub78.com
X-WR-CALDESC:Events for Pub 78
REFRESH-INTERVAL;VALUE=DURATION:PT1H
X-Robots-Tag:noindex
X-PUBLISHED-TTL:PT1H
BEGIN:VTIMEZONE
TZID:America/Chicago
BEGIN:DAYLIGHT
TZOFFSETFROM:-0600
TZOFFSETTO:-0500
TZNAME:CDT
DTSTART:20230312T080000
END:DAYLIGHT
BEGIN:STANDARD
TZOFFSETFROM:-0500
TZOFFSETTO:-0600
TZNAME:CST
DTSTART:20231105T070000
END:STANDARD
BEGIN:DAYLIGHT
TZOFFSETFROM:-0600
TZOFFSETTO:-0500
TZNAME:CDT
DTSTART:20240310T080000
END:DAYLIGHT
BEGIN:STANDARD
TZOFFSETFROM:-0500
TZOFFSETTO:-0600
TZNAME:CST
DTSTART:20241103T070000
END:STANDARD
BEGIN:DAYLIGHT
TZOFFSETFROM:-0600
TZOFFSETTO:-0500
TZNAME:CDT
DTSTART:20250309T080000
END:DAYLIGHT
BEGIN:STANDARD
TZOFFSETFROM:-0500
TZOFFSETTO:-0600
TZNAME:CST
DTSTART:20251102T070000
END:STANDARD
END:VTIMEZONE
BEGIN:VEVENT
DTSTART;TZID=America/Chicago:20241011T200000
DTEND;TZID=America/Chicago:20241011T230000
DTSTAMP:20260425T104347
CREATED:20241008T184835Z
LAST-MODIFIED:20241008T184835Z
UID:4383-1728676800-1728687600@pub78.com
SUMMARY:Hot Moms
DESCRIPTION:Come out for Hot Moms… Hot Moms plays music from 80’s to early 2000’s.   Journey\, GNR\, Green Day\, Blink 182 and Foo Fighters are just some of the many covered rock songs.  Show starts at 8pm!
URL:https://pub78.com/event/hot-moms/
LOCATION:Pub 78: 3733 Grand Blvd\, Brookfield\, IL 60513
CATEGORIES:Music & Events
ATTACH;FMTTYPE=image/jpeg:https://pub78.com/wp-content/uploads/image0-7.jpeg
END:VEVENT
BEGIN:VEVENT
DTSTART;TZID=America/Chicago:20241010T190000
DTEND;TZID=America/Chicago:20241010T220000
DTSTAMP:20260425T104347
CREATED:20241001T210929Z
LAST-MODIFIED:20241008T184412Z
UID:4367-1728586800-1728597600@pub78.com
SUMMARY:Singo with Katie Redmond
DESCRIPTION:Singo is bingo with music! We drop beats not balls! You don’t have to sing but will find yourself singing along. We play three rounds that last about 45 minutes per rounds with breaks in between. You can get in on any round or play all three. Kitchen is open until 9pm.
URL:https://pub78.com/event/singo-with-katie-redmond-2/
LOCATION:Pub 78: 3733 Grand Blvd\, Brookfield\, IL 60513
CATEGORIES:Music & Events
ATTACH;FMTTYPE=image/jpeg:https://pub78.com/wp-content/uploads/Singo-1.jpg
END:VEVENT
BEGIN:VEVENT
DTSTART;TZID=America/Chicago:20241009T200000
DTEND;TZID=America/Chicago:20241009T230000
DTSTAMP:20260425T104347
CREATED:20241001T210350Z
LAST-MODIFIED:20241001T210350Z
UID:4357-1728504000-1728514800@pub78.com
SUMMARY:Open Mic with Kelly Ott
DESCRIPTION:Join us on Wednesdays for Open Mic hosted by Kelly Ott!  Come out and play solo or there is always someone to jam out with.  If you don’t sing or play\, you can come out and watch local musicians/artists perform.  Kelly runs sound and drum kit available.  Kitchen open until 9pm!
URL:https://pub78.com/event/open-mic-with-kelly-ott-2/
LOCATION:Pub 78: 3733 Grand Blvd\, Brookfield\, IL 60513
CATEGORIES:Music & Events
ATTACH;FMTTYPE=image/jpeg:https://pub78.com/wp-content/uploads/Open-Mic-2.jpg
END:VEVENT
BEGIN:VEVENT
DTSTART;TZID=America/Chicago:20241005T200000
DTEND;TZID=America/Chicago:20241005T230000
DTSTAMP:20260425T104347
CREATED:20241001T212014Z
LAST-MODIFIED:20241001T212014Z
UID:4374-1728158400-1728169200@pub78.com
SUMMARY:Don't Matter to Me
DESCRIPTION:Come join us for a night of great food and drinks\, paired with rockin’ music. We promise it will be a ton of fun!! \nRodney’s Birthday!
URL:https://pub78.com/event/dont-matter-to-me/
LOCATION:Pub 78: 3733 Grand Blvd\, Brookfield\, IL 60513
CATEGORIES:Music & Events
ATTACH;FMTTYPE=image/jpeg:https://pub78.com/wp-content/uploads/Dont-mtm.jpg
END:VEVENT
BEGIN:VEVENT
DTSTART;TZID=America/Chicago:20241004T200000
DTEND;TZID=America/Chicago:20241004T230000
DTSTAMP:20260425T104347
CREATED:20241001T212158Z
LAST-MODIFIED:20241001T212158Z
UID:4377-1728072000-1728082800@pub78.com
SUMMARY:Hot Mic
DESCRIPTION:What’s your go-to nostalgic tune? Come jam with us as we play your favorite sing-along classics from the 90s and more eclectic fun!HOT MIC is heading back to PUB 78 in Brookfield for a 3 hour set. No cover!
URL:https://pub78.com/event/hot-mic/
LOCATION:Pub 78: 3733 Grand Blvd\, Brookfield\, IL 60513
CATEGORIES:Music & Events
ATTACH;FMTTYPE=image/jpeg:https://pub78.com/wp-content/uploads/Hot-Mic-OCt.jpg
END:VEVENT
BEGIN:VEVENT
DTSTART;TZID=America/Chicago:20241003T190000
DTEND;TZID=America/Chicago:20241003T190000
DTSTAMP:20260425T104347
CREATED:20241001T210834Z
LAST-MODIFIED:20241001T211730Z
UID:4365-1727982000-1727982000@pub78.com
SUMMARY:Singo with Katie Redmond
DESCRIPTION:Singo is bingo with music! We drop beats not balls! You don’t have to sing but will find yourself singing along. We play three rounds that last about 45 minutes per rounds with breaks in between. You can get in on any round or play all three. Kitchen is open until 9pm.
URL:https://pub78.com/event/singo-with-katie-redmond/
LOCATION:Pub 78: 3733 Grand Blvd\, Brookfield\, IL 60513
CATEGORIES:Music & Events
ATTACH;FMTTYPE=image/jpeg:https://pub78.com/wp-content/uploads/Singo-1.jpg
END:VEVENT
BEGIN:VEVENT
DTSTART;TZID=America/Chicago:20241002T200000
DTEND;TZID=America/Chicago:20241002T230000
DTSTAMP:20260425T104347
CREATED:20241001T210224Z
LAST-MODIFIED:20241001T210224Z
UID:4354-1727899200-1727910000@pub78.com
SUMMARY:Open Mic with Kelly Ott
DESCRIPTION:Join us on Wednesdays for Open Mic hosted by Kelly Ott!  Come out and play solo or there is always someone to jam out with.  If you don’t sing or play\, you can come out and watch local musicians/artists perform.  Kelly runs sound and drum kit available.  Kitchen open until 9pm!
URL:https://pub78.com/event/open-mic-with-kelly-ott/
LOCATION:Pub 78: 3733 Grand Blvd\, Brookfield\, IL 60513
CATEGORIES:Music & Events
ATTACH;FMTTYPE=image/jpeg:https://pub78.com/wp-content/uploads/Open-Mic-2.jpg
END:VEVENT
BEGIN:VEVENT
DTSTART;TZID=America/Chicago:20240927T200000
DTEND;TZID=America/Chicago:20240927T230000
DTSTAMP:20260425T104347
CREATED:20240910T203009Z
LAST-MODIFIED:20240910T203009Z
UID:4349-1727467200-1727478000@pub78.com
SUMMARY:Buckshot Bully
DESCRIPTION:Hey! Buckshot Bully returns to Pub 78!
URL:https://pub78.com/event/buckshot-bully/
LOCATION:Pub 78: 3733 Grand Blvd\, Brookfield\, IL 60513
CATEGORIES:Music & Events
ATTACH;FMTTYPE=image/jpeg:https://pub78.com/wp-content/uploads/buckshot.jpg
END:VEVENT
BEGIN:VEVENT
DTSTART;TZID=America/Chicago:20240926T190000
DTEND;TZID=America/Chicago:20240926T190000
DTSTAMP:20260425T104347
CREATED:20240814T164328Z
LAST-MODIFIED:20240814T164328Z
UID:4322-1727377200-1727377200@pub78.com
SUMMARY:Singo!
DESCRIPTION:Prizes will be awarded to winners of each round!
URL:https://pub78.com/event/singo-44/
LOCATION:Pub 78: 3733 Grand Blvd\, Brookfield\, IL 60513
CATEGORIES:Music & Events
ATTACH;FMTTYPE=image/jpeg:https://pub78.com/wp-content/uploads/Singo-1.jpg
END:VEVENT
BEGIN:VEVENT
DTSTART;TZID=America/Chicago:20240925T200000
DTEND;TZID=America/Chicago:20240925T230000
DTSTAMP:20260425T104347
CREATED:20240814T163636Z
LAST-MODIFIED:20240814T163636Z
UID:4311-1727294400-1727305200@pub78.com
SUMMARY:Open Mic Hosted by Kelly Ott
DESCRIPTION:House drum kit available
URL:https://pub78.com/event/open-mic-hosted-by-kelly-ott-181/
LOCATION:Pub 78: 3733 Grand Blvd\, Brookfield\, IL 60513
CATEGORIES:Music & Events
ATTACH;FMTTYPE=image/jpeg:https://pub78.com/wp-content/uploads/openmic-e1708019639280.jpg
END:VEVENT
BEGIN:VEVENT
DTSTART;TZID=America/Chicago:20240921T200000
DTEND;TZID=America/Chicago:20240921T230000
DTSTAMP:20260425T104347
CREATED:20240910T202855Z
LAST-MODIFIED:20240910T202855Z
UID:4346-1726948800-1726959600@pub78.com
SUMMARY:GJAK'd UP
DESCRIPTION:GJAK’d UP returns to Pub 78!  
URL:https://pub78.com/event/gjakd-up/
LOCATION:Pub 78: 3733 Grand Blvd\, Brookfield\, IL 60513
CATEGORIES:Music & Events
ATTACH;FMTTYPE=image/jpeg:https://pub78.com/wp-content/uploads/GJAKd-up.jpg
END:VEVENT
BEGIN:VEVENT
DTSTART;TZID=America/Chicago:20240920T200000
DTEND;TZID=America/Chicago:20240920T230000
DTSTAMP:20260425T104347
CREATED:20240910T202620Z
LAST-MODIFIED:20240917T192250Z
UID:4343-1726862400-1726873200@pub78.com
SUMMARY:Simply Elton Solo Performance
DESCRIPTION:Simply Elton returns to Pub 78!
URL:https://pub78.com/event/simply-elton-solo-performance/
LOCATION:Pub 78: 3733 Grand Blvd\, Brookfield\, IL 60513
CATEGORIES:Music & Events
ATTACH;FMTTYPE=image/jpeg:https://pub78.com/wp-content/uploads/452142683_984710466993366_919509804390113726_n.jpg
END:VEVENT
BEGIN:VEVENT
DTSTART;TZID=America/Chicago:20240919T190000
DTEND;TZID=America/Chicago:20240919T190000
DTSTAMP:20260425T104347
CREATED:20240814T164237Z
LAST-MODIFIED:20240814T164237Z
UID:4320-1726772400-1726772400@pub78.com
SUMMARY:Singo!
DESCRIPTION:Prizes will be awarded to winners of each round!
URL:https://pub78.com/event/singo-43/
LOCATION:Pub 78: 3733 Grand Blvd\, Brookfield\, IL 60513
CATEGORIES:Music & Events
ATTACH;FMTTYPE=image/jpeg:https://pub78.com/wp-content/uploads/Singo-1.jpg
END:VEVENT
BEGIN:VEVENT
DTSTART;TZID=America/Chicago:20240918T200000
DTEND;TZID=America/Chicago:20240918T230000
DTSTAMP:20260425T104347
CREATED:20240814T163513Z
LAST-MODIFIED:20240814T163513Z
UID:4309-1726689600-1726700400@pub78.com
SUMMARY:Open Mic Hosted by Kelly Ott
DESCRIPTION:House drum kit available
URL:https://pub78.com/event/open-mic-hosted-by-kelly-ott-180/
LOCATION:Pub 78: 3733 Grand Blvd\, Brookfield\, IL 60513
CATEGORIES:Music & Events
ATTACH;FMTTYPE=image/jpeg:https://pub78.com/wp-content/uploads/openmic-e1708019639280.jpg
END:VEVENT
BEGIN:VEVENT
DTSTART;TZID=America/Chicago:20240915T123000
DTEND;TZID=America/Chicago:20240915T133000
DTSTAMP:20260425T104347
CREATED:20240910T202356Z
LAST-MODIFIED:20240910T202356Z
UID:4341-1726403400-1726407000@pub78.com
SUMMARY:Pub Church
DESCRIPTION:Come worship with us at Pub 78 with Pastor Craig and Every Day Grace. All are welcome!
URL:https://pub78.com/event/pub-church-4/
LOCATION:Pub 78: 3733 Grand Blvd\, Brookfield\, IL 60513
CATEGORIES:Music & Events
ATTACH;FMTTYPE=image/png:https://pub78.com/wp-content/uploads/pub-chucrh-logo.png
END:VEVENT
BEGIN:VEVENT
DTSTART;TZID=America/Chicago:20240914T200000
DTEND;TZID=America/Chicago:20240914T230000
DTSTAMP:20260425T104347
CREATED:20240910T202119Z
LAST-MODIFIED:20240910T202119Z
UID:4339-1726344000-1726354800@pub78.com
SUMMARY:Easily Distracted
DESCRIPTION:Easily Distracted returns to Pub  78!  Come and rock out to one of Brookfield’s finest bands!
URL:https://pub78.com/event/easily-distracted/
LOCATION:Pub 78: 3733 Grand Blvd\, Brookfield\, IL 60513
CATEGORIES:Music & Events
ATTACH;FMTTYPE=image/jpeg:https://pub78.com/wp-content/uploads/ed.jpg
END:VEVENT
BEGIN:VEVENT
DTSTART;TZID=America/Chicago:20240912T190000
DTEND;TZID=America/Chicago:20240912T190000
DTSTAMP:20260425T104347
CREATED:20240814T163836Z
LAST-MODIFIED:20240814T163836Z
UID:4315-1726167600-1726167600@pub78.com
SUMMARY:Singo!
DESCRIPTION:Prizes will be awarded to winners of each round!
URL:https://pub78.com/event/singo-42/
LOCATION:Pub 78: 3733 Grand Blvd\, Brookfield\, IL 60513
CATEGORIES:Music & Events
ATTACH;FMTTYPE=image/jpeg:https://pub78.com/wp-content/uploads/Singo-1.jpg
END:VEVENT
BEGIN:VEVENT
DTSTART;TZID=America/Chicago:20240911T200000
DTEND;TZID=America/Chicago:20240911T230000
DTSTAMP:20260425T104347
CREATED:20240814T163425Z
LAST-MODIFIED:20240814T163425Z
UID:4307-1726084800-1726095600@pub78.com
SUMMARY:Open Mic Hosted by Kelly Ott
DESCRIPTION:House drum kit available
URL:https://pub78.com/event/open-mic-hosted-by-kelly-ott-179/
LOCATION:Pub 78: 3733 Grand Blvd\, Brookfield\, IL 60513
CATEGORIES:Music & Events
ATTACH;FMTTYPE=image/jpeg:https://pub78.com/wp-content/uploads/openmic-e1708019639280.jpg
END:VEVENT
BEGIN:VEVENT
DTSTART;TZID=America/Chicago:20240908T120000
DTEND;TZID=America/Chicago:20240908T170000
DTSTAMP:20260425T104347
CREATED:20240905T201027Z
LAST-MODIFIED:20240905T201027Z
UID:4336-1725796800-1725814800@pub78.com
SUMMARY:Chicago Bears Opening DAY!
DESCRIPTION:Come out and cheer on the Chicago Bears! \n 
URL:https://pub78.com/event/chicago-bears-opening-day/
LOCATION:Pub 78: 3733 Grand Blvd\, Brookfield\, IL 60513
CATEGORIES:Music & Events
ATTACH;FMTTYPE=image/png:https://pub78.com/wp-content/uploads/Bears-at-Pub-78.png
END:VEVENT
BEGIN:VEVENT
DTSTART;TZID=America/Chicago:20240907T200000
DTEND;TZID=America/Chicago:20240907T230000
DTSTAMP:20260425T104347
CREATED:20240904T220357Z
LAST-MODIFIED:20240904T220621Z
UID:4331-1725739200-1725750000@pub78.com
SUMMARY:Brad Jackson & Shades of Country
DESCRIPTION:Brad Jackson & Shades of Country returns to Pub 78.  Come on out for some old school country.
URL:https://pub78.com/event/brad-jackson-shades-of-country-3/
LOCATION:Pub 78: 3733 Grand Blvd\, Brookfield\, IL 60513
CATEGORIES:Music & Events
ATTACH;FMTTYPE=image/jpeg:https://pub78.com/wp-content/uploads/BRad-Jackson-1.jpg
END:VEVENT
BEGIN:VEVENT
DTSTART;TZID=America/Chicago:20240906T200000
DTEND;TZID=America/Chicago:20240906T230000
DTSTAMP:20260425T104347
CREATED:20240904T220308Z
LAST-MODIFIED:20240904T220308Z
UID:4328-1725652800-1725663600@pub78.com
SUMMARY:Scramble
DESCRIPTION:Scramble debuts at Pub 78 this Friday!  Full Kitchen open!
URL:https://pub78.com/event/scramble/
LOCATION:Pub 78: 3733 Grand Blvd\, Brookfield\, IL 60513
CATEGORIES:Music & Events
ATTACH;FMTTYPE=image/jpeg:https://pub78.com/wp-content/uploads/scrawmble.jpg
END:VEVENT
BEGIN:VEVENT
DTSTART;TZID=America/Chicago:20240905T190000
DTEND;TZID=America/Chicago:20240905T190000
DTSTAMP:20260425T104347
CREATED:20240814T163746Z
LAST-MODIFIED:20240814T163746Z
UID:4313-1725562800-1725562800@pub78.com
SUMMARY:Singo!
DESCRIPTION:Prizes will be awarded to winners of each round!
URL:https://pub78.com/event/singo-41/
LOCATION:Pub 78: 3733 Grand Blvd\, Brookfield\, IL 60513
CATEGORIES:Music & Events
ATTACH;FMTTYPE=image/jpeg:https://pub78.com/wp-content/uploads/Singo-1.jpg
END:VEVENT
BEGIN:VEVENT
DTSTART;TZID=America/Chicago:20240904T200000
DTEND;TZID=America/Chicago:20240904T230000
DTSTAMP:20260425T104347
CREATED:20240814T163335Z
LAST-MODIFIED:20240814T163335Z
UID:4305-1725480000-1725490800@pub78.com
SUMMARY:Open Mic Hosted by Kelly Ott
DESCRIPTION:House drum kit available
URL:https://pub78.com/event/open-mic-hosted-by-kelly-ott-178/
LOCATION:Pub 78: 3733 Grand Blvd\, Brookfield\, IL 60513
CATEGORIES:Music & Events
ATTACH;FMTTYPE=image/jpeg:https://pub78.com/wp-content/uploads/openmic-e1708019639280.jpg
END:VEVENT
BEGIN:VEVENT
DTSTART;TZID=America/Chicago:20240830T200000
DTEND;TZID=America/Chicago:20240830T230000
DTSTAMP:20260425T104347
CREATED:20240828T181314Z
LAST-MODIFIED:20240828T181314Z
UID:4324-1725048000-1725058800@pub78.com
SUMMARY:The Neighborhood
DESCRIPTION:The Neighborhood returns to Pub 78.  Check out this local band.  Playing music from Johnny Cash to Rod Stewart.
URL:https://pub78.com/event/the-neighborhood-3/
LOCATION:Pub 78: 3733 Grand Blvd\, Brookfield\, IL 60513
CATEGORIES:Music & Events
ATTACH;FMTTYPE=image/jpeg:https://pub78.com/wp-content/uploads/The-Neigh-083024.jpg
END:VEVENT
BEGIN:VEVENT
DTSTART;TZID=America/Chicago:20240830T200000
DTEND;TZID=America/Chicago:20240830T200000
DTSTAMP:20260425T104347
CREATED:20240803T155818Z
LAST-MODIFIED:20240803T155854Z
UID:4292-1725048000-1725048000@pub78.com
SUMMARY:Live Music: The Neighborhood
DESCRIPTION:
URL:https://pub78.com/event/the-neighborhood-2/
LOCATION:Pub 78: 3733 Grand Blvd\, Brookfield\, IL 60513
CATEGORIES:Music & Events
ATTACH;FMTTYPE=image/jpeg:https://pub78.com/wp-content/uploads/tn.jpg
END:VEVENT
BEGIN:VEVENT
DTSTART;TZID=America/Chicago:20240829T190000
DTEND;TZID=America/Chicago:20240829T190000
DTSTAMP:20260425T104347
CREATED:20240803T155329Z
LAST-MODIFIED:20240803T155329Z
UID:4288-1724958000-1724958000@pub78.com
SUMMARY:Singo!
DESCRIPTION:Prizes will be awarded to winners of each round
URL:https://pub78.com/event/singo-40/
LOCATION:Pub 78: 3733 Grand Blvd\, Brookfield\, IL 60513
CATEGORIES:Music & Events
ATTACH;FMTTYPE=image/jpeg:https://pub78.com/wp-content/uploads/Singo-1.jpg
END:VEVENT
BEGIN:VEVENT
DTSTART;TZID=America/Chicago:20240828T200000
DTEND;TZID=America/Chicago:20240828T230000
DTSTAMP:20260425T104347
CREATED:20240803T154948Z
LAST-MODIFIED:20240803T154948Z
UID:4282-1724875200-1724886000@pub78.com
SUMMARY:Open Mic Hosted by Kelly Ott
DESCRIPTION:House drum kit available
URL:https://pub78.com/event/open-mic-hosted-by-kelly-ott-177/
LOCATION:Pub 78: 3733 Grand Blvd\, Brookfield\, IL 60513
CATEGORIES:Music & Events
ATTACH;FMTTYPE=image/jpeg:https://pub78.com/wp-content/uploads/openmic-e1708019639280.jpg
END:VEVENT
BEGIN:VEVENT
DTSTART;TZID=America/Chicago:20240824T200000
DTEND;TZID=America/Chicago:20240824T200000
DTSTAMP:20260425T104347
CREATED:20240803T155622Z
LAST-MODIFIED:20240803T155910Z
UID:4290-1724529600-1724529600@pub78.com
SUMMARY:Live Music: Trailer Park Twisters
DESCRIPTION:
URL:https://pub78.com/event/trailer-park-twisters/
LOCATION:Pub 78: 3733 Grand Blvd\, Brookfield\, IL 60513
CATEGORIES:Music & Events
ATTACH;FMTTYPE=image/jpeg:https://pub78.com/wp-content/uploads/tpt.jpg
END:VEVENT
BEGIN:VEVENT
DTSTART;TZID=America/Chicago:20240823T200000
DTEND;TZID=America/Chicago:20240823T230000
DTSTAMP:20260425T104347
CREATED:20240814T163036Z
LAST-MODIFIED:20240814T163036Z
UID:4303-1724443200-1724454000@pub78.com
SUMMARY:Live Music: Frank Wysong & Jessie Perez
DESCRIPTION:
URL:https://pub78.com/event/live-music-frank-wysong-jessie-perez/
LOCATION:Pub 78: 3733 Grand Blvd\, Brookfield\, IL 60513
CATEGORIES:Music & Events
END:VEVENT
BEGIN:VEVENT
DTSTART;TZID=America/Chicago:20240822T190000
DTEND;TZID=America/Chicago:20240822T190000
DTSTAMP:20260425T104347
CREATED:20240803T155228Z
LAST-MODIFIED:20240803T155228Z
UID:4286-1724353200-1724353200@pub78.com
SUMMARY:Singo!
DESCRIPTION:Prizes will be awarded to winners of each round
URL:https://pub78.com/event/singo-39/
LOCATION:Pub 78: 3733 Grand Blvd\, Brookfield\, IL 60513
CATEGORIES:Music & Events
ATTACH;FMTTYPE=image/jpeg:https://pub78.com/wp-content/uploads/Singo-1.jpg
END:VEVENT
END:VCALENDAR