BEGIN:VCALENDAR
VERSION:2.0
PRODID:-//Pub 78 - ECPv6.15.20//NONSGML v1.0//EN
CALSCALE:GREGORIAN
METHOD:PUBLISH
X-WR-CALNAME:Pub 78
X-ORIGINAL-URL:https://pub78.com
X-WR-CALDESC:Events for Pub 78
REFRESH-INTERVAL;VALUE=DURATION:PT1H
X-Robots-Tag:noindex
X-PUBLISHED-TTL:PT1H
BEGIN:VTIMEZONE
TZID:America/Chicago
BEGIN:DAYLIGHT
TZOFFSETFROM:-0600
TZOFFSETTO:-0500
TZNAME:CDT
DTSTART:20240310T080000
END:DAYLIGHT
BEGIN:STANDARD
TZOFFSETFROM:-0500
TZOFFSETTO:-0600
TZNAME:CST
DTSTART:20241103T070000
END:STANDARD
BEGIN:DAYLIGHT
TZOFFSETFROM:-0600
TZOFFSETTO:-0500
TZNAME:CDT
DTSTART:20250309T080000
END:DAYLIGHT
BEGIN:STANDARD
TZOFFSETFROM:-0500
TZOFFSETTO:-0600
TZNAME:CST
DTSTART:20251102T070000
END:STANDARD
BEGIN:DAYLIGHT
TZOFFSETFROM:-0600
TZOFFSETTO:-0500
TZNAME:CDT
DTSTART:20260308T080000
END:DAYLIGHT
BEGIN:STANDARD
TZOFFSETFROM:-0500
TZOFFSETTO:-0600
TZNAME:CST
DTSTART:20261101T070000
END:STANDARD
END:VTIMEZONE
BEGIN:VEVENT
DTSTART;TZID=America/Chicago:20250417T190000
DTEND;TZID=America/Chicago:20250417T190000
DTSTAMP:20260425T065304
CREATED:20250315T172827Z
LAST-MODIFIED:20250315T172827Z
UID:4656-1744916400-1744916400@pub78.com
SUMMARY:Singo with Katie Redmond
DESCRIPTION:Singo is bingo with music! We drop beats not balls! You don’t have to sing but will find yourself singing along. We play three rounds that last about 45 minutes per rounds with breaks in between. You can get in on any round or play all three. Kitchen is open until 9pm
URL:https://pub78.com/event/singo-with-katie-redmond-24/
LOCATION:Pub 78: 3733 Grand Blvd\, Brookfield\, IL 60513
CATEGORIES:Music & Events
ATTACH;FMTTYPE=image/jpeg:https://pub78.com/wp-content/uploads/Singo-1.jpg
END:VEVENT
BEGIN:VEVENT
DTSTART;TZID=America/Chicago:20250416T200000
DTEND;TZID=America/Chicago:20250416T230000
DTSTAMP:20260425T065304
CREATED:20250315T172413Z
LAST-MODIFIED:20250315T172413Z
UID:4646-1744833600-1744844400@pub78.com
SUMMARY:Open Mic with Kelly Ott
DESCRIPTION:Join us on Wednesdays for Open Mic hosted by Kelly Ott! Come out and play solo or there is always someone to jam out with. If you don’t sing or play\, you can come out and watch local musicians/artists perform. Kelly runs sound and drum kit available. Kitchen open until 9pm!
URL:https://pub78.com/event/open-mic-with-kelly-ott-23/
LOCATION:Pub 78: 3733 Grand Blvd\, Brookfield\, IL 60513
CATEGORIES:Music & Events
ATTACH;FMTTYPE=image/jpeg:https://pub78.com/wp-content/uploads/Open-Mic-2.jpg
END:VEVENT
BEGIN:VEVENT
DTSTART;TZID=America/Chicago:20250412T200000
DTEND;TZID=America/Chicago:20250412T230000
DTSTAMP:20260425T065304
CREATED:20250323T175230Z
LAST-MODIFIED:20250323T175230Z
UID:4666-1744488000-1744498800@pub78.com
SUMMARY:Exhale
DESCRIPTION:New wave & Alternative ROCK CLASSICS\nFrom the 80’s 90’s & now \nVisit us at https://exhaleband.com for bookings\, upcoming shows\, social and more!
URL:https://pub78.com/event/exhale-3/
LOCATION:Pub 78: 3733 Grand Blvd\, Brookfield\, IL 60513
CATEGORIES:Music & Events
ATTACH;FMTTYPE=image/jpeg:https://pub78.com/wp-content/uploads/exhale-1.jpg
END:VEVENT
BEGIN:VEVENT
DTSTART;TZID=America/Chicago:20250411T200000
DTEND;TZID=America/Chicago:20250411T230000
DTSTAMP:20260425T065304
CREATED:20250323T174728Z
LAST-MODIFIED:20250323T174728Z
UID:4663-1744401600-1744412400@pub78.com
SUMMARY:The Jolly Ringwalds
DESCRIPTION:80s party and more! No cover charge!
URL:https://pub78.com/event/the-jolly-ringwalds-2/
LOCATION:Pub 78: 3733 Grand Blvd\, Brookfield\, IL 60513
CATEGORIES:Music & Events
ATTACH;FMTTYPE=image/jpeg:https://pub78.com/wp-content/uploads/jolly0411.jpg
END:VEVENT
BEGIN:VEVENT
DTSTART;TZID=America/Chicago:20250410T190000
DTEND;TZID=America/Chicago:20250410T190000
DTSTAMP:20260425T065304
CREATED:20250315T172706Z
LAST-MODIFIED:20250315T172720Z
UID:4653-1744311600-1744311600@pub78.com
SUMMARY:Singo with Katie Redmond
DESCRIPTION:Singo is bingo with music! We drop beats not balls! You don’t have to sing but will find yourself singing along. We play three rounds that last about 45 minutes per rounds with breaks in between. You can get in on any round or play all three. Kitchen is open until 9pm
URL:https://pub78.com/event/singo-with-katie-redmond-23/
LOCATION:Pub 78: 3733 Grand Blvd\, Brookfield\, IL 60513
CATEGORIES:Music & Events
ATTACH;FMTTYPE=image/jpeg:https://pub78.com/wp-content/uploads/Singo-1.jpg
END:VEVENT
BEGIN:VEVENT
DTSTART;TZID=America/Chicago:20250409T200000
DTEND;TZID=America/Chicago:20250409T230000
DTSTAMP:20260425T065304
CREATED:20250315T172327Z
LAST-MODIFIED:20250315T172327Z
UID:4644-1744228800-1744239600@pub78.com
SUMMARY:Open Mic with Kelly Ott
DESCRIPTION:Join us on Wednesdays for Open Mic hosted by Kelly Ott! Come out and play solo or there is always someone to jam out with. If you don’t sing or play\, you can come out and watch local musicians/artists perform. Kelly runs sound and drum kit available. Kitchen open until 9pm!
URL:https://pub78.com/event/open-mic-with-kelly-ott-22/
LOCATION:Pub 78: 3733 Grand Blvd\, Brookfield\, IL 60513
CATEGORIES:Music & Events
ATTACH;FMTTYPE=image/jpeg:https://pub78.com/wp-content/uploads/Open-Mic-2.jpg
END:VEVENT
BEGIN:VEVENT
DTSTART;TZID=America/Chicago:20250405T200000
DTEND;TZID=America/Chicago:20250405T230000
DTSTAMP:20260425T065304
CREATED:20250323T174235Z
LAST-MODIFIED:20250323T174235Z
UID:4660-1743883200-1743894000@pub78.com
SUMMARY:Just for Kicks
DESCRIPTION:🎶Get ready for a night of great music as Just For Kicks takes the stage at Pub 78 in Brookfield! This talented group of musicians will be bringing an interesting mix of country\, soft rock\, and pop songs\, creating the perfect soundtrack for a fun and memorable evening.
URL:https://pub78.com/event/just-for-kicks/
LOCATION:Pub 78: 3733 Grand Blvd\, Brookfield\, IL 60513
CATEGORIES:Music & Events
ATTACH;FMTTYPE=image/jpeg:https://pub78.com/wp-content/uploads/Just-for-kicks.jpg
END:VEVENT
BEGIN:VEVENT
DTSTART;TZID=America/Chicago:20250404T200000
DTEND;TZID=America/Chicago:20250404T230000
DTSTAMP:20260425T065304
CREATED:20250315T171538Z
LAST-MODIFIED:20250315T171538Z
UID:4636-1743796800-1743807600@pub78.com
SUMMARY:The Telltale Hearts
DESCRIPTION:
URL:https://pub78.com/event/the-telltale-hearts-3/
LOCATION:Pub 78: 3733 Grand Blvd\, Brookfield\, IL 60513
CATEGORIES:Music & Events
ATTACH;FMTTYPE=image/png:https://pub78.com/wp-content/uploads/TTH.png
END:VEVENT
BEGIN:VEVENT
DTSTART;TZID=America/Chicago:20250403T190000
DTEND;TZID=America/Chicago:20250403T190000
DTSTAMP:20260425T065304
CREATED:20250305T170445Z
LAST-MODIFIED:20250305T170445Z
UID:4626-1743706800-1743706800@pub78.com
SUMMARY:Singo with Katie Redmond
DESCRIPTION:Singo is bingo with music! We drop beats not balls! You don’t have to sing but will find yourself singing along. We play three rounds that last about 45 minutes per rounds with breaks in between. You can get in on any round or play all three. Kitchen is open until 9pm
URL:https://pub78.com/event/singo-with-katie-redmond-22/
LOCATION:Pub 78: 3733 Grand Blvd\, Brookfield\, IL 60513
CATEGORIES:Music & Events
ATTACH;FMTTYPE=image/jpeg:https://pub78.com/wp-content/uploads/Singo-1.jpg
END:VEVENT
BEGIN:VEVENT
DTSTART;TZID=America/Chicago:20250402T200000
DTEND;TZID=America/Chicago:20250402T230000
DTSTAMP:20260425T065304
CREATED:20250305T170539Z
LAST-MODIFIED:20250305T170539Z
UID:4628-1743624000-1743634800@pub78.com
SUMMARY:Open Mic with Kelly Ott
DESCRIPTION:Join us on Wednesdays for Open Mic hosted by Kelly Ott! Come out and play solo or there is always someone to jam out with. If you don’t sing or play\, you can come out and watch local musicians/artists perform. Kelly runs sound and drum kit available. Kitchen open until 9pm!
URL:https://pub78.com/event/open-mic-with-kelly-ott-21/
LOCATION:Pub 78: 3733 Grand Blvd\, Brookfield\, IL 60513
CATEGORIES:Music & Events
ATTACH;FMTTYPE=image/jpeg:https://pub78.com/wp-content/uploads/Open-Mic-2.jpg
END:VEVENT
BEGIN:VEVENT
DTSTART;TZID=America/Chicago:20250329T200000
DTEND;TZID=America/Chicago:20250329T230000
DTSTAMP:20260425T065304
CREATED:20250305T165916Z
LAST-MODIFIED:20250305T170035Z
UID:4623-1743278400-1743289200@pub78.com
SUMMARY:Don't Matter To Me
DESCRIPTION:
URL:https://pub78.com/event/dont-matter-to-me-3/
LOCATION:Pub 78: 3733 Grand Blvd\, Brookfield\, IL 60513
CATEGORIES:Music & Events
ATTACH;FMTTYPE=image/jpeg:https://pub78.com/wp-content/uploads/DMTM-3.jpg
END:VEVENT
BEGIN:VEVENT
DTSTART;TZID=America/Chicago:20250328T200000
DTEND;TZID=America/Chicago:20250328T230000
DTSTAMP:20260425T065304
CREATED:20250305T165513Z
LAST-MODIFIED:20250309T221212Z
UID:4620-1743192000-1743202800@pub78.com
SUMMARY:Hearts & Boots
DESCRIPTION:Hearts & Boots is excited to perform at Pub 78. With a blend of rock and country hits\, their high-energy show is sure to have you dancing all night long. Put on your dancing boots and we’ll meet you on the dance floor!!
URL:https://pub78.com/event/hearts-boots/
LOCATION:Pub 78: 3733 Grand Blvd\, Brookfield\, IL 60513
CATEGORIES:Music & Events
ATTACH;FMTTYPE=image/jpeg:https://pub78.com/wp-content/uploads/hb.jpg
END:VEVENT
BEGIN:VEVENT
DTSTART;TZID=America/Chicago:20250327T190000
DTEND;TZID=America/Chicago:20250327T190000
DTSTAMP:20260425T065304
CREATED:20250227T182517Z
LAST-MODIFIED:20250227T182517Z
UID:4595-1743102000-1743102000@pub78.com
SUMMARY:Singo with Katie Redmond
DESCRIPTION:Singo is bingo with music! We drop beats not balls! You don’t have to sing but will find yourself singing along. We play three rounds that last about 45 minutes per rounds with breaks in between. You can get in on any round or play all three. Kitchen is open until 9pm
URL:https://pub78.com/event/singo-with-katie-redmond-21/
LOCATION:Pub 78: 3733 Grand Blvd\, Brookfield\, IL 60513
CATEGORIES:Music & Events
ATTACH;FMTTYPE=image/jpeg:https://pub78.com/wp-content/uploads/Singo-1.jpg
END:VEVENT
BEGIN:VEVENT
DTSTART;TZID=America/Chicago:20250326T200000
DTEND;TZID=America/Chicago:20250326T230000
DTSTAMP:20260425T065304
CREATED:20250227T182125Z
LAST-MODIFIED:20250227T182125Z
UID:4587-1743019200-1743030000@pub78.com
SUMMARY:Open Mic with Kelly Ott
DESCRIPTION:Join us on Wednesdays for Open Mic hosted by Kelly Ott! Come out and play solo or there is always someone to jam out with. If you don’t sing or play\, you can come out and watch local musicians/artists perform. Kelly runs sound and drum kit available. Kitchen open until 9pm!
URL:https://pub78.com/event/open-mic-with-kelly-ott-20/
LOCATION:Pub 78: 3733 Grand Blvd\, Brookfield\, IL 60513
CATEGORIES:Music & Events
ATTACH;FMTTYPE=image/jpeg:https://pub78.com/wp-content/uploads/openmic-e1708019639280.jpg
END:VEVENT
BEGIN:VEVENT
DTSTART;TZID=America/Chicago:20250322T200000
DTEND;TZID=America/Chicago:20250322T230000
DTSTAMP:20260425T065304
CREATED:20250305T165158Z
LAST-MODIFIED:20250305T165158Z
UID:4618-1742673600-1742684400@pub78.com
SUMMARY:Easily Distracted
DESCRIPTION:
URL:https://pub78.com/event/easily-distracted-3/
LOCATION:Pub 78: 3733 Grand Blvd\, Brookfield\, IL 60513
CATEGORIES:Music & Events
ATTACH;FMTTYPE=image/jpeg:https://pub78.com/wp-content/uploads/ed.jpg
END:VEVENT
BEGIN:VEVENT
DTSTART;TZID=America/Chicago:20250321T200000
DTEND;TZID=America/Chicago:20250321T230000
DTSTAMP:20260425T065304
CREATED:20250305T164159Z
LAST-MODIFIED:20250305T164159Z
UID:4616-1742587200-1742598000@pub78.com
SUMMARY:The Neighborhood
DESCRIPTION:
URL:https://pub78.com/event/the-neighborhood-6/
LOCATION:Pub 78: 3733 Grand Blvd\, Brookfield\, IL 60513
CATEGORIES:Music & Events
ATTACH;FMTTYPE=image/jpeg:https://pub78.com/wp-content/uploads/tn.jpg
END:VEVENT
BEGIN:VEVENT
DTSTART;TZID=America/Chicago:20250320T190000
DTEND;TZID=America/Chicago:20250320T190000
DTSTAMP:20260425T065304
CREATED:20250227T182433Z
LAST-MODIFIED:20250227T182433Z
UID:4593-1742497200-1742497200@pub78.com
SUMMARY:Singo with Katie Redmond
DESCRIPTION:Singo is bingo with music! We drop beats not balls! You don’t have to sing but will find yourself singing along. We play three rounds that last about 45 minutes per rounds with breaks in between. You can get in on any round or play all three. Kitchen is open until 9pm
URL:https://pub78.com/event/singo-with-katie-redmond-20/
LOCATION:Pub 78: 3733 Grand Blvd\, Brookfield\, IL 60513
CATEGORIES:Music & Events
ATTACH;FMTTYPE=image/jpeg:https://pub78.com/wp-content/uploads/Singo-1.jpg
END:VEVENT
BEGIN:VEVENT
DTSTART;TZID=America/Chicago:20250319T200000
DTEND;TZID=America/Chicago:20250319T230000
DTSTAMP:20260425T065304
CREATED:20250227T182035Z
LAST-MODIFIED:20250227T182035Z
UID:4585-1742414400-1742425200@pub78.com
SUMMARY:Open Mic with Kelly Ott
DESCRIPTION:Join us on Wednesdays for Open Mic hosted by Kelly Ott! Come out and play solo or there is always someone to jam out with. If you don’t sing or play\, you can come out and watch local musicians/artists perform. Kelly runs sound and drum kit available. Kitchen open until 9pm!
URL:https://pub78.com/event/open-mic-with-kelly-ott-19/
LOCATION:Pub 78: 3733 Grand Blvd\, Brookfield\, IL 60513
CATEGORIES:Music & Events
ATTACH;FMTTYPE=image/jpeg:https://pub78.com/wp-content/uploads/Open-Mic-2.jpg
END:VEVENT
BEGIN:VEVENT
DTSTART;TZID=America/Chicago:20250316T123000
DTEND;TZID=America/Chicago:20250316T133000
DTSTAMP:20260425T065304
CREATED:20250309T182317Z
LAST-MODIFIED:20250309T182458Z
UID:4630-1742128200-1742131800@pub78.com
SUMMARY:Pub Church
DESCRIPTION:Join us at Pub 78 with Pastor Craig and Every Day Grace band. All are welcome!
URL:https://pub78.com/event/pub-church-8/
LOCATION:Pub 78: 3733 Grand Blvd\, Brookfield\, IL 60513
CATEGORIES:Music & Events
END:VEVENT
BEGIN:VEVENT
DTSTART;VALUE=DATE:20250316
DTEND;VALUE=DATE:20250317
DTSTAMP:20260425T065304
CREATED:20250309T182434Z
LAST-MODIFIED:20250309T182434Z
UID:4632-1742083200-1742169599@pub78.com
SUMMARY:The Redmonds Trio
DESCRIPTION:Come out and celebrate St. Patrick’s Day on Sunday with live music!
URL:https://pub78.com/event/the-redmonds-trio/
LOCATION:Pub 78: 3733 Grand Blvd\, Brookfield\, IL 60513
CATEGORIES:Music & Events
END:VEVENT
BEGIN:VEVENT
DTSTART;TZID=America/Chicago:20250315T200000
DTEND;TZID=America/Chicago:20250315T230000
DTSTAMP:20260425T065304
CREATED:20250227T183130Z
LAST-MODIFIED:20250227T183518Z
UID:4604-1742068800-1742079600@pub78.com
SUMMARY:Bipolar Bear
DESCRIPTION:
URL:https://pub78.com/event/bipolar-bear-2/
LOCATION:Pub 78: 3733 Grand Blvd\, Brookfield\, IL 60513
CATEGORIES:Music & Events
ATTACH;FMTTYPE=image/jpeg:https://pub78.com/wp-content/uploads/bb.jpg
END:VEVENT
BEGIN:VEVENT
DTSTART;TZID=America/Chicago:20250314T200000
DTEND;TZID=America/Chicago:20250314T230000
DTSTAMP:20260425T065304
CREATED:20250227T183045Z
LAST-MODIFIED:20250227T184151Z
UID:4602-1741982400-1741993200@pub78.com
SUMMARY:Buckwild Band
DESCRIPTION:
URL:https://pub78.com/event/buckwild/
LOCATION:Pub 78: 3733 Grand Blvd\, Brookfield\, IL 60513
CATEGORIES:Music & Events
END:VEVENT
BEGIN:VEVENT
DTSTART;TZID=America/Chicago:20250313T190000
DTEND;TZID=America/Chicago:20250313T190000
DTSTAMP:20260425T065304
CREATED:20250227T182340Z
LAST-MODIFIED:20250227T182340Z
UID:4591-1741892400-1741892400@pub78.com
SUMMARY:Singo with Katie Redmond
DESCRIPTION:Singo is bingo with music! We drop beats not balls! You don’t have to sing but will find yourself singing along. We play three rounds that last about 45 minutes per rounds with breaks in between. You can get in on any round or play all three. Kitchen is open until 9pm
URL:https://pub78.com/event/singo-with-katie-redmond-19/
LOCATION:Pub 78: 3733 Grand Blvd\, Brookfield\, IL 60513
CATEGORIES:Music & Events
ATTACH;FMTTYPE=image/jpeg:https://pub78.com/wp-content/uploads/Singo-1.jpg
END:VEVENT
BEGIN:VEVENT
DTSTART;TZID=America/Chicago:20250312T200000
DTEND;TZID=America/Chicago:20250312T230000
DTSTAMP:20260425T065304
CREATED:20250227T182000Z
LAST-MODIFIED:20250227T182000Z
UID:4583-1741809600-1741820400@pub78.com
SUMMARY:Open Mic with Kelly Ott
DESCRIPTION:Join us on Wednesdays for Open Mic hosted by Kelly Ott! Come out and play solo or there is always someone to jam out with. If you don’t sing or play\, you can come out and watch local musicians/artists perform. Kelly runs sound and drum kit available. Kitchen open until 9pm!
URL:https://pub78.com/event/open-mic-with-kelly-ott-18/
LOCATION:Pub 78: 3733 Grand Blvd\, Brookfield\, IL 60513
CATEGORIES:Music & Events
ATTACH;FMTTYPE=image/jpeg:https://pub78.com/wp-content/uploads/Open-Mic-2.jpg
END:VEVENT
BEGIN:VEVENT
DTSTART;TZID=America/Chicago:20250308T200000
DTEND;TZID=America/Chicago:20250308T230000
DTSTAMP:20260425T065304
CREATED:20250227T183009Z
LAST-MODIFIED:20250227T183943Z
UID:4600-1741464000-1741474800@pub78.com
SUMMARY:August James Band
DESCRIPTION:
URL:https://pub78.com/event/august-james/
LOCATION:Pub 78: 3733 Grand Blvd\, Brookfield\, IL 60513
CATEGORIES:Music & Events
ATTACH;FMTTYPE=image/jpeg:https://pub78.com/wp-content/uploads/aj.jpg
END:VEVENT
BEGIN:VEVENT
DTSTART;TZID=America/Chicago:20250307T200000
DTEND;TZID=America/Chicago:20250307T230000
DTSTAMP:20260425T065304
CREATED:20250227T182831Z
LAST-MODIFIED:20250227T182929Z
UID:4597-1741377600-1741388400@pub78.com
SUMMARY:Billy Gray Music - Full Band
DESCRIPTION:Join BILLY GRAY MUSIC BAND for a night of old school country music!! \nPlease join us and help us celebrate the leader of the band….BILLY GRAY! There’s no place he’d rather be on his birthday than with his amazing band\, on stage\, and performing for y’all!
URL:https://pub78.com/event/billy-gray-music-full-band-2/
LOCATION:Pub 78: 3733 Grand Blvd\, Brookfield\, IL 60513
CATEGORIES:Music & Events
ATTACH;FMTTYPE=image/jpeg:https://pub78.com/wp-content/uploads/bg-1.jpg
END:VEVENT
BEGIN:VEVENT
DTSTART;TZID=America/Chicago:20250306T190000
DTEND;TZID=America/Chicago:20250306T190000
DTSTAMP:20260425T065304
CREATED:20250227T182242Z
LAST-MODIFIED:20250227T182242Z
UID:4589-1741287600-1741287600@pub78.com
SUMMARY:Singo with Katie Redmond
DESCRIPTION:Singo is bingo with music! We drop beats not balls! You don’t have to sing but will find yourself singing along. We play three rounds that last about 45 minutes per rounds with breaks in between. You can get in on any round or play all three. Kitchen is open until 9pm
URL:https://pub78.com/event/singo-with-katie-redmond-18/
LOCATION:Pub 78: 3733 Grand Blvd\, Brookfield\, IL 60513
CATEGORIES:Music & Events
ATTACH;FMTTYPE=image/jpeg:https://pub78.com/wp-content/uploads/Singo-1.jpg
END:VEVENT
BEGIN:VEVENT
DTSTART;TZID=America/Chicago:20250305T200000
DTEND;TZID=America/Chicago:20250305T230000
DTSTAMP:20260425T065304
CREATED:20250227T181909Z
LAST-MODIFIED:20250227T181909Z
UID:4581-1741204800-1741215600@pub78.com
SUMMARY:Open Mic with Kelly Ott
DESCRIPTION:Join us on Wednesdays for Open Mic hosted by Kelly Ott! Come out and play solo or there is always someone to jam out with. If you don’t sing or play\, you can come out and watch local musicians/artists perform. Kelly runs sound and drum kit available. Kitchen open until 9pm!
URL:https://pub78.com/event/open-mic-with-kelly-ott-17/
LOCATION:Pub 78: 3733 Grand Blvd\, Brookfield\, IL 60513
CATEGORIES:Music & Events
ATTACH;FMTTYPE=image/jpeg:https://pub78.com/wp-content/uploads/Open-Mic-2.jpg
END:VEVENT
BEGIN:VEVENT
DTSTART;TZID=America/Chicago:20250301T200000
DTEND;TZID=America/Chicago:20250301T230000
DTSTAMP:20260425T065304
CREATED:20250226T210837Z
LAST-MODIFIED:20250227T213905Z
UID:4579-1740859200-1740870000@pub78.com
SUMMARY:Southside Boogie
DESCRIPTION:Southside Boogie is debuting at the Pub!\nCheck out their website https://southsideboogie.com/home
URL:https://pub78.com/event/total-sacrifice-2/
LOCATION:Pub 78: 3733 Grand Blvd\, Brookfield\, IL 60513
CATEGORIES:Music & Events
ATTACH;FMTTYPE=image/jpeg:https://pub78.com/wp-content/uploads/ssb.jpg
END:VEVENT
BEGIN:VEVENT
DTSTART;TZID=America/Chicago:20250228T200000
DTEND;TZID=America/Chicago:20250228T230000
DTSTAMP:20260425T065304
CREATED:20250130T222501Z
LAST-MODIFIED:20250130T222501Z
UID:4551-1740772800-1740783600@pub78.com
SUMMARY:Lizzy and the Rockers
DESCRIPTION:Lizzy and the Rockers are coming back to the Pub!
URL:https://pub78.com/event/lizzy-and-the-rockers-2/
LOCATION:Pub 78: 3733 Grand Blvd\, Brookfield\, IL 60513
CATEGORIES:Music & Events
ATTACH;FMTTYPE=image/jpeg:https://pub78.com/wp-content/uploads/lizzy-2.jpg
END:VEVENT
END:VCALENDAR