BEGIN:VCALENDAR
VERSION:2.0
PRODID:-//Pub 78 - ECPv6.15.20//NONSGML v1.0//EN
CALSCALE:GREGORIAN
METHOD:PUBLISH
X-WR-CALNAME:Pub 78
X-ORIGINAL-URL:https://pub78.com
X-WR-CALDESC:Events for Pub 78
REFRESH-INTERVAL;VALUE=DURATION:PT1H
X-Robots-Tag:noindex
X-PUBLISHED-TTL:PT1H
BEGIN:VTIMEZONE
TZID:America/Chicago
BEGIN:DAYLIGHT
TZOFFSETFROM:-0600
TZOFFSETTO:-0500
TZNAME:CDT
DTSTART:20240310T080000
END:DAYLIGHT
BEGIN:STANDARD
TZOFFSETFROM:-0500
TZOFFSETTO:-0600
TZNAME:CST
DTSTART:20241103T070000
END:STANDARD
BEGIN:DAYLIGHT
TZOFFSETFROM:-0600
TZOFFSETTO:-0500
TZNAME:CDT
DTSTART:20250309T080000
END:DAYLIGHT
BEGIN:STANDARD
TZOFFSETFROM:-0500
TZOFFSETTO:-0600
TZNAME:CST
DTSTART:20251102T070000
END:STANDARD
BEGIN:DAYLIGHT
TZOFFSETFROM:-0600
TZOFFSETTO:-0500
TZNAME:CDT
DTSTART:20260308T080000
END:DAYLIGHT
BEGIN:STANDARD
TZOFFSETFROM:-0500
TZOFFSETTO:-0600
TZNAME:CST
DTSTART:20261101T070000
END:STANDARD
END:VTIMEZONE
BEGIN:VEVENT
DTSTART;TZID=America/Chicago:20250515T190000
DTEND;TZID=America/Chicago:20250515T190000
DTSTAMP:20260425T101106
CREATED:20250419T162603Z
LAST-MODIFIED:20250419T162603Z
UID:4692-1747335600-1747335600@pub78.com
SUMMARY:Singo with Katie Redmond
DESCRIPTION:Singo is bingo with music! We drop beats not balls! You don’t have to sing but will find yourself singing along. We play three rounds that last about 45 minutes per rounds with breaks in between. You can get in on any round or play all three. Winners from each round can select a prize from the prize table. Kitchen is open until 9pm
URL:https://pub78.com/event/singo-with-katie-redmond-28/
LOCATION:Pub 78: 3733 Grand Blvd\, Brookfield\, IL 60513
CATEGORIES:Music & Events
ATTACH;FMTTYPE=image/jpeg:https://pub78.com/wp-content/uploads/Singo-1.jpg
END:VEVENT
BEGIN:VEVENT
DTSTART;TZID=America/Chicago:20250516T200000
DTEND;TZID=America/Chicago:20250516T230000
DTSTAMP:20260425T101106
CREATED:20250506T174855Z
LAST-MODIFIED:20250513T135538Z
UID:4734-1747425600-1747436400@pub78.com
SUMMARY:Open Mic / Open Jam with Alex Hamer
DESCRIPTION:We are having a special open mic/open jam on Friday\, May 16 8-11pm. Come out and play solo or with others or just to listen to great local musicians! \nHouse drum kit available
URL:https://pub78.com/event/open-mic-open-jam-with-alex-hammer/
LOCATION:Pub 78: 3733 Grand Blvd\, Brookfield\, IL 60513
CATEGORIES:Music & Events
ATTACH;FMTTYPE=image/png:https://pub78.com/wp-content/uploads/Pub-78-Open-MicOpen-Jam-with-Alex-Hamer.png
END:VEVENT
BEGIN:VEVENT
DTSTART;TZID=America/Chicago:20250517T200000
DTEND;TZID=America/Chicago:20250517T230000
DTSTAMP:20260425T101106
CREATED:20250419T170931Z
LAST-MODIFIED:20250419T171907Z
UID:4721-1747512000-1747522800@pub78.com
SUMMARY:The PriSSillas
DESCRIPTION:
URL:https://pub78.com/event/the-prissillas-2/
LOCATION:Pub 78: 3733 Grand Blvd\, Brookfield\, IL 60513
CATEGORIES:Music & Events
ATTACH;FMTTYPE=image/jpeg:https://pub78.com/wp-content/uploads/prissillas-1.jpg
END:VEVENT
BEGIN:VEVENT
DTSTART;TZID=America/Chicago:20250521T200000
DTEND;TZID=America/Chicago:20250521T230000
DTSTAMP:20260425T101106
CREATED:20250419T163208Z
LAST-MODIFIED:20250419T163208Z
UID:4702-1747857600-1747868400@pub78.com
SUMMARY:Open Mic with Kelly Ott
DESCRIPTION:Join us on Wednesdays for Open Mic hosted by Kelly Ott! Come out and play solo or there is always someone to jam out with. If you don’t sing or play\, you can come out and watch local musicians/artists perform. Kelly runs sound and drum kit available. Kitchen open until 9pm!
URL:https://pub78.com/event/open-mic-with-kelly-ott-28/
LOCATION:Pub 78: 3733 Grand Blvd\, Brookfield\, IL 60513
CATEGORIES:Music & Events
ATTACH;FMTTYPE=image/jpeg:https://pub78.com/wp-content/uploads/Open-Mic-2.jpg
END:VEVENT
BEGIN:VEVENT
DTSTART;TZID=America/Chicago:20250522T190000
DTEND;TZID=America/Chicago:20250522T190000
DTSTAMP:20260425T101106
CREATED:20250419T162808Z
LAST-MODIFIED:20250419T162808Z
UID:4694-1747940400-1747940400@pub78.com
SUMMARY:Singo with Katie Redmond
DESCRIPTION:Singo is bingo with music! We drop beats not balls! You don’t have to sing but will find yourself singing along. We play three rounds that last about 45 minutes per rounds with breaks in between. You can get in on any round or play all three. Winners from each round can select a prize from the prize table. Kitchen is open until 9pm
URL:https://pub78.com/event/singo-with-katie-redmond-29/
LOCATION:Pub 78: 3733 Grand Blvd\, Brookfield\, IL 60513
CATEGORIES:Music & Events
ATTACH;FMTTYPE=image/jpeg:https://pub78.com/wp-content/uploads/Singo-1.jpg
END:VEVENT
BEGIN:VEVENT
DTSTART;TZID=America/Chicago:20250523T200000
DTEND;TZID=America/Chicago:20250523T230000
DTSTAMP:20260425T101106
CREATED:20250501T163310Z
LAST-MODIFIED:20250501T163310Z
UID:4730-1748030400-1748041200@pub78.com
SUMMARY:Route 66 Band
DESCRIPTION:
URL:https://pub78.com/event/route-66-band/
LOCATION:Pub 78: 3733 Grand Blvd\, Brookfield\, IL 60513
CATEGORIES:Music & Events
END:VEVENT
BEGIN:VEVENT
DTSTART;TZID=America/Chicago:20250524T200000
DTEND;TZID=America/Chicago:20250524T230000
DTSTAMP:20260425T101106
CREATED:20250501T163448Z
LAST-MODIFIED:20250501T163448Z
UID:4732-1748116800-1748127600@pub78.com
SUMMARY:Southwater Band
DESCRIPTION:
URL:https://pub78.com/event/southwater-band/
LOCATION:Pub 78: 3733 Grand Blvd\, Brookfield\, IL 60513
CATEGORIES:Music & Events
END:VEVENT
BEGIN:VEVENT
DTSTART;TZID=America/Chicago:20250528T200000
DTEND;TZID=America/Chicago:20250528T230000
DTSTAMP:20260425T101106
CREATED:20250419T163812Z
LAST-MODIFIED:20250419T163812Z
UID:4704-1748462400-1748473200@pub78.com
SUMMARY:Open Mic with Kelly Ott
DESCRIPTION:Join us on Wednesdays for Open Mic hosted by Kelly Ott! Come out and play solo or there is always someone to jam out with. If you don’t sing or play\, you can come out and watch local musicians/artists perform. Kelly runs sound and drum kit available. Kitchen open until 9pm!
URL:https://pub78.com/event/open-mic-with-kelly-ott-29/
LOCATION:Pub 78: 3733 Grand Blvd\, Brookfield\, IL 60513
CATEGORIES:Music & Events
ATTACH;FMTTYPE=image/jpeg:https://pub78.com/wp-content/uploads/Open-Mic-2.jpg
END:VEVENT
BEGIN:VEVENT
DTSTART;TZID=America/Chicago:20250529T190000
DTEND;TZID=America/Chicago:20250529T190000
DTSTAMP:20260425T101106
CREATED:20250419T162900Z
LAST-MODIFIED:20250419T162900Z
UID:4696-1748545200-1748545200@pub78.com
SUMMARY:Singo with Katie Redmond
DESCRIPTION:Singo is bingo with music! We drop beats not balls! You don’t have to sing but will find yourself singing along. We play three rounds that last about 45 minutes per rounds with breaks in between. You can get in on any round or play all three. Winners from each round can select a prize from the prize table. Kitchen is open until 9pm
URL:https://pub78.com/event/singo-with-katie-redmond-30/
LOCATION:Pub 78: 3733 Grand Blvd\, Brookfield\, IL 60513
CATEGORIES:Music & Events
ATTACH;FMTTYPE=image/jpeg:https://pub78.com/wp-content/uploads/Singo-1.jpg
END:VEVENT
BEGIN:VEVENT
DTSTART;TZID=America/Chicago:20250530T200000
DTEND;TZID=America/Chicago:20250530T230000
DTSTAMP:20260425T101106
CREATED:20250528T235623Z
LAST-MODIFIED:20250528T235750Z
UID:4740-1748635200-1748646000@pub78.com
SUMMARY:Live Music: The Neighborhood
DESCRIPTION:
URL:https://pub78.com/event/live-music-the-neighborhood-12/
LOCATION:Pub 78: 3733 Grand Blvd\, Brookfield\, IL 60513
CATEGORIES:Music & Events
END:VEVENT
BEGIN:VEVENT
DTSTART;TZID=America/Chicago:20250531T200000
DTEND;TZID=America/Chicago:20250531T230000
DTSTAMP:20260425T101106
CREATED:20250528T235941Z
LAST-MODIFIED:20250528T235941Z
UID:4742-1748721600-1748732400@pub78.com
SUMMARY:Live Music: GJAK'D UP
DESCRIPTION:
URL:https://pub78.com/event/live-music-gjakd-up-6/
LOCATION:Pub 78: 3733 Grand Blvd\, Brookfield\, IL 60513
CATEGORIES:Music & Events
END:VEVENT
BEGIN:VEVENT
DTSTART;TZID=America/Chicago:20250604T200000
DTEND;TZID=America/Chicago:20250604T230000
DTSTAMP:20260425T101106
CREATED:20250529T000221Z
LAST-MODIFIED:20250529T000221Z
UID:4744-1749067200-1749078000@pub78.com
SUMMARY:Open Mic with Kelly Ott
DESCRIPTION:Join us on Wednesdays for Open Mic hosted by Kelly Ott! Come out and play solo or there is always someone to jam out with. If you don’t sing or play\, you can come out and watch local musicians/artists perform. Kelly runs sound and drum kit available. Kitchen open until 9pm!
URL:https://pub78.com/event/open-mic-with-kelly-ott-30/
LOCATION:Pub 78: 3733 Grand Blvd\, Brookfield\, IL 60513
CATEGORIES:Music & Events
ATTACH;FMTTYPE=image/jpeg:https://pub78.com/wp-content/uploads/Open-Mic-2.jpg
END:VEVENT
BEGIN:VEVENT
DTSTART;TZID=America/Chicago:20250605T190000
DTEND;TZID=America/Chicago:20250605T190000
DTSTAMP:20260425T101106
CREATED:20250529T000914Z
LAST-MODIFIED:20250529T000914Z
UID:4750-1749150000-1749150000@pub78.com
SUMMARY:Singo with Katie Redmond
DESCRIPTION:Singo is bingo with music! We drop beats not balls! You don’t have to sing but will find yourself singing along. We play three rounds that last about 45 minutes per rounds with breaks in between. You can get in on any round or play all three. Winners from each round can select a prize from the prize table. Kitchen is open until 9pm
URL:https://pub78.com/event/singo-with-katie-redmond-31/
LOCATION:Pub 78: 3733 Grand Blvd\, Brookfield\, IL 60513
CATEGORIES:Music & Events
ATTACH;FMTTYPE=image/jpeg:https://pub78.com/wp-content/uploads/Singo-1.jpg
END:VEVENT
BEGIN:VEVENT
DTSTART;TZID=America/Chicago:20250606T200000
DTEND;TZID=America/Chicago:20250606T230000
DTSTAMP:20260425T101106
CREATED:20250529T001224Z
LAST-MODIFIED:20250529T001224Z
UID:4754-1749240000-1749250800@pub78.com
SUMMARY:Live Music: Southside Boogie
DESCRIPTION:
URL:https://pub78.com/event/live-music-southside-boogie/
LOCATION:Pub 78: 3733 Grand Blvd\, Brookfield\, IL 60513
CATEGORIES:Music & Events
END:VEVENT
BEGIN:VEVENT
DTSTART;TZID=America/Chicago:20250611T200000
DTEND;TZID=America/Chicago:20250611T230000
DTSTAMP:20260425T101106
CREATED:20250529T000441Z
LAST-MODIFIED:20250529T000441Z
UID:4746-1749672000-1749682800@pub78.com
SUMMARY:Open Mic with Kelly Ott
DESCRIPTION:Join us on Wednesdays for Open Mic hosted by Kelly Ott! Come out and play solo or there is always someone to jam out with. If you don’t sing or play\, you can come out and watch local musicians/artists perform. Kelly runs sound and drum kit available. Kitchen open until 9pm!
URL:https://pub78.com/event/open-mic-with-kelly-ott-31/
LOCATION:Pub 78: 3733 Grand Blvd\, Brookfield\, IL 60513
CATEGORIES:Music & Events
END:VEVENT
BEGIN:VEVENT
DTSTART;TZID=America/Chicago:20250612T190000
DTEND;TZID=America/Chicago:20250612T190000
DTSTAMP:20260425T101106
CREATED:20250529T001052Z
LAST-MODIFIED:20250529T001052Z
UID:4752-1749754800-1749754800@pub78.com
SUMMARY:Singo with Katie Redmond
DESCRIPTION:Singo is bingo with music! We drop beats not balls! You don’t have to sing but will find yourself singing along. We play three rounds that last about 45 minutes per rounds with breaks in between. You can get in on any round or play all three. Winners from each round can select a prize from the prize table. Kitchen is open until 9pm
URL:https://pub78.com/event/singo-with-katie-redmond-32/
LOCATION:Pub 78: 3733 Grand Blvd\, Brookfield\, IL 60513
CATEGORIES:Music & Events
ATTACH;FMTTYPE=image/jpeg:https://pub78.com/wp-content/uploads/Singo-1.jpg
END:VEVENT
BEGIN:VEVENT
DTSTART;TZID=America/Chicago:20250613T200000
DTEND;TZID=America/Chicago:20250613T230000
DTSTAMP:20260425T101106
CREATED:20250611T220656Z
LAST-MODIFIED:20250611T220656Z
UID:4764-1749844800-1749855600@pub78.com
SUMMARY:Ben Harrison Solo
DESCRIPTION:Ben returns from college and is ready to hit the stage!
URL:https://pub78.com/event/ben-harrison-solo/
LOCATION:Pub 78: 3733 Grand Blvd\, Brookfield\, IL 60513
CATEGORIES:Music & Events
ATTACH;FMTTYPE=image/jpeg:https://pub78.com/wp-content/uploads/Ben.jpeg
END:VEVENT
BEGIN:VEVENT
DTSTART;TZID=America/Chicago:20250614T200000
DTEND;TZID=America/Chicago:20250614T230000
DTSTAMP:20260425T101106
CREATED:20250529T001543Z
LAST-MODIFIED:20250611T220854Z
UID:4756-1749931200-1749942000@pub78.com
SUMMARY:Live Music: Hot Mic
DESCRIPTION:
URL:https://pub78.com/event/live-music-hot-mic-2/
LOCATION:Pub 78: 3733 Grand Blvd\, Brookfield\, IL 60513
CATEGORIES:Music & Events
ATTACH;FMTTYPE=image/jpeg:https://pub78.com/wp-content/uploads/hot-mic-0614.jpg
END:VEVENT
BEGIN:VEVENT
DTSTART;TZID=America/Chicago:20250618T200000
DTEND;TZID=America/Chicago:20250618T230000
DTSTAMP:20260425T101106
CREATED:20250529T000654Z
LAST-MODIFIED:20250529T000654Z
UID:4748-1750276800-1750287600@pub78.com
SUMMARY:Open Mic with Kelly Ott
DESCRIPTION:Join us on Wednesdays for Open Mic hosted by Kelly Ott! Come out and play solo or there is always someone to jam out with. If you don’t sing or play\, you can come out and watch local musicians/artists perform. Kelly runs sound and drum kit available. Kitchen open until 9pm!
URL:https://pub78.com/event/open-mic-with-kelly-ott-32/
LOCATION:Pub 78: 3733 Grand Blvd\, Brookfield\, IL 60513
CATEGORIES:Music & Events
ATTACH;FMTTYPE=image/jpeg:https://pub78.com/wp-content/uploads/Open-Mic-2.jpg
END:VEVENT
BEGIN:VEVENT
DTSTART;TZID=America/Chicago:20250619T190000
DTEND;TZID=America/Chicago:20250619T190000
DTSTAMP:20260425T101106
CREATED:20250529T001955Z
LAST-MODIFIED:20250529T002303Z
UID:4760-1750359600-1750359600@pub78.com
SUMMARY:Singo with Katie Redmond
DESCRIPTION:Singo is bingo with music! We drop beats not balls! You don’t have to sing but will find yourself singing along. We play three rounds that last about 45 minutes per rounds with breaks in between. You can get in on any round or play all three. Winners from each round can select a prize from the prize table. Kitchen is open until 9pm
URL:https://pub78.com/event/singo-with-katie-redmond-33/
LOCATION:Pub 78: 3733 Grand Blvd\, Brookfield\, IL 60513
CATEGORIES:Music & Events
ATTACH;FMTTYPE=image/jpeg:https://pub78.com/wp-content/uploads/Singo-1.jpg
END:VEVENT
BEGIN:VEVENT
DTSTART;TZID=America/Chicago:20250620T200000
DTEND;TZID=America/Chicago:20250620T230000
DTSTAMP:20260425T101106
CREATED:20250614T204608Z
LAST-MODIFIED:20250614T204608Z
UID:4774-1750449600-1750460400@pub78.com
SUMMARY:Kelly Ott & Frank Wysong
DESCRIPTION:Kelly Ott & Frank Wysong come to the Pub!  Check out this phenomenal duo!
URL:https://pub78.com/event/kelly-ott-frank-wysong/
LOCATION:Pub 78: 3733 Grand Blvd\, Brookfield\, IL 60513
CATEGORIES:Music & Events
END:VEVENT
BEGIN:VEVENT
DTSTART;TZID=America/Chicago:20250621T200000
DTEND;TZID=America/Chicago:20250621T230000
DTSTAMP:20260425T101106
CREATED:20250614T204445Z
LAST-MODIFIED:20250614T204445Z
UID:4771-1750536000-1750546800@pub78.com
SUMMARY:A&E
DESCRIPTION:A&E debut at the Pub!
URL:https://pub78.com/event/ae/
LOCATION:Pub 78: 3733 Grand Blvd\, Brookfield\, IL 60513
CATEGORIES:Music & Events
ATTACH;FMTTYPE=image/jpeg:https://pub78.com/wp-content/uploads/Ae.jpg
END:VEVENT
BEGIN:VEVENT
DTSTART;TZID=America/Chicago:20250625T200000
DTEND;TZID=America/Chicago:20250625T230000
DTSTAMP:20260425T101106
CREATED:20250529T001814Z
LAST-MODIFIED:20250529T001814Z
UID:4758-1750881600-1750892400@pub78.com
SUMMARY:Open Mic with Kelly Ott
DESCRIPTION:Join us on Wednesdays for Open Mic hosted by Kelly Ott! Come out and play solo or there is always someone to jam out with. If you don’t sing or play\, you can come out and watch local musicians/artists perform. Kelly runs sound and drum kit available. Kitchen open until 9pm!
URL:https://pub78.com/event/open-mic-with-kelly-ott-33/
LOCATION:Pub 78: 3733 Grand Blvd\, Brookfield\, IL 60513
CATEGORIES:Music & Events
ATTACH;FMTTYPE=image/jpeg:https://pub78.com/wp-content/uploads/Open-Mic-2.jpg
END:VEVENT
BEGIN:VEVENT
DTSTART;TZID=America/Chicago:20250626T190000
DTEND;TZID=America/Chicago:20250626T190000
DTSTAMP:20260425T101106
CREATED:20250529T002151Z
LAST-MODIFIED:20250529T002219Z
UID:4762-1750964400-1750964400@pub78.com
SUMMARY:Singo with Katie Redmond
DESCRIPTION:Singo is bingo with music! We drop beats not balls! You don’t have to sing but will find yourself singing along. We play three rounds that last about 45 minutes per rounds with breaks in between. You can get in on any round or play all three. Winners from each round can select a prize from the prize table. Kitchen is open until 9pm
URL:https://pub78.com/event/singo-with-katie-redmond-34/
LOCATION:Pub 78: 3733 Grand Blvd\, Brookfield\, IL 60513
CATEGORIES:Music & Events
ATTACH;FMTTYPE=image/jpeg:https://pub78.com/wp-content/uploads/Singo-1.jpg
END:VEVENT
BEGIN:VEVENT
DTSTART;TZID=America/Chicago:20250627T200000
DTEND;TZID=America/Chicago:20250627T230000
DTSTAMP:20260425T101106
CREATED:20250625T174113Z
LAST-MODIFIED:20250625T174212Z
UID:4799-1751054400-1751065200@pub78.com
SUMMARY:Brohirrim
DESCRIPTION:Brohirrim comes back to Pub 78…playing all of your favorites spanning decades.  Check them out at instagram.com/brohirrimband
URL:https://pub78.com/event/brohirrim-2/
LOCATION:Pub 78: 3733 Grand Blvd\, Brookfield\, IL 60513
CATEGORIES:Music & Events
ATTACH;FMTTYPE=image/jpeg:https://pub78.com/wp-content/uploads/bro-1.jpg
END:VEVENT
BEGIN:VEVENT
DTSTART;TZID=America/Chicago:20250628T200000
DTEND;TZID=America/Chicago:20250628T230000
DTSTAMP:20260425T101106
CREATED:20250614T204954Z
LAST-MODIFIED:20250617T181627Z
UID:4776-1751140800-1751151600@pub78.com
SUMMARY:The Vaughan Building
DESCRIPTION:The Vaughan Building returns to Pub 78!
URL:https://pub78.com/event/the-vaughn-building/
LOCATION:Pub 78: 3733 Grand Blvd\, Brookfield\, IL 60513
CATEGORIES:Music & Events
ATTACH;FMTTYPE=image/jpeg:https://pub78.com/wp-content/uploads/The-Vaugh.jpg
END:VEVENT
BEGIN:VEVENT
DTSTART;TZID=America/Chicago:20250702T200000
DTEND;TZID=America/Chicago:20250702T230000
DTSTAMP:20260425T101106
CREATED:20250624T151221Z
LAST-MODIFIED:20250624T151221Z
UID:4779-1751486400-1751497200@pub78.com
SUMMARY:Open Mic with Kelly Ott
DESCRIPTION:Join us on Wednesdays for Open Mic hosted by Kelly Ott! Come out and play solo or there is always someone to jam out with. If you don’t sing or play\, you can come out and watch local musicians/artists perform. Kelly runs sound and drum kit available. Kitchen open until 9pm!
URL:https://pub78.com/event/open-mic-with-kelly-ott-34/
LOCATION:Pub 78: 3733 Grand Blvd\, Brookfield\, IL 60513
CATEGORIES:Music & Events
ATTACH;FMTTYPE=image/jpeg:https://pub78.com/wp-content/uploads/Open-Mic-2.jpg
END:VEVENT
BEGIN:VEVENT
DTSTART;TZID=America/Chicago:20250703T190000
DTEND;TZID=America/Chicago:20250703T190000
DTSTAMP:20260425T101106
CREATED:20250624T151733Z
LAST-MODIFIED:20250624T151733Z
UID:4789-1751569200-1751569200@pub78.com
SUMMARY:Singo with Katie Redmond
DESCRIPTION:Singo is bingo with music! We drop beats not balls! You don’t have to sing but will find yourself singing along. We play three rounds that last about 45 minutes per rounds with breaks in between. You can get in on any round or play all three. Winners from each round can select a prize from the prize table. Kitchen is open until 9pm
URL:https://pub78.com/event/singo-with-katie-redmond-35/
LOCATION:Pub 78: 3733 Grand Blvd\, Brookfield\, IL 60513
CATEGORIES:Music & Events
ATTACH;FMTTYPE=image/jpeg:https://pub78.com/wp-content/uploads/Singo-1.jpg
END:VEVENT
BEGIN:VEVENT
DTSTART;TZID=America/Chicago:20250709T200000
DTEND;TZID=America/Chicago:20250709T230000
DTSTAMP:20260425T101106
CREATED:20250624T151322Z
LAST-MODIFIED:20250624T151322Z
UID:4781-1752091200-1752102000@pub78.com
SUMMARY:Open Mic with Kelly Ott
DESCRIPTION:Join us on Wednesdays for Open Mic hosted by Kelly Ott! Come out and play solo or there is always someone to jam out with. If you don’t sing or play\, you can come out and watch local musicians/artists perform. Kelly runs sound and drum kit available. Kitchen open until 9pm!
URL:https://pub78.com/event/open-mic-with-kelly-ott-35/
LOCATION:Pub 78: 3733 Grand Blvd\, Brookfield\, IL 60513
CATEGORIES:Music & Events
ATTACH;FMTTYPE=image/jpeg:https://pub78.com/wp-content/uploads/Open-Mic-2.jpg
END:VEVENT
BEGIN:VEVENT
DTSTART;TZID=America/Chicago:20250710T190000
DTEND;TZID=America/Chicago:20250710T190000
DTSTAMP:20260425T101106
CREATED:20250624T151823Z
LAST-MODIFIED:20250624T151823Z
UID:4791-1752174000-1752174000@pub78.com
SUMMARY:Singo with Katie Redmond
DESCRIPTION:Singo is bingo with music! We drop beats not balls! You don’t have to sing but will find yourself singing along. We play three rounds that last about 45 minutes per rounds with breaks in between. You can get in on any round or play all three. Winners from each round can select a prize from the prize table. Kitchen is open until 9pm
URL:https://pub78.com/event/singo-with-katie-redmond-36/
LOCATION:Pub 78: 3733 Grand Blvd\, Brookfield\, IL 60513
CATEGORIES:Music & Events
ATTACH;FMTTYPE=image/jpeg:https://pub78.com/wp-content/uploads/Singo-1.jpg
END:VEVENT
END:VCALENDAR