BEGIN:VCALENDAR
VERSION:2.0
PRODID:-//Pub 78 - ECPv6.15.20//NONSGML v1.0//EN
CALSCALE:GREGORIAN
METHOD:PUBLISH
X-ORIGINAL-URL:https://pub78.com
X-WR-CALDESC:Events for Pub 78
REFRESH-INTERVAL;VALUE=DURATION:PT1H
X-Robots-Tag:noindex
X-PUBLISHED-TTL:PT1H
BEGIN:VTIMEZONE
TZID:America/Chicago
BEGIN:DAYLIGHT
TZOFFSETFROM:-0600
TZOFFSETTO:-0500
TZNAME:CDT
DTSTART:20240310T080000
END:DAYLIGHT
BEGIN:STANDARD
TZOFFSETFROM:-0500
TZOFFSETTO:-0600
TZNAME:CST
DTSTART:20241103T070000
END:STANDARD
BEGIN:DAYLIGHT
TZOFFSETFROM:-0600
TZOFFSETTO:-0500
TZNAME:CDT
DTSTART:20250309T080000
END:DAYLIGHT
BEGIN:STANDARD
TZOFFSETFROM:-0500
TZOFFSETTO:-0600
TZNAME:CST
DTSTART:20251102T070000
END:STANDARD
BEGIN:DAYLIGHT
TZOFFSETFROM:-0600
TZOFFSETTO:-0500
TZNAME:CDT
DTSTART:20260308T080000
END:DAYLIGHT
BEGIN:STANDARD
TZOFFSETFROM:-0500
TZOFFSETTO:-0600
TZNAME:CST
DTSTART:20261101T070000
END:STANDARD
END:VTIMEZONE
BEGIN:VEVENT
DTSTART;TZID=America/Chicago:20251001T200000
DTEND;TZID=America/Chicago:20251001T230000
DTSTAMP:20260423T184839
CREATED:20250930T182425Z
LAST-MODIFIED:20250930T182425Z
UID:4911-1759348800-1759359600@pub78.com
SUMMARY:Open Mic with Alex Hamer
DESCRIPTION:Open Mic with Alex Hamer starts this week! Come out to open mic and jam! Or come out to just enjoy some great local musicians! Kitchen open until 9pm! House drum kit available. Sign up sheet gets set out after 7pm.
URL:https://pub78.com/event/open-mic-with-alex-hamer/
LOCATION:Pub 78: 3733 Grand Blvd\, Brookfield\, IL 60513
CATEGORIES:Music & Events
ATTACH;FMTTYPE=image/jpeg:https://pub78.com/wp-content/uploads/open-mic-alex.jpg
END:VEVENT
BEGIN:VEVENT
DTSTART;TZID=America/Chicago:20251002T190000
DTEND;TZID=America/Chicago:20251002T190000
DTSTAMP:20260423T184839
CREATED:20250826T152202Z
LAST-MODIFIED:20250930T182511Z
UID:4884-1759431600-1759431600@pub78.com
SUMMARY:Singo with Katie Redmond
DESCRIPTION:Singo is bingo with music! We drop beats not balls! You don’t have to sing but will find yourself singing along. We play three rounds that last about 45 minutes per rounds with breaks in between. You can get in on any round or play all three. Winners from each round can select a prize from the prize table. Kitchen is open until 9pm
URL:https://pub78.com/event/singo-with-katie-redmond-48/
LOCATION:Pub 78: 3733 Grand Blvd\, Brookfield\, IL 60513
CATEGORIES:Music & Events
ATTACH;FMTTYPE=image/jpeg:https://pub78.com/wp-content/uploads/Singo-1.jpg
END:VEVENT
BEGIN:VEVENT
DTSTART;TZID=America/Chicago:20251003T200000
DTEND;TZID=America/Chicago:20251003T230000
DTSTAMP:20260423T184839
CREATED:20250930T182635Z
LAST-MODIFIED:20251002T180015Z
UID:4914-1759521600-1759532400@pub78.com
SUMMARY:Live Music: Hot Moms
DESCRIPTION:Hot Moms return to Pub 78! This high energy band will have you dancing and singing along!
URL:https://pub78.com/event/hot-moms-3/
LOCATION:Pub 78: 3733 Grand Blvd\, Brookfield\, IL 60513
CATEGORIES:Music & Events
ATTACH;FMTTYPE=image/jpeg:https://pub78.com/wp-content/uploads/hot-moms-2025.jpg
END:VEVENT
BEGIN:VEVENT
DTSTART;TZID=America/Chicago:20251004T200000
DTEND;TZID=America/Chicago:20251004T230000
DTSTAMP:20260423T184839
CREATED:20250930T182810Z
LAST-MODIFIED:20251002T175932Z
UID:4916-1759608000-1759618800@pub78.com
SUMMARY:Live Music: High Stakes
DESCRIPTION:High Stakes are back! They are celebrating their 5 year anniversary with us!
URL:https://pub78.com/event/high-stakes/
LOCATION:Pub 78: 3733 Grand Blvd\, Brookfield\, IL 60513
CATEGORIES:Music & Events
ATTACH;FMTTYPE=image/jpeg:https://pub78.com/wp-content/uploads/high-stakes-1025.jpg
END:VEVENT
BEGIN:VEVENT
DTSTART;TZID=America/Chicago:20251008T200000
DTEND;TZID=America/Chicago:20251008T230000
DTSTAMP:20260423T184839
CREATED:20251002T174214Z
LAST-MODIFIED:20251002T174214Z
UID:4921-1759953600-1759964400@pub78.com
SUMMARY:Open Mic with Alex Hamer
DESCRIPTION:Come out to open mic and jam! Or come out to just enjoy some great local musicians! Kitchen open until 9pm! House drum kit available. Sign up sheet gets set out after 7pm.
URL:https://pub78.com/event/open-mic-with-alex-hamer-2/
LOCATION:Pub 78: 3733 Grand Blvd\, Brookfield\, IL 60513
CATEGORIES:Music & Events
ATTACH;FMTTYPE=image/jpeg:https://pub78.com/wp-content/uploads/open-mic-alex.jpg
END:VEVENT
BEGIN:VEVENT
DTSTART;TZID=America/Chicago:20251009T190000
DTEND;TZID=America/Chicago:20251009T190000
DTSTAMP:20260423T184839
CREATED:20251002T174021Z
LAST-MODIFIED:20251002T174021Z
UID:4919-1760036400-1760036400@pub78.com
SUMMARY:Singo with Katie Redmond
DESCRIPTION:Singo is bingo with music! We drop beats not balls! You don’t have to sing but will find yourself singing along. We play three rounds that last about 45 minutes per rounds with breaks in between. You can get in on any round or play all three. Winners from each round can select a prize from the prize table. Kitchen is open until 9pm
URL:https://pub78.com/event/singo-with-katie-redmond-49/
LOCATION:Pub 78: 3733 Grand Blvd\, Brookfield\, IL 60513
CATEGORIES:Music & Events
ATTACH;FMTTYPE=image/jpeg:https://pub78.com/wp-content/uploads/Singo-1.jpg
END:VEVENT
BEGIN:VEVENT
DTSTART;TZID=America/Chicago:20251011T200000
DTEND;TZID=America/Chicago:20251011T230000
DTSTAMP:20260423T184839
CREATED:20251002T175406Z
LAST-MODIFIED:20251002T175908Z
UID:4942-1760212800-1760223600@pub78.com
SUMMARY:Live Music: Brad Jackson & Shades of Country
DESCRIPTION:
URL:https://pub78.com/event/brad-jackson-shades-of-country-5/
LOCATION:Pub 78: 3733 Grand Blvd\, Brookfield\, IL 60513
CATEGORIES:Music & Events
END:VEVENT
BEGIN:VEVENT
DTSTART;TZID=America/Chicago:20251015T200000
DTEND;TZID=America/Chicago:20251015T230000
DTSTAMP:20260423T184839
CREATED:20251002T174445Z
LAST-MODIFIED:20251002T174445Z
UID:4923-1760558400-1760569200@pub78.com
SUMMARY:Open Mic with Alex Hamer
DESCRIPTION:Come out to open mic and jam! Or come out to just enjoy some great local musicians! Kitchen open until 9pm! House drum kit available. Sign up sheet gets set out after 7pm.
URL:https://pub78.com/event/open-mic-with-alex-hamer-3/
LOCATION:Pub 78: 3733 Grand Blvd\, Brookfield\, IL 60513
CATEGORIES:Music & Events
ATTACH;FMTTYPE=image/jpeg:https://pub78.com/wp-content/uploads/open-mic-alex.jpg
END:VEVENT
BEGIN:VEVENT
DTSTART;TZID=America/Chicago:20251016T190000
DTEND;TZID=America/Chicago:20251016T190000
DTSTAMP:20260423T184839
CREATED:20251002T174910Z
LAST-MODIFIED:20251002T174910Z
UID:4933-1760641200-1760641200@pub78.com
SUMMARY:Singo with Katie Redmond
DESCRIPTION:Singo is bingo with music! We drop beats not balls! You don’t have to sing but will find yourself singing along. We play three rounds that last about 45 minutes per rounds with breaks in between. You can get in on any round or play all three. Winners from each round can select a prize from the prize table. Kitchen is open until 9pm
URL:https://pub78.com/event/singo-with-katie-redmond-50/
LOCATION:Pub 78: 3733 Grand Blvd\, Brookfield\, IL 60513
CATEGORIES:Music & Events
ATTACH;FMTTYPE=image/jpeg:https://pub78.com/wp-content/uploads/Singo-1.jpg
END:VEVENT
BEGIN:VEVENT
DTSTART;TZID=America/Chicago:20251017T200000
DTEND;TZID=America/Chicago:20251017T230000
DTSTAMP:20260423T184839
CREATED:20251002T175615Z
LAST-MODIFIED:20251002T175846Z
UID:4944-1760731200-1760742000@pub78.com
SUMMARY:Live Music: Brohirrim
DESCRIPTION:
URL:https://pub78.com/event/brohirrim-3/
LOCATION:Pub 78: 3733 Grand Blvd\, Brookfield\, IL 60513
CATEGORIES:Music & Events
ATTACH;FMTTYPE=image/jpeg:https://pub78.com/wp-content/uploads/bro-1.jpg
END:VEVENT
BEGIN:VEVENT
DTSTART;TZID=America/Chicago:20251018T200000
DTEND;TZID=America/Chicago:20251018T230000
DTSTAMP:20260423T184839
CREATED:20251002T175814Z
LAST-MODIFIED:20251002T175814Z
UID:4946-1760817600-1760828400@pub78.com
SUMMARY:Live Music: Don't Matter to Me
DESCRIPTION:
URL:https://pub78.com/event/live-music-dont-matter-to-me-3/
LOCATION:Pub 78: 3733 Grand Blvd\, Brookfield\, IL 60513
CATEGORIES:Music & Events
ATTACH;FMTTYPE=image/jpeg:https://pub78.com/wp-content/uploads/DMTM-3.jpg
END:VEVENT
BEGIN:VEVENT
DTSTART;TZID=America/Chicago:20251019T120000
DTEND;TZID=America/Chicago:20251019T130000
DTSTAMP:20260423T184839
CREATED:20251002T181412Z
LAST-MODIFIED:20251002T181412Z
UID:4959-1760875200-1760878800@pub78.com
SUMMARY:Pub Church
DESCRIPTION:Join us at Pub 78 with Pastor Craig and Every Day Grace band. All are welcome!
URL:https://pub78.com/event/pub-church-11/
LOCATION:Pub 78: 3733 Grand Blvd\, Brookfield\, IL 60513
CATEGORIES:Music & Events
ATTACH;FMTTYPE=image/png:https://pub78.com/wp-content/uploads/pub-chucrh-logo.png
END:VEVENT
BEGIN:VEVENT
DTSTART;TZID=America/Chicago:20251022T200000
DTEND;TZID=America/Chicago:20251022T230000
DTSTAMP:20260423T184839
CREATED:20251002T174608Z
LAST-MODIFIED:20251002T174608Z
UID:4927-1761163200-1761174000@pub78.com
SUMMARY:Open Mic with Alex Hamer
DESCRIPTION:Come out to open mic and jam! Or come out to just enjoy some great local musicians! Kitchen open until 9pm! House drum kit available. Sign up sheet gets set out after 7pm.
URL:https://pub78.com/event/open-mic-with-alex-hamer-5/
LOCATION:Pub 78: 3733 Grand Blvd\, Brookfield\, IL 60513
CATEGORIES:Music & Events
ATTACH;FMTTYPE=image/jpeg:https://pub78.com/wp-content/uploads/open-mic-alex.jpg
END:VEVENT
BEGIN:VEVENT
DTSTART;TZID=America/Chicago:20251023T190000
DTEND;TZID=America/Chicago:20251023T190000
DTSTAMP:20260423T184839
CREATED:20251002T174959Z
LAST-MODIFIED:20251002T174959Z
UID:4935-1761246000-1761246000@pub78.com
SUMMARY:Singo with Katie Redmond
DESCRIPTION:Singo is bingo with music! We drop beats not balls! You don’t have to sing but will find yourself singing along. We play three rounds that last about 45 minutes per rounds with breaks in between. You can get in on any round or play all three. Winners from each round can select a prize from the prize table. Kitchen is open until 9pm
URL:https://pub78.com/event/singo-with-katie-redmond-51/
LOCATION:Pub 78: 3733 Grand Blvd\, Brookfield\, IL 60513
CATEGORIES:Music & Events
ATTACH;FMTTYPE=image/jpeg:https://pub78.com/wp-content/uploads/Singo-1.jpg
END:VEVENT
BEGIN:VEVENT
DTSTART;TZID=America/Chicago:20251024T200000
DTEND;TZID=America/Chicago:20251024T230000
DTSTAMP:20260423T184839
CREATED:20251002T180238Z
LAST-MODIFIED:20251002T180238Z
UID:4952-1761336000-1761346800@pub78.com
SUMMARY:Live Music: Beggar's Buzz
DESCRIPTION:
URL:https://pub78.com/event/live-music-beggars-buzz/
LOCATION:Pub 78: 3733 Grand Blvd\, Brookfield\, IL 60513
CATEGORIES:Music & Events
ATTACH;FMTTYPE=image/jpeg:https://pub78.com/wp-content/uploads/beggars.jpg
END:VEVENT
BEGIN:VEVENT
DTSTART;TZID=America/Chicago:20251025T190000
DTEND;TZID=America/Chicago:20251025T230000
DTSTAMP:20260423T184839
CREATED:20251002T181143Z
LAST-MODIFIED:20251002T181143Z
UID:4955-1761418800-1761433200@pub78.com
SUMMARY:Live Music: Bipolar Bear
DESCRIPTION:Bipolar Bear returns to Pub 78 for a Special Halloween Themed Show! \n7 pm – Nick Madsen opens with an acoustic set. \nCostume Contest: 50 bones to the winner as determined by Bipolar Bear band!
URL:https://pub78.com/event/live-music-bipolar-bear-5/
LOCATION:Pub 78: 3733 Grand Blvd\, Brookfield\, IL 60513
CATEGORIES:Music & Events
ATTACH;FMTTYPE=image/jpeg:https://pub78.com/wp-content/uploads/bpb.jpg
END:VEVENT
BEGIN:VEVENT
DTSTART;TZID=America/Chicago:20251029T200000
DTEND;TZID=America/Chicago:20251029T230000
DTSTAMP:20260423T184839
CREATED:20251002T174529Z
LAST-MODIFIED:20251002T174529Z
UID:4925-1761768000-1761778800@pub78.com
SUMMARY:Open Mic with Alex Hamer
DESCRIPTION:Come out to open mic and jam! Or come out to just enjoy some great local musicians! Kitchen open until 9pm! House drum kit available. Sign up sheet gets set out after 7pm.
URL:https://pub78.com/event/open-mic-with-alex-hamer-4/
LOCATION:Pub 78: 3733 Grand Blvd\, Brookfield\, IL 60513
CATEGORIES:Music & Events
ATTACH;FMTTYPE=image/jpeg:https://pub78.com/wp-content/uploads/open-mic-alex.jpg
END:VEVENT
BEGIN:VEVENT
DTSTART;TZID=America/Chicago:20251030T190000
DTEND;TZID=America/Chicago:20251030T230000
DTSTAMP:20260423T184839
CREATED:20251002T175107Z
LAST-MODIFIED:20251002T175107Z
UID:4937-1761850800-1761865200@pub78.com
SUMMARY:Singo with Katie Redmond
DESCRIPTION:Singo is bingo with music! We drop beats not balls! You don’t have to sing but will find yourself singing along. We play three rounds that last about 45 minutes per rounds with breaks in between. You can get in on any round or play all three. Winners from each round can select a prize from the prize table. Kitchen is open until 9pm
URL:https://pub78.com/event/singo-with-katie-redmond-52/
LOCATION:Pub 78: 3733 Grand Blvd\, Brookfield\, IL 60513
CATEGORIES:Music & Events
ATTACH;FMTTYPE=image/jpeg:https://pub78.com/wp-content/uploads/Singo-1.jpg
END:VEVENT
BEGIN:VEVENT
DTSTART;TZID=America/Chicago:20251031T200000
DTEND;TZID=America/Chicago:20251031T230000
DTSTAMP:20260423T184839
CREATED:20251002T181600Z
LAST-MODIFIED:20251002T181600Z
UID:4961-1761940800-1761951600@pub78.com
SUMMARY:Live Music: Easily Distracted
DESCRIPTION:Come and get your spooky on with a night of music and a costume contest at Pub78!
URL:https://pub78.com/event/live-music-easily-distracted-11/
LOCATION:Pub 78: 3733 Grand Blvd\, Brookfield\, IL 60513
CATEGORIES:Music & Events
ATTACH;FMTTYPE=image/jpeg:https://pub78.com/wp-content/uploads/ed-1.jpg
END:VEVENT
END:VCALENDAR