BEGIN:VCALENDAR
VERSION:2.0
PRODID:-//Pub 78 - ECPv6.15.20//NONSGML v1.0//EN
CALSCALE:GREGORIAN
METHOD:PUBLISH
X-WR-CALNAME:Pub 78
X-ORIGINAL-URL:https://pub78.com
X-WR-CALDESC:Events for Pub 78
REFRESH-INTERVAL;VALUE=DURATION:PT1H
X-Robots-Tag:noindex
X-PUBLISHED-TTL:PT1H
BEGIN:VTIMEZONE
TZID:America/Chicago
BEGIN:DAYLIGHT
TZOFFSETFROM:-0600
TZOFFSETTO:-0500
TZNAME:CDT
DTSTART:20230312T080000
END:DAYLIGHT
BEGIN:STANDARD
TZOFFSETFROM:-0500
TZOFFSETTO:-0600
TZNAME:CST
DTSTART:20231105T070000
END:STANDARD
BEGIN:DAYLIGHT
TZOFFSETFROM:-0600
TZOFFSETTO:-0500
TZNAME:CDT
DTSTART:20240310T080000
END:DAYLIGHT
BEGIN:STANDARD
TZOFFSETFROM:-0500
TZOFFSETTO:-0600
TZNAME:CST
DTSTART:20241103T070000
END:STANDARD
BEGIN:DAYLIGHT
TZOFFSETFROM:-0600
TZOFFSETTO:-0500
TZNAME:CDT
DTSTART:20250309T080000
END:DAYLIGHT
BEGIN:STANDARD
TZOFFSETFROM:-0500
TZOFFSETTO:-0600
TZNAME:CST
DTSTART:20251102T070000
END:STANDARD
END:VTIMEZONE
BEGIN:VEVENT
DTSTART;TZID=America/Chicago:20240710T200000
DTEND;TZID=America/Chicago:20240710T230000
DTSTAMP:20260425T102214
CREATED:20240623T171012Z
LAST-MODIFIED:20240623T171012Z
UID:4199-1720641600-1720652400@pub78.com
SUMMARY:Open Mic Hosted by Kelly Ott
DESCRIPTION:House drum kit available
URL:https://pub78.com/event/open-mic-hosted-by-kelly-ott-172/
LOCATION:Pub 78: 3733 Grand Blvd\, Brookfield\, IL 60513
CATEGORIES:Music & Events
ATTACH;FMTTYPE=image/jpeg:https://pub78.com/wp-content/uploads/openmic-e1708019639280.jpg
END:VEVENT
BEGIN:VEVENT
DTSTART;TZID=America/Chicago:20240711T190000
DTEND;TZID=America/Chicago:20240711T190000
DTSTAMP:20260425T102214
CREATED:20240623T171316Z
LAST-MODIFIED:20240623T171727Z
UID:4201-1720724400-1720724400@pub78.com
SUMMARY:Singo!
DESCRIPTION:Prizes will be awarded to winners of each round
URL:https://pub78.com/event/singo-35/
LOCATION:Pub 78: 3733 Grand Blvd\, Brookfield\, IL 60513
CATEGORIES:Music & Events
ATTACH;FMTTYPE=image/jpeg:https://pub78.com/wp-content/uploads/Singo-1.jpg
END:VEVENT
BEGIN:VEVENT
DTSTART;TZID=America/Chicago:20240712T200000
DTEND;TZID=America/Chicago:20240712T200000
DTSTAMP:20260425T102214
CREATED:20240623T170507Z
LAST-MODIFIED:20240623T170507Z
UID:4195-1720814400-1720814400@pub78.com
SUMMARY:Live Music: Easily Distracted
DESCRIPTION:
URL:https://pub78.com/event/live-music-easily-distracted-10/
LOCATION:Pub 78: 3733 Grand Blvd\, Brookfield\, IL 60513
CATEGORIES:Music & Events
ATTACH;FMTTYPE=image/jpeg:https://pub78.com/wp-content/uploads/ed.jpg
END:VEVENT
BEGIN:VEVENT
DTSTART;TZID=America/Chicago:20240713T200000
DTEND;TZID=America/Chicago:20240713T230000
DTSTAMP:20260425T102214
CREATED:20240710T171857Z
LAST-MODIFIED:20240710T171857Z
UID:4222-1720900800-1720911600@pub78.com
SUMMARY:Total Sacrifice
DESCRIPTION:Total Sacrifice debuts at the Pub this weekend.  This local band performs covers from the 60’s\, 70’s and 80’s!
URL:https://pub78.com/event/total-sacrifice/
LOCATION:Pub 78: 3733 Grand Blvd\, Brookfield\, IL 60513
CATEGORIES:Music & Events
ATTACH;FMTTYPE=image/jpeg:https://pub78.com/wp-content/uploads/Total-Sacrifice1.jpg
END:VEVENT
BEGIN:VEVENT
DTSTART;TZID=America/Chicago:20240714T140000
DTEND;TZID=America/Chicago:20240714T170000
DTSTAMP:20260425T102214
CREATED:20240623T170809Z
LAST-MODIFIED:20240623T170809Z
UID:4197-1720965600-1720976400@pub78.com
SUMMARY:Live Music: The Redmonds
DESCRIPTION:Celebrate Pub 78’s 5th Anniversary with live music – The Redmonds!
URL:https://pub78.com/event/live-music-the-redmonds-10/
LOCATION:Pub 78: 3733 Grand Blvd\, Brookfield\, IL 60513
CATEGORIES:Music & Events
ATTACH;FMTTYPE=image/jpeg:https://pub78.com/wp-content/uploads/TheRedmonds-1.jpg
END:VEVENT
BEGIN:VEVENT
DTSTART;TZID=America/Chicago:20240717T200000
DTEND;TZID=America/Chicago:20240717T230000
DTSTAMP:20260425T102214
CREATED:20240623T171432Z
LAST-MODIFIED:20240623T171513Z
UID:4203-1721246400-1721257200@pub78.com
SUMMARY:Open Mic Hosted by Kelly Ott
DESCRIPTION:House drum kit available
URL:https://pub78.com/event/open-mic-at-pub-78/
LOCATION:Pub 78: 3733 Grand Blvd\, Brookfield\, IL 60513
CATEGORIES:Music & Events
ATTACH;FMTTYPE=image/jpeg:https://pub78.com/wp-content/uploads/openmic-e1708019639280.jpg
END:VEVENT
BEGIN:VEVENT
DTSTART;TZID=America/Chicago:20240718T190000
DTEND;TZID=America/Chicago:20240718T190000
DTSTAMP:20260425T102214
CREATED:20240623T171648Z
LAST-MODIFIED:20240623T171648Z
UID:4206-1721329200-1721329200@pub78.com
SUMMARY:Singo!
DESCRIPTION:Prizes will be awarded to winners of each round
URL:https://pub78.com/event/singo-36/
LOCATION:Pub 78: 3733 Grand Blvd\, Brookfield\, IL 60513
CATEGORIES:Music & Events
ATTACH;FMTTYPE=image/jpeg:https://pub78.com/wp-content/uploads/Singo-1.jpg
END:VEVENT
BEGIN:VEVENT
DTSTART;TZID=America/Chicago:20240719T200000
DTEND;TZID=America/Chicago:20240719T230000
DTSTAMP:20260425T102214
CREATED:20240717T175953Z
LAST-MODIFIED:20240718T175533Z
UID:4233-1721419200-1721430000@pub78.com
SUMMARY:Lizzy and the Rockers
DESCRIPTION:Hey all you Lizzy and the Rockers fans\, friends and family. The band will be making its return to one of our favorite venues\, Pub 78\, 3733 Grand Blvd. Brookfield\, IL. 60513 on Friday\, July 19th. Music will begin at 8 pm and continue until 11 pm. So\, come up and kick back with your favorite beverage and listen to some great classic rock\, blues\, and country covers performed by the best classic rock\, blues and country cover band in the entire Chicagoland area. SUPPORT LIVE MUSIC\, LOCAL MUSICIANS AND PLACES LIKE PUB 78 THAT HOST LIVE MUSIC. We hope to see you all there.
URL:https://pub78.com/event/lizzy-and-the-rockers/
LOCATION:Pub 78: 3733 Grand Blvd\, Brookfield\, IL 60513
CATEGORIES:Music & Events
ATTACH;FMTTYPE=image/jpeg:https://pub78.com/wp-content/uploads/lizzy-2.jpg
END:VEVENT
BEGIN:VEVENT
DTSTART;TZID=America/Chicago:20240720T200000
DTEND;TZID=America/Chicago:20240720T230000
DTSTAMP:20260425T102214
CREATED:20240717T180552Z
LAST-MODIFIED:20240718T203335Z
UID:4236-1721505600-1721516400@pub78.com
SUMMARY:Vintage
DESCRIPTION:Performing a variety of timeless classic rock and popular country hits!
URL:https://pub78.com/event/vintage/
LOCATION:Pub 78: 3733 Grand Blvd\, Brookfield\, IL 60513
CATEGORIES:Music & Events
ATTACH;FMTTYPE=image/jpeg:https://pub78.com/wp-content/uploads/vintage.jpg
END:VEVENT
BEGIN:VEVENT
DTSTART;TZID=America/Chicago:20240721T090000
DTEND;TZID=America/Chicago:20240721T090000
DTSTAMP:20260425T102214
CREATED:20240717T180954Z
LAST-MODIFIED:20240718T175511Z
UID:4239-1721552400-1721552400@pub78.com
SUMMARY:Brookfield Car Show
DESCRIPTION:We will be open at 9am! \n  \nHosted by Brookfield Chamber of Commerce. Open to all vehicles\, Cassic\, Hot Rod\, Muscle\, Street Rod\, & Modern Muscle. Enter showgrounds via Grand Blvd & Brookfield Ave. Same day registration from 9am until Noon. 35 Awards @ 3pm. $20 participation fee\, spectators free!
URL:https://pub78.com/event/brookfield-car-show/
LOCATION:Pub 78: 3733 Grand Blvd\, Brookfield\, IL 60513
CATEGORIES:Music & Events
ATTACH;FMTTYPE=image/jpeg:https://pub78.com/wp-content/uploads/car-show-2024.jpg
END:VEVENT
BEGIN:VEVENT
DTSTART;TZID=America/Chicago:20240724T160000
DTEND;TZID=America/Chicago:20240724T160000
DTSTAMP:20260425T102214
CREATED:20240707T142441Z
LAST-MODIFIED:20240707T142557Z
UID:4217-1721836800-1721836800@pub78.com
SUMMARY:Cycle Brookfield Criterium Bike Race 2024
DESCRIPTION:Chicago Grit — Cycle Brookfield Criterium\nProfessional bike racing comes to Brookfield for the second time! You won’t want to miss the speed\, the energy\, and the party in downtown Brookfield\, IL this summer! Join the fun at the Cycle Brookfield Criterium Wednesday July 24\, 2024. Learn more about the Chicago Grit at DAY 6 – Chicago Grit (chicago-grit.com)
URL:https://pub78.com/event/cycle-brookfield-criterium-2024/
LOCATION:Pub 78: 3733 Grand Blvd\, Brookfield\, IL 60513
CATEGORIES:Music & Events
END:VEVENT
BEGIN:VEVENT
DTSTART;TZID=America/Chicago:20240724T200000
DTEND;TZID=America/Chicago:20240724T200000
DTSTAMP:20260425T102214
CREATED:20240707T142038Z
LAST-MODIFIED:20240707T142038Z
UID:4213-1721851200-1721851200@pub78.com
SUMMARY:Open Mic Hosted by Kelly Ott
DESCRIPTION:House drum kit available
URL:https://pub78.com/event/open-mic-hosted-by-kelly-ott-173/
LOCATION:Pub 78: 3733 Grand Blvd\, Brookfield\, IL 60513
CATEGORIES:Music & Events
ATTACH;FMTTYPE=image/jpeg:https://pub78.com/wp-content/uploads/openmic-e1708019639280.jpg
END:VEVENT
BEGIN:VEVENT
DTSTART;TZID=America/Chicago:20240725T190000
DTEND;TZID=America/Chicago:20240725T190000
DTSTAMP:20260425T102214
CREATED:20240707T142129Z
LAST-MODIFIED:20240707T142129Z
UID:4215-1721934000-1721934000@pub78.com
SUMMARY:Singo!
DESCRIPTION:Prizes will be awarded to winners of each round
URL:https://pub78.com/event/singo-37/
LOCATION:Pub 78: 3733 Grand Blvd\, Brookfield\, IL 60513
CATEGORIES:Music & Events
ATTACH;FMTTYPE=image/jpeg:https://pub78.com/wp-content/uploads/Singo-1.jpg
END:VEVENT
BEGIN:VEVENT
DTSTART;TZID=America/Chicago:20240726T200000
DTEND;TZID=America/Chicago:20240726T200000
DTSTAMP:20260425T102214
CREATED:20240623T172055Z
LAST-MODIFIED:20240725T220048Z
UID:4211-1722024000-1722024000@pub78.com
SUMMARY:Live Music: BOSCO
DESCRIPTION:
URL:https://pub78.com/event/live-music-bosco-8/
LOCATION:Pub 78: 3733 Grand Blvd\, Brookfield\, IL 60513
CATEGORIES:Music & Events
ATTACH;FMTTYPE=image/jpeg:https://pub78.com/wp-content/uploads/Bosco-2.jpg
END:VEVENT
END:VCALENDAR