BEGIN:VCALENDAR
VERSION:2.0
PRODID:-//Pub 78 - ECPv6.15.20//NONSGML v1.0//EN
CALSCALE:GREGORIAN
METHOD:PUBLISH
X-WR-CALNAME:Pub 78
X-ORIGINAL-URL:https://pub78.com
X-WR-CALDESC:Events for Pub 78
REFRESH-INTERVAL;VALUE=DURATION:PT1H
X-Robots-Tag:noindex
X-PUBLISHED-TTL:PT1H
BEGIN:VTIMEZONE
TZID:America/Chicago
BEGIN:DAYLIGHT
TZOFFSETFROM:-0600
TZOFFSETTO:-0500
TZNAME:CDT
DTSTART:20230312T080000
END:DAYLIGHT
BEGIN:STANDARD
TZOFFSETFROM:-0500
TZOFFSETTO:-0600
TZNAME:CST
DTSTART:20231105T070000
END:STANDARD
BEGIN:DAYLIGHT
TZOFFSETFROM:-0600
TZOFFSETTO:-0500
TZNAME:CDT
DTSTART:20240310T080000
END:DAYLIGHT
BEGIN:STANDARD
TZOFFSETFROM:-0500
TZOFFSETTO:-0600
TZNAME:CST
DTSTART:20241103T070000
END:STANDARD
BEGIN:DAYLIGHT
TZOFFSETFROM:-0600
TZOFFSETTO:-0500
TZNAME:CDT
DTSTART:20250309T080000
END:DAYLIGHT
BEGIN:STANDARD
TZOFFSETFROM:-0500
TZOFFSETTO:-0600
TZNAME:CST
DTSTART:20251102T070000
END:STANDARD
END:VTIMEZONE
BEGIN:VEVENT
DTSTART;TZID=America/Chicago:20240403T200000
DTEND;TZID=America/Chicago:20240403T230000
DTSTAMP:20260425T151758
CREATED:20240304T203436Z
LAST-MODIFIED:20240304T203525Z
UID:4027-1712174400-1712185200@pub78.com
SUMMARY:Open Mic Hosted by Kelly Ott
DESCRIPTION:House drum kit available
URL:https://pub78.com/event/open-mic-hosted-by-kelly-ott-159/
LOCATION:Pub 78: 3733 Grand Blvd\, Brookfield\, IL 60513
CATEGORIES:Music & Events
ATTACH;FMTTYPE=image/jpeg:https://pub78.com/wp-content/uploads/openmic-e1708019639280.jpg
END:VEVENT
BEGIN:VEVENT
DTSTART;TZID=America/Chicago:20240404T190000
DTEND;TZID=America/Chicago:20240404T190000
DTSTAMP:20260425T151758
CREATED:20240304T203919Z
LAST-MODIFIED:20240304T203919Z
UID:4033-1712257200-1712257200@pub78.com
SUMMARY:Singo!
DESCRIPTION:Prizes will be awarded to winners of each round
URL:https://pub78.com/event/singo-23/
LOCATION:Pub 78: 3733 Grand Blvd\, Brookfield\, IL 60513
CATEGORIES:Music & Events
ATTACH;FMTTYPE=image/png:https://pub78.com/wp-content/uploads/singo.png
END:VEVENT
BEGIN:VEVENT
DTSTART;TZID=America/Chicago:20240405T200000
DTEND;TZID=America/Chicago:20240405T200000
DTSTAMP:20260425T151758
CREATED:20240306T174240Z
LAST-MODIFIED:20240306T174439Z
UID:4052-1712347200-1712347200@pub78.com
SUMMARY:Live Music: Smoke & Mirrors
DESCRIPTION:
URL:https://pub78.com/event/live-music-smoke-and-mirrors-3/
LOCATION:Pub 78: 3733 Grand Blvd\, Brookfield\, IL 60513
CATEGORIES:Music & Events
END:VEVENT
BEGIN:VEVENT
DTSTART;TZID=America/Chicago:20240406T200000
DTEND;TZID=America/Chicago:20240406T200000
DTSTAMP:20260425T151758
CREATED:20240306T182153Z
LAST-MODIFIED:20240306T182153Z
UID:4073-1712433600-1712433600@pub78.com
SUMMARY:Brad Jackson & Shades of Country
DESCRIPTION:
URL:https://pub78.com/event/brad-jackson-shades-of-country/
LOCATION:Pub 78: 3733 Grand Blvd\, Brookfield\, IL 60513
CATEGORIES:Music & Events
ATTACH;FMTTYPE=image/jpeg:https://pub78.com/wp-content/uploads/ShadesofCountry.jpg
END:VEVENT
BEGIN:VEVENT
DTSTART;TZID=America/Chicago:20240410T200000
DTEND;TZID=America/Chicago:20240410T230000
DTSTAMP:20260425T151758
CREATED:20240306T174627Z
LAST-MODIFIED:20240306T174627Z
UID:4055-1712779200-1712790000@pub78.com
SUMMARY:Open Mic Hosted by Kelly Ott
DESCRIPTION:House drum kit available
URL:https://pub78.com/event/open-mic-hosted-by-kelly-ott-160/
LOCATION:Pub 78: 3733 Grand Blvd\, Brookfield\, IL 60513
CATEGORIES:Music & Events
ATTACH;FMTTYPE=image/jpeg:https://pub78.com/wp-content/uploads/openmic-e1708019639280.jpg
END:VEVENT
BEGIN:VEVENT
DTSTART;TZID=America/Chicago:20240411T190000
DTEND;TZID=America/Chicago:20240411T190000
DTSTAMP:20260425T151758
CREATED:20240306T174724Z
LAST-MODIFIED:20240306T174724Z
UID:4057-1712862000-1712862000@pub78.com
SUMMARY:Singo!
DESCRIPTION:Prizes will be awarded to winners of each round
URL:https://pub78.com/event/singo-24/
LOCATION:Pub 78: 3733 Grand Blvd\, Brookfield\, IL 60513
CATEGORIES:Music & Events
ATTACH;FMTTYPE=image/png:https://pub78.com/wp-content/uploads/singo.png
END:VEVENT
BEGIN:VEVENT
DTSTART;TZID=America/Chicago:20240412T200000
DTEND;TZID=America/Chicago:20240412T200000
DTSTAMP:20260425T151758
CREATED:20240306T174843Z
LAST-MODIFIED:20240306T174843Z
UID:4059-1712952000-1712952000@pub78.com
SUMMARY:Live Music: Easily Distracted
DESCRIPTION:
URL:https://pub78.com/event/live-music-easily-distracted-9/
LOCATION:Pub 78: 3733 Grand Blvd\, Brookfield\, IL 60513
CATEGORIES:Music & Events
ATTACH;FMTTYPE=image/jpeg:https://pub78.com/wp-content/uploads/ed.jpg
END:VEVENT
BEGIN:VEVENT
DTSTART;TZID=America/Chicago:20240413T200000
DTEND;TZID=America/Chicago:20240413T200000
DTSTAMP:20260425T151758
CREATED:20240306T181835Z
LAST-MODIFIED:20240306T181835Z
UID:4071-1713038400-1713038400@pub78.com
SUMMARY:Live Music: GJAK'D UP
DESCRIPTION:
URL:https://pub78.com/event/live-music-gjakd-up-3/
LOCATION:Pub 78: 3733 Grand Blvd\, Brookfield\, IL 60513
CATEGORIES:Music & Events
ATTACH;FMTTYPE=image/jpeg:https://pub78.com/wp-content/uploads/GJAKDUP.jpg
END:VEVENT
BEGIN:VEVENT
DTSTART;TZID=America/Chicago:20240414T123000
DTEND;TZID=America/Chicago:20240414T123000
DTSTAMP:20260425T151758
CREATED:20240411T162552Z
LAST-MODIFIED:20240411T162552Z
UID:4081-1713097800-1713097800@pub78.com
SUMMARY:Pub Church
DESCRIPTION:Pub Church at Pub 78 with Pastor Craig and Every Day Grace. All are welcome! \nLive Music
URL:https://pub78.com/event/pub-church/
LOCATION:Pub 78: 3733 Grand Blvd\, Brookfield\, IL 60513
CATEGORIES:Music & Events
ATTACH;FMTTYPE=image/jpeg:https://pub78.com/wp-content/uploads/PC-scaled.jpg
END:VEVENT
BEGIN:VEVENT
DTSTART;TZID=America/Chicago:20240417T200000
DTEND;TZID=America/Chicago:20240417T230000
DTSTAMP:20260425T151758
CREATED:20240306T180436Z
LAST-MODIFIED:20240306T180436Z
UID:4061-1713384000-1713394800@pub78.com
SUMMARY:Open Mic Hosted by Kelly Ott
DESCRIPTION:House drum kit available
URL:https://pub78.com/event/open-mic-hosted-by-kelly-ott-161/
LOCATION:Pub 78: 3733 Grand Blvd\, Brookfield\, IL 60513
CATEGORIES:Music & Events
ATTACH;FMTTYPE=image/jpeg:https://pub78.com/wp-content/uploads/openmic-e1708019639280.jpg
END:VEVENT
BEGIN:VEVENT
DTSTART;TZID=America/Chicago:20240418T190000
DTEND;TZID=America/Chicago:20240418T190000
DTSTAMP:20260425T151758
CREATED:20240306T180638Z
LAST-MODIFIED:20240414T183703Z
UID:4065-1713466800-1713466800@pub78.com
SUMMARY:Singo!
DESCRIPTION:Prizes will be awarded to winners of each round
URL:https://pub78.com/event/singo-25/
LOCATION:Pub 78: 3733 Grand Blvd\, Brookfield\, IL 60513
CATEGORIES:Music & Events
ATTACH;FMTTYPE=image/jpeg:https://pub78.com/wp-content/uploads/Singo-1.jpg
END:VEVENT
BEGIN:VEVENT
DTSTART;TZID=America/Chicago:20240419T200000
DTEND;TZID=America/Chicago:20240419T200000
DTSTAMP:20260425T151758
CREATED:20240318T220957Z
LAST-MODIFIED:20240318T220957Z
UID:4076-1713556800-1713556800@pub78.com
SUMMARY:Live Music: Tony Cruz + The Crossroads
DESCRIPTION:
URL:https://pub78.com/event/live-music-tony-cruz-the-crossroads/
LOCATION:Pub 78: 3733 Grand Blvd\, Brookfield\, IL 60513
CATEGORIES:Music & Events
ATTACH;FMTTYPE=image/jpeg:https://pub78.com/wp-content/uploads/tonycruz.jpg
END:VEVENT
BEGIN:VEVENT
DTSTART;TZID=America/Chicago:20240420T200000
DTEND;TZID=America/Chicago:20240420T200000
DTSTAMP:20260425T151758
CREATED:20240306T181712Z
LAST-MODIFIED:20240306T181712Z
UID:4069-1713643200-1713643200@pub78.com
SUMMARY:Live Music: Bipolar Bear
DESCRIPTION:
URL:https://pub78.com/event/live-music-bipolar-bear-4/
LOCATION:Pub 78: 3733 Grand Blvd\, Brookfield\, IL 60513
CATEGORIES:Music & Events
END:VEVENT
BEGIN:VEVENT
DTSTART;TZID=America/Chicago:20240424T200000
DTEND;TZID=America/Chicago:20240424T230000
DTSTAMP:20260425T151758
CREATED:20240306T180539Z
LAST-MODIFIED:20240306T180539Z
UID:4063-1713988800-1713999600@pub78.com
SUMMARY:Open Mic Hosted by Kelly Ott
DESCRIPTION:House drum kit available
URL:https://pub78.com/event/open-mic-hosted-by-kelly-ott-162/
LOCATION:Pub 78: 3733 Grand Blvd\, Brookfield\, IL 60513
CATEGORIES:Music & Events
ATTACH;FMTTYPE=image/jpeg:https://pub78.com/wp-content/uploads/openmic-e1708019639280.jpg
END:VEVENT
BEGIN:VEVENT
DTSTART;TZID=America/Chicago:20240425T190000
DTEND;TZID=America/Chicago:20240425T190000
DTSTAMP:20260425T151758
CREATED:20240306T180711Z
LAST-MODIFIED:20240414T183612Z
UID:4067-1714071600-1714071600@pub78.com
SUMMARY:Singo!
DESCRIPTION:Prizes will be awarded to winners of each round
URL:https://pub78.com/event/singo-26/
LOCATION:Pub 78: 3733 Grand Blvd\, Brookfield\, IL 60513
CATEGORIES:Music & Events
ATTACH;FMTTYPE=image/jpeg:https://pub78.com/wp-content/uploads/Singo-1.jpg
END:VEVENT
BEGIN:VEVENT
DTSTART;TZID=America/Chicago:20240426T200000
DTEND;TZID=America/Chicago:20240426T200000
DTSTAMP:20260425T151758
CREATED:20240414T182525Z
LAST-MODIFIED:20240414T182822Z
UID:4084-1714161600-1714161600@pub78.com
SUMMARY:Live Music: Hot Mic
DESCRIPTION:
URL:https://pub78.com/event/live-music-hot-mic/
LOCATION:Pub 78: 3733 Grand Blvd\, Brookfield\, IL 60513
CATEGORIES:Music & Events
ATTACH;FMTTYPE=image/jpeg:https://pub78.com/wp-content/uploads/HotMic.jpg
END:VEVENT
BEGIN:VEVENT
DTSTART;TZID=America/Chicago:20240427T200000
DTEND;TZID=America/Chicago:20240427T200000
DTSTAMP:20260425T151758
CREATED:20240414T182616Z
LAST-MODIFIED:20240414T182616Z
UID:4086-1714248000-1714248000@pub78.com
SUMMARY:Live Music: Three Piece and a Biscuit
DESCRIPTION:
URL:https://pub78.com/event/live-music-three-piece-and-a-biscuit/
LOCATION:Pub 78: 3733 Grand Blvd\, Brookfield\, IL 60513
CATEGORIES:Music & Events
END:VEVENT
END:VCALENDAR