BEGIN:VCALENDAR
VERSION:2.0
PRODID:-//Pub 78 - ECPv6.15.20//NONSGML v1.0//EN
CALSCALE:GREGORIAN
METHOD:PUBLISH
X-ORIGINAL-URL:https://pub78.com
X-WR-CALDESC:Events for Pub 78
REFRESH-INTERVAL;VALUE=DURATION:PT1H
X-Robots-Tag:noindex
X-PUBLISHED-TTL:PT1H
BEGIN:VTIMEZONE
TZID:America/Chicago
BEGIN:DAYLIGHT
TZOFFSETFROM:-0600
TZOFFSETTO:-0500
TZNAME:CDT
DTSTART:20220313T080000
END:DAYLIGHT
BEGIN:STANDARD
TZOFFSETFROM:-0500
TZOFFSETTO:-0600
TZNAME:CST
DTSTART:20221106T070000
END:STANDARD
BEGIN:DAYLIGHT
TZOFFSETFROM:-0600
TZOFFSETTO:-0500
TZNAME:CDT
DTSTART:20230312T080000
END:DAYLIGHT
BEGIN:STANDARD
TZOFFSETFROM:-0500
TZOFFSETTO:-0600
TZNAME:CST
DTSTART:20231105T070000
END:STANDARD
BEGIN:DAYLIGHT
TZOFFSETFROM:-0600
TZOFFSETTO:-0500
TZNAME:CDT
DTSTART:20240310T080000
END:DAYLIGHT
BEGIN:STANDARD
TZOFFSETFROM:-0500
TZOFFSETTO:-0600
TZNAME:CST
DTSTART:20241103T070000
END:STANDARD
END:VTIMEZONE
BEGIN:VEVENT
DTSTART;TZID=America/Chicago:20231201T200000
DTEND;TZID=America/Chicago:20231201T230000
DTSTAMP:20260425T223554
CREATED:20231108T182755Z
LAST-MODIFIED:20231128T215926Z
UID:3645-1701460800-1701471600@pub78.com
SUMMARY:Live Music: Tommy Joe
DESCRIPTION:Live Music: Tommy Joe from the Gotham Ramblers
URL:https://pub78.com/event/live-music-tommy-joe/
LOCATION:Pub 78: 3733 Grand Blvd\, Brookfield\, IL 60513
CATEGORIES:Music & Events
ATTACH;FMTTYPE=image/jpeg:https://pub78.com/wp-content/uploads/tj-1.jpg
END:VEVENT
BEGIN:VEVENT
DTSTART;TZID=America/Chicago:20231202T120000
DTEND;TZID=America/Chicago:20231202T120000
DTSTAMP:20260425T223554
CREATED:20231128T215046Z
LAST-MODIFIED:20231128T215046Z
UID:3695-1701518400-1701518400@pub78.com
SUMMARY:Brookfield Holiday Celebration
DESCRIPTION:Open Saturday\, December 2nd at 12pm for the Brookfield Holiday Celebration. Pick up your holiday mug at the Brookfield Chamber tent and bring it over\, we’ll be selling boozy hot chocolate.
URL:https://pub78.com/event/brookfield-holiday-celebration/
LOCATION:Pub 78: 3733 Grand Blvd\, Brookfield\, IL 60513
CATEGORIES:Music & Events
END:VEVENT
BEGIN:VEVENT
DTSTART;TZID=America/Chicago:20231202T200000
DTEND;TZID=America/Chicago:20231202T200000
DTSTAMP:20260425T223554
CREATED:20231108T180044Z
LAST-MODIFIED:20231128T215143Z
UID:3635-1701547200-1701547200@pub78.com
SUMMARY:Live Music: Don't Matter To Me
DESCRIPTION:
URL:https://pub78.com/event/live-music-dont-matter-to-me/
LOCATION:Pub 78: 3733 Grand Blvd\, Brookfield\, IL 60513
CATEGORIES:Music & Events
ATTACH;FMTTYPE=image/jpeg:https://pub78.com/wp-content/uploads/DMTM.jpg
END:VEVENT
BEGIN:VEVENT
DTSTART;TZID=America/Chicago:20231206T200000
DTEND;TZID=America/Chicago:20231206T230000
DTSTAMP:20260425T223554
CREATED:20231118T182838Z
LAST-MODIFIED:20231118T182838Z
UID:3666-1701892800-1701903600@pub78.com
SUMMARY:Open Mic Hosted by Kelly Ott
DESCRIPTION:House drum kit available
URL:https://pub78.com/event/open-mic-hosted-by-kelly-ott-144/
LOCATION:Pub 78: 3733 Grand Blvd\, Brookfield\, IL 60513
CATEGORIES:Music & Events
ATTACH;FMTTYPE=image/jpeg:https://pub78.com/wp-content/uploads/openmic-e1708019639280.jpg
END:VEVENT
BEGIN:VEVENT
DTSTART;TZID=America/Chicago:20231207T193000
DTEND;TZID=America/Chicago:20231207T213000
DTSTAMP:20260425T223554
CREATED:20231118T184905Z
LAST-MODIFIED:20231118T185536Z
UID:3676-1701977400-1701984600@pub78.com
SUMMARY:Singo
DESCRIPTION:
URL:https://pub78.com/event/singo-6/
LOCATION:Pub 78: 3733 Grand Blvd\, Brookfield\, IL 60513
CATEGORIES:Music & Events
ATTACH;FMTTYPE=image/png:https://pub78.com/wp-content/uploads/singo.png
END:VEVENT
BEGIN:VEVENT
DTSTART;TZID=America/Chicago:20231208T200000
DTEND;TZID=America/Chicago:20231208T200000
DTSTAMP:20260425T223554
CREATED:20231108T181025Z
LAST-MODIFIED:20231128T215204Z
UID:3642-1702065600-1702065600@pub78.com
SUMMARY:Live Music: 40 Years Gone
DESCRIPTION:
URL:https://pub78.com/event/live-music-40-years-gone-4/
LOCATION:Pub 78: 3733 Grand Blvd\, Brookfield\, IL 60513
CATEGORIES:Music & Events
ATTACH;FMTTYPE=image/jpeg:https://pub78.com/wp-content/uploads/40.jpg
END:VEVENT
BEGIN:VEVENT
DTSTART;VALUE=DATE:20231209
DTEND;VALUE=DATE:20231210
DTSTAMP:20260425T223554
CREATED:20231128T215454Z
LAST-MODIFIED:20231128T215454Z
UID:3697-1702080000-1702166399@pub78.com
SUMMARY:Private Event
DESCRIPTION:
URL:https://pub78.com/event/private-event/
CATEGORIES:Music & Events
END:VEVENT
BEGIN:VEVENT
DTSTART;TZID=America/Chicago:20231210T130000
DTEND;TZID=America/Chicago:20231210T170000
DTSTAMP:20260425T223554
CREATED:20231208T165630Z
LAST-MODIFIED:20231208T165630Z
UID:3716-1702213200-1702227600@pub78.com
SUMMARY:Paint Party Hosted by RAD Canvas
DESCRIPTION:Paint with RAD Canvas this Sunday at 1pm! Make your own holiday decorations or create presents for your loved ones! Text “PUB 78” to 708-227-3999 to sign up!
URL:https://pub78.com/event/paint-party-hosted-by-rad-canvas-12/
LOCATION:Pub 78: 3733 Grand Blvd\, Brookfield\, IL 60513
CATEGORIES:Music & Events
ATTACH;FMTTYPE=image/jpeg:https://pub78.com/wp-content/uploads/RAD.jpg
END:VEVENT
BEGIN:VEVENT
DTSTART;TZID=America/Chicago:20231213T200000
DTEND;TZID=America/Chicago:20231213T230000
DTSTAMP:20260425T223554
CREATED:20231118T182926Z
LAST-MODIFIED:20231118T182926Z
UID:3668-1702497600-1702508400@pub78.com
SUMMARY:Open Mic Hosted by Kelly Ott
DESCRIPTION:House drum kit available
URL:https://pub78.com/event/open-mic-hosted-by-kelly-ott-145/
LOCATION:Pub 78: 3733 Grand Blvd\, Brookfield\, IL 60513
CATEGORIES:Music & Events
ATTACH;FMTTYPE=image/jpeg:https://pub78.com/wp-content/uploads/openmic-e1708019639280.jpg
END:VEVENT
BEGIN:VEVENT
DTSTART;TZID=America/Chicago:20231214T190000
DTEND;TZID=America/Chicago:20231214T210000
DTSTAMP:20260425T223554
CREATED:20231205T183820Z
LAST-MODIFIED:20231205T183820Z
UID:3707-1702580400-1702587600@pub78.com
SUMMARY:Live Music: Steve Shmeegan
DESCRIPTION:Live Music: Steve Shmeegan
URL:https://pub78.com/event/live-music-steve-shmeegan-2/
LOCATION:Pub 78: 3733 Grand Blvd\, Brookfield\, IL 60513
CATEGORIES:Music & Events
END:VEVENT
BEGIN:VEVENT
DTSTART;VALUE=DATE:20231215
DTEND;VALUE=DATE:20231216
DTSTAMP:20260425T223554
CREATED:20231205T185233Z
LAST-MODIFIED:20231205T185233Z
UID:3714-1702598400-1702684799@pub78.com
SUMMARY:Private Event
DESCRIPTION:Private Event
URL:https://pub78.com/event/private-event-2/
CATEGORIES:Music & Events
END:VEVENT
BEGIN:VEVENT
DTSTART;TZID=America/Chicago:20231216T200000
DTEND;TZID=America/Chicago:20231216T200000
DTSTAMP:20260425T223554
CREATED:20231118T184945Z
LAST-MODIFIED:20231128T215220Z
UID:3678-1702756800-1702756800@pub78.com
SUMMARY:Live Music: Tarra
DESCRIPTION:
URL:https://pub78.com/event/live-music-tarra-2/
LOCATION:Pub 78: 3733 Grand Blvd\, Brookfield\, IL 60513
CATEGORIES:Music & Events
END:VEVENT
BEGIN:VEVENT
DTSTART;TZID=America/Chicago:20231220T200000
DTEND;TZID=America/Chicago:20231220T230000
DTSTAMP:20260425T223554
CREATED:20231118T184544Z
LAST-MODIFIED:20231118T184544Z
UID:3672-1703102400-1703113200@pub78.com
SUMMARY:Open Mic Hosted by Kelly Ott
DESCRIPTION:House drum kit available
URL:https://pub78.com/event/open-mic-hosted-by-kelly-ott-146/
LOCATION:Pub 78: 3733 Grand Blvd\, Brookfield\, IL 60513
CATEGORIES:Music & Events
ATTACH;FMTTYPE=image/jpeg:https://pub78.com/wp-content/uploads/openmic-e1708019639280.jpg
END:VEVENT
BEGIN:VEVENT
DTSTART;TZID=America/Chicago:20231221T193000
DTEND;TZID=America/Chicago:20231221T213000
DTSTAMP:20260425T223554
CREATED:20231118T185215Z
LAST-MODIFIED:20231118T185551Z
UID:3680-1703187000-1703194200@pub78.com
SUMMARY:Singo
DESCRIPTION:
URL:https://pub78.com/event/singo-7/
LOCATION:Pub 78: 3733 Grand Blvd\, Brookfield\, IL 60513
CATEGORIES:Music & Events
ATTACH;FMTTYPE=image/png:https://pub78.com/wp-content/uploads/singo.png
END:VEVENT
BEGIN:VEVENT
DTSTART;TZID=America/Chicago:20231222T200000
DTEND;TZID=America/Chicago:20231222T200000
DTSTAMP:20260425T223554
CREATED:20231205T184059Z
LAST-MODIFIED:20231205T184059Z
UID:3709-1703275200-1703275200@pub78.com
SUMMARY:Live Music: Little Wing Symphony
DESCRIPTION:Live Music: Little Wing Symphony
URL:https://pub78.com/event/live-music-little-wing-symphony/
LOCATION:Pub 78: 3733 Grand Blvd\, Brookfield\, IL 60513
CATEGORIES:Music & Events
END:VEVENT
BEGIN:VEVENT
DTSTART;TZID=America/Chicago:20231223T200000
DTEND;TZID=America/Chicago:20231223T200000
DTSTAMP:20260425T223554
CREATED:20231219T203327Z
LAST-MODIFIED:20231219T203327Z
UID:3720-1703361600-1703361600@pub78.com
SUMMARY:Live Music: True Story
DESCRIPTION:Live Music: True Story
URL:https://pub78.com/event/live-music-true-story/
LOCATION:Pub 78: 3733 Grand Blvd\, Brookfield\, IL 60513
CATEGORIES:Music & Events
END:VEVENT
BEGIN:VEVENT
DTSTART;TZID=America/Chicago:20231227T200000
DTEND;TZID=America/Chicago:20231227T230000
DTSTAMP:20260425T223554
CREATED:20231118T184634Z
LAST-MODIFIED:20231118T184634Z
UID:3674-1703707200-1703718000@pub78.com
SUMMARY:Open Mic Hosted by Kelly Ott
DESCRIPTION:House drum kit available
URL:https://pub78.com/event/open-mic-hosted-by-kelly-ott-147/
LOCATION:Pub 78: 3733 Grand Blvd\, Brookfield\, IL 60513
CATEGORIES:Music & Events
ATTACH;FMTTYPE=image/jpeg:https://pub78.com/wp-content/uploads/openmic-e1708019639280.jpg
END:VEVENT
BEGIN:VEVENT
DTSTART;TZID=America/Chicago:20231228T193000
DTEND;TZID=America/Chicago:20231228T213000
DTSTAMP:20260425T223554
CREATED:20231214T180302Z
LAST-MODIFIED:20231214T180302Z
UID:3718-1703791800-1703799000@pub78.com
SUMMARY:Singo
DESCRIPTION:Prizes will be awarded to winners of each game.
URL:https://pub78.com/event/singo-9/
LOCATION:Pub 78: 3733 Grand Blvd\, Brookfield\, IL 60513
CATEGORIES:Music & Events
ATTACH;FMTTYPE=image/png:https://pub78.com/wp-content/uploads/singo.png
END:VEVENT
BEGIN:VEVENT
DTSTART;TZID=America/Chicago:20231229T200000
DTEND;TZID=America/Chicago:20231229T200000
DTSTAMP:20260425T223554
CREATED:20231205T185057Z
LAST-MODIFIED:20231205T185057Z
UID:3711-1703880000-1703880000@pub78.com
SUMMARY:Live Music: The Neighborhood
DESCRIPTION:Live Music: The Neighborhood
URL:https://pub78.com/event/live-music-the-neighborhood-9/
LOCATION:Pub 78: 3733 Grand Blvd\, Brookfield\, IL 60513
CATEGORIES:Music & Events
END:VEVENT
BEGIN:VEVENT
DTSTART;TZID=America/Chicago:20231231T193000
DTEND;TZID=America/Chicago:20231231T193000
DTSTAMP:20260425T223554
CREATED:20231128T221038Z
LAST-MODIFIED:20231128T221109Z
UID:3701-1704051000-1704051000@pub78.com
SUMMARY:New Year's Eve Party Featuring The Redmonds
DESCRIPTION:Ring in 2024 with Pub 78’s New Year’s Eve Party \nFeaturing The Redmonds \nReserve your spot today!\nUnlimited drinks (top tier not included)\, & Hors d’Oeuvres\, Champagne Toast \n$60 Per Person \nDoors open at 7:30 pm \nThe Redmonds 9-12pm
URL:https://pub78.com/event/new-years-eve-party-featuring-the-redmonds/
LOCATION:Pub 78: 3733 Grand Blvd\, Brookfield\, IL 60513
CATEGORIES:Music & Events
ATTACH;FMTTYPE=image/jpeg:https://pub78.com/wp-content/uploads/TheRedmonds-1.jpg
END:VEVENT
END:VCALENDAR